{"text_format":"1","workbook":"xlsx","n_sheets":2,"sheets":["RMI","Índices INSS"],"not_rendered":{"charts":0,"images":1,"macros":1,"external_links":0,"defined_names":6,"comments":0,"pivot_tables":0},"unopened":[],"bounds":{"document_bytes":16777216,"sheet_cells":100000,"rows_first":2000,"rows_last":500,"rows_between":2000,"halvings":0,"cell_chars":16384,"cell_head_chars":4096},"cells_cut":0,"cells_raw":0,"read":"whole","date_system":"1900"}

{"sheet":"RMI","index":0,"n_rows":658,"n_cols":9,"rows_kept":658,"cut":false,"hidden":false,"merged":[[7,8,7,9],[9,8,9,9],[10,8,10,9],[9,3,9,4],[4,2,7,6],[652,3,652,4],[653,3,653,4],[654,3,654,4],[655,3,655,4],[656,3,656,4],[647,3,647,4],[648,3,648,4],[649,3,649,4],[650,3,650,4],[651,3,651,4],[642,3,642,4],[643,3,643,4],[644,3,644,4],[645,3,645,4],[646,3,646,4],[637,3,637,4],[638,3,638,4],[639,3,639,4],[640,3,640,4],[641,3,641,4],[632,3,632,4],[633,3,633,4],[634,3,634,4],[635,3,635,4],[636,3,636,4],[627,3,627,4],[628,3,628,4],[629,3,629,4],[630,3,630,4],[631,3,631,4],[622,3,622,4],[623,3,623,4],[624,3,624,4],[625,3,625,4],[626,3,626,4],[617,3,617,4],[618,3,618,4],[619,3,619,4],[620,3,620,4],[621,3,621,4],[612,3,612,4],[613,3,613,4],[614,3,614,4],[615,3,615,4],[616,3,616,4],[607,3,607,4],[608,3,608,4],[609,3,609,4],[610,3,610,4],[611,3,611,4],[602,3,602,4],[603,3,603,4],[604,3,604,4],[605,3,605,4],[606,3,606,4],[597,3,597,4],[598,3,598,4],[599,3,599,4],[600,3,600,4],[601,3,601,4],[592,3,592,4],[593,3,593,4],[594,3,594,4],[595,3,595,4],[596,3,596,4],[587,3,587,4],[588,3,588,4],[589,3,589,4],[590,3,590,4],[591,3,591,4],[582,3,582,4],[583,3,583,4],[584,3,584,4],[585,3,585,4],[586,3,586,4],[577,3,577,4],[578,3,578,4],[579,3,579,4],[580,3,580,4],[581,3,581,4],[572,3,572,4],[573,3,573,4],[574,3,574,4],[575,3,575,4],[576,3,576,4],[567,3,567,4],[568,3,568,4],[569,3,569,4],[570,3,570,4],[571,3,571,4],[562,3,562,4],[563,3,563,4],[564,3,564,4],[565,3,565,4],[566,3,566,4],[557,3,557,4],[558,3,558,4],[559,3,559,4],[560,3,560,4],[561,3,561,4],[552,3,552,4],[553,3,553,4],[554,3,554,4],[555,3,555,4],[556,3,556,4],[547,3,547,4],[548,3,548,4],[549,3,549,4],[550,3,550,4],[551,3,551,4],[542,3,542,4],[543,3,543,4],[544,3,544,4],[545,3,545,4],[546,3,546,4],[537,3,537,4],[538,3,538,4],[539,3,539,4],[540,3,540,4],[541,3,541,4],[532,3,532,4],[533,3,533,4],[534,3,534,4],[535,3,535,4],[536,3,536,4],[527,3,527,4],[528,3,528,4],[529,3,529,4],[530,3,530,4],[531,3,531,4],[522,3,522,4],[523,3,523,4],[524,3,524,4],[525,3,525,4],[526,3,526,4],[517,3,517,4],[518,3,518,4],[519,3,519,4],[520,3,520,4],[521,3,521,4],[512,3,512,4],[513,3,513,4],[514,3,514,4],[515,3,515,4],[516,3,516,4],[507,3,507,4],[508,3,508,4],[509,3,509,4],[510,3,510,4],[511,3,511,4],[502,3,502,4],[503,3,503,4],[504,3,504,4],[505,3,505,4],[506,3,506,4],[497,3,497,4],[498,3,498,4],[499,3,499,4],[500,3,500,4],[501,3,501,4],[492,3,492,4],[493,3,493,4],[494,3,494,4],[495,3,495,4],[496,3,496,4],[487,3,487,4],[488,3,488,4],[489,3,489,4],[490,3,490,4],[491,3,491,4],[482,3,482,4],[483,3,483,4],[484,3,484,4],[485,3,485,4],[486,3,486,4],[477,3,477,4],[478,3,478,4],[479,3,479,4],[480,3,480,4],[481,3,481,4],[472,3,472,4],[473,3,473,4],[474,3,474,4],[475,3,475,4],[476,3,476,4],[467,3,467,4],[468,3,468,4],[469,3,469,4],[470,3,470,4],[471,3,471,4],[462,3,462,4],[463,3,463,4],[464,3,464,4],[465,3,465,4],[466,3,466,4],[457,3,457,4],[458,3,458,4],[459,3,459,4],[460,3,460,4],[461,3,461,4],[452,3,452,4],[453,3,453,4],[454,3,454,4],[455,3,455,4],[456,3,456,4],[447,3,447,4],[448,3,448,4],[449,3,449,4],[450,3,450,4],[451,3,451,4],[442,3,442,4],[443,3,443,4],[444,3,444,4],[445,3,445,4],[446,3,446,4],[437,3,437,4],[438,3,438,4],[439,3,439,4],[440,3,440,4],[441,3,441,4],[432,3,432,4],[433,3,433,4],[434,3,434,4],[435,3,435,4],[436,3,436,4],[427,3,427,4],[428,3,428,4],[429,3,429,4],[430,3,430,4],[431,3,431,4],[422,3,422,4],[423,3,423,4],[424,3,424,4],[425,3,425,4],[426,3,426,4],[417,3,417,4],[418,3,418,4],[419,3,419,4],[420,3,420,4],[421,3,421,4],[412,3,412,4],[413,3,413,4],[414,3,414,4],[415,3,415,4],[416,3,416,4],[407,3,407,4],[408,3,408,4],[409,3,409,4],[410,3,410,4],[411,3,411,4],[402,3,402,4],[403,3,403,4],[404,3,404,4],[405,3,405,4],[406,3,406,4],[397,3,397,4],[398,3,398,4],[399,3,399,4],[400,3,400,4],[401,3,401,4],[392,3,392,4],[393,3,393,4],[394,3,394,4],[395,3,395,4],[396,3,396,4],[387,3,387,4],[388,3,388,4],[389,3,389,4],[390,3,390,4],[391,3,391,4],[382,3,382,4],[383,3,383,4],[384,3,384,4],[385,3,385,4],[386,3,386,4],[0,2,0,6],[2,3,2,4],[357,3,357,4],[358,3,358,4],[359,3,359,4],[360,3,360,4],[361,3,361,4],[10,3,10,4],[353,3,353,4],[354,3,354,4],[355,3,355,4],[356,3,356,4],[30,3,30,4],[31,3,31,4],[32,3,32,4],[33,3,33,4],[34,3,34,4],[35,3,35,4],[36,3,36,4],[37,3,37,4],[38,3,38,4],[39,3,39,4],[40,3,40,4],[41,3,41,4],[367,3,367,4],[368,3,368,4],[369,3,369,4],[370,3,370,4],[371,3,371,4],[11,3,11,4],[12,3,12,4],[13,3,13,4],[14,3,14,4],[15,3,15,4],[16,3,16,4],[17,3,17,4],[18,3,18,4],[19,3,19,4],[20,3,20,4],[21,3,21,4],[22,3,22,4],[23,3,23,4],[24,3,24,4],[25,3,25,4],[26,3,26,4],[27,3,27,4],[28,3,28,4],[29,3,29,4],[42,3,42,4],[43,3,43,4],[44,3,44,4],[45,3,45,4],[46,3,46,4],[47,3,47,4],[48,3,48,4],[49,3,49,4],[50,3,50,4],[51,3,51,4],[52,3,52,4],[53,3,53,4],[54,3,54,4],[55,3,55,4],[56,3,56,4],[57,3,57,4],[58,3,58,4],[59,3,59,4],[60,3,60,4],[61,3,61,4],[62,3,62,4],[63,3,63,4],[64,3,64,4],[65,3,65,4],[66,3,66,4],[67,3,67,4],[68,3,68,4],[69,3,69,4],[70,3,70,4],[71,3,71,4],[72,3,72,4],[73,3,73,4],[74,3,74,4],[75,3,75,4],[76,3,76,4],[77,3,77,4],[78,3,78,4],[79,3,79,4],[80,3,80,4],[81,3,81,4],[82,3,82,4],[83,3,83,4],[84,3,84,4],[85,3,85,4],[86,3,86,4],[87,3,87,4],[88,3,88,4],[89,3,89,4],[90,3,90,4],[91,3,91,4],[92,3,92,4],[93,3,93,4],[94,3,94,4],[95,3,95,4],[96,3,96,4],[97,3,97,4],[98,3,98,4],[99,3,99,4],[100,3,100,4],[101,3,101,4],[102,3,102,4],[103,3,103,4],[104,3,104,4],[105,3,105,4],[106,3,106,4],[107,3,107,4],[108,3,108,4],[109,3,109,4],[110,3,110,4],[111,3,111,4],[112,3,112,4],[113,3,113,4],[114,3,114,4],[115,3,115,4],[116,3,116,4],[117,3,117,4],[118,3,118,4],[119,3,119,4],[120,3,120,4],[121,3,121,4],[122,3,122,4],[123,3,123,4],[124,3,124,4],[125,3,125,4],[126,3,126,4],[127,3,127,4],[128,3,128,4],[129,3,129,4],[130,3,130,4],[131,3,131,4],[132,3,132,4],[133,3,133,4],[134,3,134,4],[135,3,135,4],[136,3,136,4],[137,3,137,4],[138,3,138,4],[139,3,139,4],[140,3,140,4],[141,3,141,4],[142,3,142,4],[143,3,143,4],[144,3,144,4],[145,3,145,4],[146,3,146,4],[147,3,147,4],[148,3,148,4],[149,3,149,4],[150,3,150,4],[151,3,151,4],[152,3,152,4],[153,3,153,4],[154,3,154,4],[155,3,155,4],[156,3,156,4],[157,3,157,4],[158,3,158,4],[159,3,159,4],[160,3,160,4],[161,3,161,4],[162,3,162,4],[163,3,163,4],[164,3,164,4],[165,3,165,4],[166,3,166,4],[167,3,167,4],[168,3,168,4],[169,3,169,4],[170,3,170,4],[171,3,171,4],[172,3,172,4],[173,3,173,4],[174,3,174,4],[175,3,175,4],[176,3,176,4],[177,3,177,4],[178,3,178,4],[179,3,179,4],[180,3,180,4],[181,3,181,4],[182,3,182,4],[183,3,183,4],[184,3,184,4],[185,3,185,4],[186,3,186,4],[187,3,187,4],[188,3,188,4],[189,3,189,4],[190,3,190,4],[191,3,191,4],[192,3,192,4],[193,3,193,4],[194,3,194,4],[195,3,195,4],[196,3,196,4],[197,3,197,4],[198,3,198,4],[199,3,199,4],[200,3,200,4],[201,3,201,4],[202,3,202,4],[203,3,203,4],[204,3,204,4],[205,3,205,4],[206,3,206,4],[207,3,207,4],[208,3,208,4],[209,3,209,4],[210,3,210,4],[211,3,211,4],[212,3,212,4],[213,3,213,4],[214,3,214,4],[215,3,215,4],[216,3,216,4],[217,3,217,4],[218,3,218,4],[219,3,219,4],[220,3,220,4],[221,3,221,4],[222,3,222,4],[223,3,223,4],[224,3,224,4],[225,3,225,4],[226,3,226,4],[227,3,227,4],[228,3,228,4],[229,3,229,4],[230,3,230,4],[231,3,231,4],[232,3,232,4],[233,3,233,4],[234,3,234,4],[235,3,235,4],[236,3,236,4],[237,3,237,4],[238,3,238,4],[239,3,239,4],[240,3,240,4],[241,3,241,4],[242,3,242,4],[243,3,243,4],[244,3,244,4],[245,3,245,4],[246,3,246,4],[247,3,247,4],[248,3,248,4],[249,3,249,4],[250,3,250,4],[251,3,251,4],[252,3,252,4],[253,3,253,4],[254,3,254,4],[255,3,255,4],[256,3,256,4],[257,3,257,4],[258,3,258,4],[259,3,259,4],[260,3,260,4],[261,3,261,4],[262,3,262,4],[263,3,263,4],[264,3,264,4],[265,3,265,4],[266,3,266,4],[267,3,267,4],[268,3,268,4],[269,3,269,4],[270,3,270,4],[271,3,271,4],[272,3,272,4],[273,3,273,4],[274,3,274,4],[275,3,275,4],[276,3,276,4],[277,3,277,4],[278,3,278,4],[279,3,279,4],[280,3,280,4],[281,3,281,4],[282,3,282,4],[283,3,283,4],[284,3,284,4],[285,3,285,4],[286,3,286,4],[287,3,287,4],[288,3,288,4],[289,3,289,4],[301,3,301,4],[302,3,302,4],[303,3,303,4],[304,3,304,4],[305,3,305,4],[306,3,306,4],[307,3,307,4],[290,3,290,4],[291,3,291,4],[292,3,292,4],[293,3,293,4],[294,3,294,4],[295,3,295,4],[296,3,296,4],[297,3,297,4],[298,3,298,4],[349,3,349,4],[350,3,350,4],[351,3,351,4],[352,3,352,4],[335,3,335,4],[336,3,336,4],[337,3,337,4],[338,3,338,4],[339,3,339,4],[340,3,340,4],[341,3,341,4],[342,3,342,4],[343,3,343,4],[344,3,344,4],[323,3,323,4],[324,3,324,4],[325,3,325,4],[308,3,308,4],[309,3,309,4],[310,3,310,4],[348,3,348,4],[347,3,347,4],[346,3,346,4],[345,3,345,4],[331,3,331,4],[330,3,330,4],[329,3,329,4],[328,3,328,4],[327,3,327,4],[326,3,326,4],[311,3,311,4],[312,3,312,4],[313,3,313,4],[314,3,314,4],[315,3,315,4],[316,3,316,4],[322,3,322,4],[321,3,321,4],[320,3,320,4],[319,3,319,4],[318,3,318,4],[317,3,317,4],[299,3,299,4],[300,3,300,4],[381,3,381,4],[372,3,372,4],[373,3,373,4],[374,3,374,4],[375,3,375,4],[376,3,376,4],[334,3,334,4],[333,3,333,4],[332,3,332,4],[362,3,362,4],[363,3,363,4],[364,3,364,4],[365,3,365,4],[366,3,366,4],[377,3,377,4],[378,3,378,4],[379,3,379,4],[380,3,380,4]]}
[null,null,"Relatório de Salários de Contribuição - INSS"]
[]
[null,null,"DIB:","2019-11-13"]
[]
[null,null,"Correção Monetária dos salários-de-contribuição pela OTNBTN ATÉ 09/1988, INPC ATÉ 12/1992, IRSM ATÉ 02/1994, URV PBC ATÉ 06/1994, IPCR ATÉ 06/1995, INPC ATÉ 03/1996, IGPDI ATÉ 02/1999, IGPM ATÉ 05/2004, INPC ATÉ 12/2050"]
[]
[]
[null,null,null,null,null,null,null,null,"Siga as redes Sociais da ABLCALC"]
[]
[null,null,"Teto INSS","Salário Mínimo",null,"Data","Índices",null,"@giovannimds"]
[null,null,765000,66000,null,"1966-01-01",{"$f":"'Índices INSS'!$E$1/VLOOKUP(F11,'Índices INSS'!A:D,4,1)","v":5.8063530491069071E-3},null,"@ablcalc"]
[null,null,765000,66000,null,"1966-02-01",{"$f":"'Índices INSS'!$E$1/VLOOKUP(F12,'Índices INSS'!A:D,4,1)","v":5.5077404366282766E-3}]
[null,null,765000,84000,null,"1966-03-01",{"$f":"'Índices INSS'!$E$1/VLOOKUP(F13,'Índices INSS'!A:D,4,1)","v":5.5714138974972136E-3}]
[null,null,765000,84000,null,"1966-04-01",{"$f":"'Índices INSS'!$E$1/VLOOKUP(F14,'Índices INSS'!A:D,4,1)","v":5.4764468329667375E-3}]
[null,null,765000,84000,null,"1966-05-01",{"$f":"'Índices INSS'!$E$1/VLOOKUP(F15,'Índices INSS'!A:D,4,1)","v":5.2727276195661324E-3}]
[null,null,765000,84000,null,"1966-06-01",{"$f":"'Índices INSS'!$E$1/VLOOKUP(F16,'Índices INSS'!A:D,4,1)","v":5.0490027724183354E-3}]
[null,null,765000,84000,null,"1966-07-01",{"$f":"'Índices INSS'!$E$1/VLOOKUP(F17,'Índices INSS'!A:D,4,1)","v":4.8508033147025712E-3}]
[null,null,765000,84000,null,"1966-08-01",{"$f":"'Índices INSS'!$E$1/VLOOKUP(F18,'Índices INSS'!A:D,4,1)","v":4.7178395004922975E-3}]
[null,null,765000,84000,null,"1966-09-01",{"$f":"'Índices INSS'!$E$1/VLOOKUP(F19,'Índices INSS'!A:D,4,1)","v":4.5875993888817015E-3}]
[null,null,765000,84000,null,"1966-10-01",{"$f":"'Índices INSS'!$E$1/VLOOKUP(F20,'Índices INSS'!A:D,4,1)","v":4.4602251705073859E-3}]
[null,null,765000,84000,null,"1966-11-01",{"$f":"'Índices INSS'!$E$1/VLOOKUP(F21,'Índices INSS'!A:D,4,1)","v":4.3456025166075827E-3}]
[null,null,765000,84000,null,"1966-12-01",{"$f":"'Índices INSS'!$E$1/VLOOKUP(F22,'Índices INSS'!A:D,4,1)","v":4.2479269585018785E-3}]
[null,null,765000,84000,null,"1967-01-01",{"$f":"'Índices INSS'!$E$1/VLOOKUP(F23,'Índices INSS'!A:D,4,1)","v":4.1491806091839105E-3}]
[null,null,765,84,null,"1967-02-01",{"$f":"'Índices INSS'!$E$1/VLOOKUP(F24,'Índices INSS'!A:D,4,1)","v":4.053215463896068}]
[null,null,1050,105,null,"1967-03-01",{"$f":"'Índices INSS'!$E$1/VLOOKUP(F25,'Índices INSS'!A:D,4,1)","v":3.9697471630706285}]
[null,null,1050,105,null,"1967-04-01",{"$f":"'Índices INSS'!$E$1/VLOOKUP(F26,'Índices INSS'!A:D,4,1)","v":3.9117476802160653}]
[null,null,1050,105,null,"1967-05-01",{"$f":"'Índices INSS'!$E$1/VLOOKUP(F27,'Índices INSS'!A:D,4,1)","v":3.8538770910415674}]
[null,null,1050,105,null,"1967-06-01",{"$f":"'Índices INSS'!$E$1/VLOOKUP(F28,'Índices INSS'!A:D,4,1)","v":3.7857606566977364}]
[null,null,1050,105,null,"1967-07-01",{"$f":"'Índices INSS'!$E$1/VLOOKUP(F29,'Índices INSS'!A:D,4,1)","v":3.6816448449752888}]
[null,null,1050,105,null,"1967-08-01",{"$f":"'Índices INSS'!$E$1/VLOOKUP(F30,'Índices INSS'!A:D,4,1)","v":3.5911125387618483}]
[null,null,1050,105,null,"1967-09-01",{"$f":"'Índices INSS'!$E$1/VLOOKUP(F31,'Índices INSS'!A:D,4,1)","v":3.5370811482652926}]
[null,null,1050,105,null,"1967-10-01",{"$f":"'Índices INSS'!$E$1/VLOOKUP(F32,'Índices INSS'!A:D,4,1)","v":3.5202872658349005}]
[null,null,1050,105,null,"1967-11-01",{"$f":"'Índices INSS'!$E$1/VLOOKUP(F33,'Índices INSS'!A:D,4,1)","v":3.496026936511671}]
[null,null,1050,105,null,"1967-12-01",{"$f":"'Índices INSS'!$E$1/VLOOKUP(F34,'Índices INSS'!A:D,4,1)","v":3.4472626485379823}]
[null,null,1050,105,null,"1968-01-01",{"$f":"'Índices INSS'!$E$1/VLOOKUP(F35,'Índices INSS'!A:D,4,1)","v":3.3843210457295054}]
[null,null,1050,105,null,"1968-02-01",{"$f":"'Índices INSS'!$E$1/VLOOKUP(F36,'Índices INSS'!A:D,4,1)","v":3.3259303473650945}]
[null,null,1050,129.6,null,"1968-03-01",{"$f":"'Índices INSS'!$E$1/VLOOKUP(F37,'Índices INSS'!A:D,4,1)","v":3.2784169068179634}]
[null,null,1176,129.6,null,"1968-04-01",{"$f":"'Índices INSS'!$E$1/VLOOKUP(F38,'Índices INSS'!A:D,4,1)","v":3.2311583085134759}]
[null,null,1176,129.6,null,"1968-05-01",{"$f":"'Índices INSS'!$E$1/VLOOKUP(F39,'Índices INSS'!A:D,4,1)","v":3.1716172212570943}]
[null,null,1176,129.6,null,"1968-06-01",{"$f":"'Índices INSS'!$E$1/VLOOKUP(F40,'Índices INSS'!A:D,4,1)","v":3.0892771721492149}]
[null,null,1176,129.6,null,"1968-07-01",{"$f":"'Índices INSS'!$E$1/VLOOKUP(F41,'Índices INSS'!A:D,4,1)","v":3.0035977443334567}]
[null,null,1176,129.6,null,"1968-08-01",{"$f":"'Índices INSS'!$E$1/VLOOKUP(F42,'Índices INSS'!A:D,4,1)","v":2.9376851953733838}]
[null,null,1176,129.6,null,"1968-09-01",{"$f":"'Índices INSS'!$E$1/VLOOKUP(F43,'Índices INSS'!A:D,4,1)","v":2.8849282244402228}]
[null,null,1176,129.6,null,"1968-10-01",{"$f":"'Índices INSS'!$E$1/VLOOKUP(F44,'Índices INSS'!A:D,4,1)","v":2.8449072078037232}]
[null,null,1176,129.6,null,"1968-11-01",{"$f":"'Índices INSS'!$E$1/VLOOKUP(F45,'Índices INSS'!A:D,4,1)","v":2.8027176192099934}]
[null,null,1176,129.6,null,"1968-12-01",{"$f":"'Índices INSS'!$E$1/VLOOKUP(F46,'Índices INSS'!A:D,4,1)","v":2.7578099928484474}]
[null,null,1176,129.6,null,"1969-01-01",{"$f":"'Índices INSS'!$E$1/VLOOKUP(F47,'Índices INSS'!A:D,4,1)","v":2.7059366461543397}]
[null,null,1176,129.6,null,"1969-02-01",{"$f":"'Índices INSS'!$E$1/VLOOKUP(F48,'Índices INSS'!A:D,4,1)","v":2.6574430931027817}]
[null,null,1176,129.6,null,"1969-03-01",{"$f":"'Índices INSS'!$E$1/VLOOKUP(F49,'Índices INSS'!A:D,4,1)","v":2.6113645215738033}]
[null,null,1176,129.6,null,"1969-04-01",{"$f":"'Índices INSS'!$E$1/VLOOKUP(F50,'Índices INSS'!A:D,4,1)","v":2.5750859383485669}]
[null,null,1416,156,null,"1969-05-01",{"$f":"'Índices INSS'!$E$1/VLOOKUP(F51,'Índices INSS'!A:D,4,1)","v":2.5357923149529817}]
[null,null,1416,156,null,"1969-06-01",{"$f":"'Índices INSS'!$E$1/VLOOKUP(F52,'Índices INSS'!A:D,4,1)","v":2.5048197181738185}]
[null,null,1416,156,null,"1969-07-01",{"$f":"'Índices INSS'!$E$1/VLOOKUP(F53,'Índices INSS'!A:D,4,1)","v":2.4714221548837965}]
[null,null,1416,156,null,"1969-08-01",{"$f":"'Índices INSS'!$E$1/VLOOKUP(F54,'Índices INSS'!A:D,4,1)","v":2.4544298913033145}]
[null,null,1416,156,null,"1969-09-01",{"$f":"'Índices INSS'!$E$1/VLOOKUP(F55,'Índices INSS'!A:D,4,1)","v":2.4364372892099566}]
[null,null,1416,156,null,"1969-10-01",{"$f":"'Índices INSS'!$E$1/VLOOKUP(F56,'Índices INSS'!A:D,4,1)","v":2.4144654125095784}]
[null,null,1416,156,null,"1969-11-01",{"$f":"'Índices INSS'!$E$1/VLOOKUP(F57,'Índices INSS'!A:D,4,1)","v":2.3757815124548802}]
[null,null,1416,156,null,"1969-12-01",{"$f":"'Índices INSS'!$E$1/VLOOKUP(F58,'Índices INSS'!A:D,4,1)","v":2.3270270381674196}]
[null,null,1416,156,null,"1970-01-01",{"$f":"'Índices INSS'!$E$1/VLOOKUP(F59,'Índices INSS'!A:D,4,1)","v":2.2759259014937703}]
[null,null,1416,156,null,"1970-02-01",{"$f":"'Índices INSS'!$E$1/VLOOKUP(F60,'Índices INSS'!A:D,4,1)","v":2.2259922213844519}]
[null,null,1416,156,null,"1970-03-01",{"$f":"'Índices INSS'!$E$1/VLOOKUP(F61,'Índices INSS'!A:D,4,1)","v":2.1821476381791021}]
[null,null,1416,156,null,"1970-04-01",{"$f":"'Índices INSS'!$E$1/VLOOKUP(F62,'Índices INSS'!A:D,4,1)","v":2.1577224359760963}]
[null,null,1704,187,null,"1970-05-01",{"$f":"'Índices INSS'!$E$1/VLOOKUP(F63,'Índices INSS'!A:D,4,1)","v":2.1380981162261268}]
[null,null,1704,187,null,"1970-06-01",{"$f":"'Índices INSS'!$E$1/VLOOKUP(F64,'Índices INSS'!A:D,4,1)","v":2.1183617633493541}]
[null,null,1704,187,null,"1970-07-01",{"$f":"'Índices INSS'!$E$1/VLOOKUP(F65,'Índices INSS'!A:D,4,1)","v":2.0862654046056579}]
[null,null,1704,187,null,"1970-08-01",{"$f":"'Índices INSS'!$E$1/VLOOKUP(F66,'Índices INSS'!A:D,4,1)","v":2.0679137044356439}]
[null,null,1704,187,null,"1970-09-01",{"$f":"'Índices INSS'!$E$1/VLOOKUP(F67,'Índices INSS'!A:D,4,1)","v":2.0485751549727018}]
[null,null,1704,187,null,"1970-10-01",{"$f":"'Índices INSS'!$E$1/VLOOKUP(F68,'Índices INSS'!A:D,4,1)","v":2.024479396302036}]
[null,null,1704,187,null,"1970-11-01",{"$f":"'Índices INSS'!$E$1/VLOOKUP(F69,'Índices INSS'!A:D,4,1)","v":1.9869194654941211}]
[null,null,1704,187,null,"1970-12-01",{"$f":"'Índices INSS'!$E$1/VLOOKUP(F70,'Índices INSS'!A:D,4,1)","v":1.9456089346670165}]
[null,null,1704,187,null,"1971-01-01",{"$f":"'Índices INSS'!$E$1/VLOOKUP(F71,'Índices INSS'!A:D,4,1)","v":1.9082453008518081}]
[null,null,1704,187,null,"1971-02-01",{"$f":"'Índices INSS'!$E$1/VLOOKUP(F72,'Índices INSS'!A:D,4,1)","v":1.8737455235235869}]
[null,null,1704,187,null,"1971-03-01",{"$f":"'Índices INSS'!$E$1/VLOOKUP(F73,'Índices INSS'!A:D,4,1)","v":1.849299084140607}]
[null,null,1704,187,null,"1971-04-01",{"$f":"'Índices INSS'!$E$1/VLOOKUP(F74,'Índices INSS'!A:D,4,1)","v":1.8310308889614388}]
[null,null,2088,225.6,null,"1971-05-01",{"$f":"'Índices INSS'!$E$1/VLOOKUP(F75,'Índices INSS'!A:D,4,1)","v":1.8100556026270758}]
[null,null,2088,225.6,null,"1971-06-01",{"$f":"'Índices INSS'!$E$1/VLOOKUP(F76,'Índices INSS'!A:D,4,1)","v":1.7845854635161345}]
[null,null,2088,225.6,null,"1971-07-01",{"$f":"'Índices INSS'!$E$1/VLOOKUP(F77,'Índices INSS'!A:D,4,1)","v":1.7499174979801504}]
[null,null,2088,225.6,null,"1971-08-01",{"$f":"'Índices INSS'!$E$1/VLOOKUP(F78,'Índices INSS'!A:D,4,1)","v":1.7156541685794502}]
[null,null,2088,225.6,null,"1971-09-01",{"$f":"'Índices INSS'!$E$1/VLOOKUP(F79,'Índices INSS'!A:D,4,1)","v":1.6803600540403913}]
[null,null,2088,225.6,null,"1971-10-01",{"$f":"'Índices INSS'!$E$1/VLOOKUP(F80,'Índices INSS'!A:D,4,1)","v":1.6445222952772505}]
[null,null,2088,225.6,null,"1971-11-01",{"$f":"'Índices INSS'!$E$1/VLOOKUP(F81,'Índices INSS'!A:D,4,1)","v":1.6120664012149499}]
[null,null,2088,225.6,null,"1971-12-01",{"$f":"'Índices INSS'!$E$1/VLOOKUP(F82,'Índices INSS'!A:D,4,1)","v":1.5860696100573823}]
[null,null,2088,225.6,null,"1972-01-01",{"$f":"'Índices INSS'!$E$1/VLOOKUP(F83,'Índices INSS'!A:D,4,1)","v":1.566733610529669}]
[null,null,2088,225.6,null,"1972-02-01",{"$f":"'Índices INSS'!$E$1/VLOOKUP(F84,'Índices INSS'!A:D,4,1)","v":1.5481119906390679}]
[null,null,2088,225.6,null,"1972-03-01",{"$f":"'Índices INSS'!$E$1/VLOOKUP(F85,'Índices INSS'!A:D,4,1)","v":1.5277453123313165}]
[null,null,2088,225.6,null,"1972-04-01",{"$f":"'Índices INSS'!$E$1/VLOOKUP(F86,'Índices INSS'!A:D,4,1)","v":1.5105069538222116}]
[null,null,2496,268.8,null,"1972-05-01",{"$f":"'Índices INSS'!$E$1/VLOOKUP(F87,'Índices INSS'!A:D,4,1)","v":1.490650299315095}]
[null,null,2496,268.8,null,"1972-06-01",{"$f":"'Índices INSS'!$E$1/VLOOKUP(F88,'Índices INSS'!A:D,4,1)","v":1.4659383895078062}]
[null,null,2496,268.8,null,"1972-07-01",{"$f":"'Índices INSS'!$E$1/VLOOKUP(F89,'Índices INSS'!A:D,4,1)","v":1.4400933226646089}]
[null,null,2496,268.8,null,"1972-08-01",{"$f":"'Índices INSS'!$E$1/VLOOKUP(F90,'Índices INSS'!A:D,4,1)","v":1.4197297134654598}]
[null,null,2496,268.8,null,"1972-09-01",{"$f":"'Índices INSS'!$E$1/VLOOKUP(F91,'Índices INSS'!A:D,4,1)","v":1.4079090498736258}]
[null,null,2496,268.8,null,"1972-10-01",{"$f":"'Índices INSS'!$E$1/VLOOKUP(F92,'Índices INSS'!A:D,4,1)","v":1.3979035551774432}]
[null,null,2496,268.8,null,"1972-11-01",{"$f":"'Índices INSS'!$E$1/VLOOKUP(F93,'Índices INSS'!A:D,4,1)","v":1.3846494140562144}]
[null,null,2496,268.8,null,"1972-12-01",{"$f":"'Índices INSS'!$E$1/VLOOKUP(F94,'Índices INSS'!A:D,4,1)","v":1.375559305497694}]
[null,null,2496,268.8,null,"1973-01-01",{"$f":"'Índices INSS'!$E$1/VLOOKUP(F95,'Índices INSS'!A:D,4,1)","v":1.3600315532479514}]
[null,null,2496,268.8,null,"1973-02-01",{"$f":"'Índices INSS'!$E$1/VLOOKUP(F96,'Índices INSS'!A:D,4,1)","v":1.3467296352942233}]
[null,null,2496,268.8,null,"1973-03-01",{"$f":"'Índices INSS'!$E$1/VLOOKUP(F97,'Índices INSS'!A:D,4,1)","v":1.3327632097898723}]
[null,null,2496,268.8,null,"1973-04-01",{"$f":"'Índices INSS'!$E$1/VLOOKUP(F98,'Índices INSS'!A:D,4,1)","v":1.3169207844450765}]
[null,null,2880,312,null,"1973-05-01",{"$f":"'Índices INSS'!$E$1/VLOOKUP(F99,'Índices INSS'!A:D,4,1)","v":1.301977983132663}]
[null,null,6240,312,null,"1973-06-01",{"$f":"'Índices INSS'!$E$1/VLOOKUP(F100,'Índices INSS'!A:D,4,1)","v":1.2856532721442837}]
[null,null,6240,312,null,"1973-07-01",{"$f":"'Índices INSS'!$E$1/VLOOKUP(F101,'Índices INSS'!A:D,4,1)","v":1.2715755322689803}]
[null,null,6240,312,null,"1973-08-01",{"$f":"'Índices INSS'!$E$1/VLOOKUP(F102,'Índices INSS'!A:D,4,1)","v":1.2602696532100333}]
[null,null,6240,312,null,"1973-09-01",{"$f":"'Índices INSS'!$E$1/VLOOKUP(F103,'Índices INSS'!A:D,4,1)","v":1.2498109849259755}]
[null,null,6240,312,null,"1973-10-01",{"$f":"'Índices INSS'!$E$1/VLOOKUP(F104,'Índices INSS'!A:D,4,1)","v":1.2377735137276231}]
[null,null,6240,312,null,"1973-11-01",{"$f":"'Índices INSS'!$E$1/VLOOKUP(F105,'Índices INSS'!A:D,4,1)","v":1.2294059310795098}]
[null,null,6240,312,null,"1973-12-01",{"$f":"'Índices INSS'!$E$1/VLOOKUP(F106,'Índices INSS'!A:D,4,1)","v":1.2189885766027204}]
[null,null,6240,312,null,"1974-01-01",{"$f":"'Índices INSS'!$E$1/VLOOKUP(F107,'Índices INSS'!A:D,4,1)","v":1.1955522847205715}]
[null,null,6240,312,null,"1974-02-01",{"$f":"'Índices INSS'!$E$1/VLOOKUP(F108,'Índices INSS'!A:D,4,1)","v":1.1830787307387736}]
[null,null,6240,312,null,"1974-03-01",{"$f":"'Índices INSS'!$E$1/VLOOKUP(F109,'Índices INSS'!A:D,4,1)","v":1.1656237482337233}]
[null,null,6240,312,null,"1974-04-01",{"$f":"'Índices INSS'!$E$1/VLOOKUP(F110,'Índices INSS'!A:D,4,1)","v":1.1511456739775405}]
[null,null,7536,376.8,null,"1974-05-01",{"$f":"'Índices INSS'!$E$1/VLOOKUP(F111,'Índices INSS'!A:D,4,1)","v":1.1326137347875727}]
[null,null,7536,376.8,null,"1974-06-01",{"$f":"'Índices INSS'!$E$1/VLOOKUP(F112,'Índices INSS'!A:D,4,1)","v":1.10902575509978}]
[null,null,7536,376.8,null,"1974-07-01",{"$f":"'Índices INSS'!$E$1/VLOOKUP(F113,'Índices INSS'!A:D,4,1)","v":1.0733343815761058}]
[null,null,7536,376.8,null,"1974-08-01",{"$f":"'Índices INSS'!$E$1/VLOOKUP(F114,'Índices INSS'!A:D,4,1)","v":1.0281112627078794}]
[null,null,7536,376.8,null,"1974-09-01",{"$f":"'Índices INSS'!$E$1/VLOOKUP(F115,'Índices INSS'!A:D,4,1)","v":0.98132183749606705}]
[null,null,7536,376.8,null,"1974-10-01",{"$f":"'Índices INSS'!$E$1/VLOOKUP(F116,'Índices INSS'!A:D,4,1)","v":0.94588255056240056}]
[null,null,7536,376.8,null,"1974-11-01",{"$f":"'Índices INSS'!$E$1/VLOOKUP(F117,'Índices INSS'!A:D,4,1)","v":0.92589271208698487}]
[null,null,7536,415.2,null,"1974-12-01",{"$f":"'Índices INSS'!$E$1/VLOOKUP(F118,'Índices INSS'!A:D,4,1)","v":0.91438598738315657}]
[null,null,7536,415.2,null,"1975-01-01",{"$f":"'Índices INSS'!$E$1/VLOOKUP(F119,'Índices INSS'!A:D,4,1)","v":0.90282343733881454}]
[null,null,7536,415.2,null,"1975-02-01",{"$f":"'Índices INSS'!$E$1/VLOOKUP(F120,'Índices INSS'!A:D,4,1)","v":0.88932858748657595}]
[null,null,7536,415.2,null,"1975-03-01",{"$f":"'Índices INSS'!$E$1/VLOOKUP(F121,'Índices INSS'!A:D,4,1)","v":0.87479973847011649}]
[null,null,7536,415.2,null,"1975-04-01",{"$f":"'Índices INSS'!$E$1/VLOOKUP(F122,'Índices INSS'!A:D,4,1)","v":0.8586676066764436}]
[null,null,10020,532.79999999999995,null,"1975-05-01",{"$f":"'Índices INSS'!$E$1/VLOOKUP(F123,'Índices INSS'!A:D,4,1)","v":0.8418677154801788}]
[null,null,10020,532.79999999999995,null,"1975-06-01",{"$f":"'Índices INSS'!$E$1/VLOOKUP(F124,'Índices INSS'!A:D,4,1)","v":0.82289279509660518}]
[null,null,10020,532.79999999999995,null,"1975-07-01",{"$f":"'Índices INSS'!$E$1/VLOOKUP(F125,'Índices INSS'!A:D,4,1)","v":0.80812805312754887}]
[null,null,10020,532.79999999999995,null,"1975-08-01",{"$f":"'Índices INSS'!$E$1/VLOOKUP(F126,'Índices INSS'!A:D,4,1)","v":0.79453819243040014}]
[null,null,10020,532.79999999999995,null,"1975-09-01",{"$f":"'Índices INSS'!$E$1/VLOOKUP(F127,'Índices INSS'!A:D,4,1)","v":0.78234926905347379}]
[null,null,10020,532.79999999999995,null,"1975-10-01",{"$f":"'Índices INSS'!$E$1/VLOOKUP(F128,'Índices INSS'!A:D,4,1)","v":0.76678942468978373}]
[null,null,10020,532.79999999999995,null,"1975-11-01",{"$f":"'Índices INSS'!$E$1/VLOOKUP(F129,'Índices INSS'!A:D,4,1)","v":0.75048998304208259}]
[null,null,10020,532.79999999999995,null,"1975-12-01",{"$f":"'Índices INSS'!$E$1/VLOOKUP(F130,'Índices INSS'!A:D,4,1)","v":0.73615996674541317}]
[null,null,10020,532.79999999999995,null,"1976-01-01",{"$f":"'Índices INSS'!$E$1/VLOOKUP(F131,'Índices INSS'!A:D,4,1)","v":0.72285452801907168}]
[null,null,10020,532.79999999999995,null,"1976-02-01",{"$f":"'Índices INSS'!$E$1/VLOOKUP(F132,'Índices INSS'!A:D,4,1)","v":0.70923787015006079}]
[null,null,10020,532.79999999999995,null,"1976-03-01",{"$f":"'Índices INSS'!$E$1/VLOOKUP(F133,'Índices INSS'!A:D,4,1)","v":0.69371977501484361}]
[null,null,10020,532.79999999999995,null,"1976-04-01",{"$f":"'Índices INSS'!$E$1/VLOOKUP(F134,'Índices INSS'!A:D,4,1)","v":0.67762529338409005}]
[null,null,12766,768,null,"1976-05-01",{"$f":"'Índices INSS'!$E$1/VLOOKUP(F135,'Índices INSS'!A:D,4,1)","v":0.66276160514173688}]
[null,null,12766,768,null,"1976-06-01",{"$f":"'Índices INSS'!$E$1/VLOOKUP(F136,'Índices INSS'!A:D,4,1)","v":0.64184204729427452}]
[null,null,12766,768,null,"1976-07-01",{"$f":"'Índices INSS'!$E$1/VLOOKUP(F137,'Índices INSS'!A:D,4,1)","v":0.6234503250503225}]
[null,null,12766,768,null,"1976-08-01",{"$f":"'Índices INSS'!$E$1/VLOOKUP(F138,'Índices INSS'!A:D,4,1)","v":0.60791813820286689}]
[null,null,12766,768,null,"1976-09-01",{"$f":"'Índices INSS'!$E$1/VLOOKUP(F139,'Índices INSS'!A:D,4,1)","v":0.59143047596607501}]
[null,null,12766,768,null,"1976-10-01",{"$f":"'Índices INSS'!$E$1/VLOOKUP(F140,'Índices INSS'!A:D,4,1)","v":0.57259801359784857}]
[null,null,12766,768,null,"1976-11-01",{"$f":"'Índices INSS'!$E$1/VLOOKUP(F141,'Índices INSS'!A:D,4,1)","v":0.55266872413854029}]
[null,null,12766,768,null,"1976-12-01",{"$f":"'Índices INSS'!$E$1/VLOOKUP(F142,'Índices INSS'!A:D,4,1)","v":0.53642825153758955}]
[null,null,12766,768,null,"1977-01-01",{"$f":"'Índices INSS'!$E$1/VLOOKUP(F143,'Índices INSS'!A:D,4,1)","v":0.52483218928184494}]
[null,null,12766,768,null,"1977-02-01",{"$f":"'Índices INSS'!$E$1/VLOOKUP(F144,'Índices INSS'!A:D,4,1)","v":0.51589908705011989}]
[null,null,12766,768,null,"1977-03-01",{"$f":"'Índices INSS'!$E$1/VLOOKUP(F145,'Índices INSS'!A:D,4,1)","v":0.5059336611334091}]
[null,null,12766,768,null,"1977-04-01",{"$f":"'Índices INSS'!$E$1/VLOOKUP(F146,'Índices INSS'!A:D,4,1)","v":0.49471549262269682}]
[null,null,20820,1106.4000000000001,null,"1977-05-01",{"$f":"'Índices INSS'!$E$1/VLOOKUP(F147,'Índices INSS'!A:D,4,1)","v":0.48084517690329742}]
[null,null,20820,1106.4000000000001,null,"1977-06-01",{"$f":"'Índices INSS'!$E$1/VLOOKUP(F148,'Índices INSS'!A:D,4,1)","v":0.46585507852844066}]
[null,null,20820,1106.4000000000001,null,"1977-07-01",{"$f":"'Índices INSS'!$E$1/VLOOKUP(F149,'Índices INSS'!A:D,4,1)","v":0.45082048581867917}]
[null,null,20820,1106.4000000000001,null,"1977-08-01",{"$f":"'Índices INSS'!$E$1/VLOOKUP(F150,'Índices INSS'!A:D,4,1)","v":0.43909352716984867}]
[null,null,20820,1106.4000000000001,null,"1977-09-01",{"$f":"'Índices INSS'!$E$1/VLOOKUP(F151,'Índices INSS'!A:D,4,1)","v":0.43027284773667723}]
[null,null,20820,1106.4000000000001,null,"1977-10-01",{"$f":"'Índices INSS'!$E$1/VLOOKUP(F152,'Índices INSS'!A:D,4,1)","v":0.42432499935570833}]
[null,null,20820,1106.4000000000001,null,"1977-11-01",{"$f":"'Índices INSS'!$E$1/VLOOKUP(F153,'Índices INSS'!A:D,4,1)","v":0.41852115720812472}]
[null,null,20820,1106.4000000000001,null,"1977-12-01",{"$f":"'Índices INSS'!$E$1/VLOOKUP(F154,'Índices INSS'!A:D,4,1)","v":0.41236171034076469}]
[null,null,20820,1106.4000000000001,null,"1978-01-01",{"$f":"'Índices INSS'!$E$1/VLOOKUP(F155,'Índices INSS'!A:D,4,1)","v":0.40443700979601771}]
[null,null,20820,1106.4000000000001,null,"1978-02-01",{"$f":"'Índices INSS'!$E$1/VLOOKUP(F156,'Índices INSS'!A:D,4,1)","v":0.39607736139860267}]
[null,null,20820,1106.4000000000001,null,"1978-03-01",{"$f":"'Índices INSS'!$E$1/VLOOKUP(F157,'Índices INSS'!A:D,4,1)","v":0.38710560826856627}]
[null,null,20820,1106.4000000000001,null,"1978-04-01",{"$f":"'Índices INSS'!$E$1/VLOOKUP(F158,'Índices INSS'!A:D,4,1)","v":0.37737528835847367}]
[null,null,28940,1560,null,"1978-05-01",{"$f":"'Índices INSS'!$E$1/VLOOKUP(F159,'Índices INSS'!A:D,4,1)","v":0.36666575174799348}]
[null,null,28940,1560,null,"1978-06-01",{"$f":"'Índices INSS'!$E$1/VLOOKUP(F160,'Índices INSS'!A:D,4,1)","v":0.35582335165277618}]
[null,null,28940,1560,null,"1978-07-01",{"$f":"'Índices INSS'!$E$1/VLOOKUP(F161,'Índices INSS'!A:D,4,1)","v":0.3454179804108789}]
[null,null,28940,1560,null,"1978-08-01",{"$f":"'Índices INSS'!$E$1/VLOOKUP(F162,'Índices INSS'!A:D,4,1)","v":0.33516042899745474}]
[null,null,28940,1560,null,"1978-09-01",{"$f":"'Índices INSS'!$E$1/VLOOKUP(F163,'Índices INSS'!A:D,4,1)","v":0.32610019171103205}]
[null,null,28940,1560,null,"1978-10-01",{"$f":"'Índices INSS'!$E$1/VLOOKUP(F164,'Índices INSS'!A:D,4,1)","v":0.3177995843669516}]
[null,null,28940,1560,null,"1978-11-01",{"$f":"'Índices INSS'!$E$1/VLOOKUP(F165,'Índices INSS'!A:D,4,1)","v":0.31043006768903425}]
[null,null,28940,1560,null,"1978-12-01",{"$f":"'Índices INSS'!$E$1/VLOOKUP(F166,'Índices INSS'!A:D,4,1)","v":0.30268003616698935}]
[null,null,28940,1560,null,"1979-01-01",{"$f":"'Índices INSS'!$E$1/VLOOKUP(F167,'Índices INSS'!A:D,4,1)","v":0.29491900657379477}]
[null,null,28940,1560,null,"1979-02-01",{"$f":"'Índices INSS'!$E$1/VLOOKUP(F168,'Índices INSS'!A:D,4,1)","v":0.28840644300305418}]
[null,null,28940,1560,null,"1979-03-01",{"$f":"'Índices INSS'!$E$1/VLOOKUP(F169,'Índices INSS'!A:D,4,1)","v":0.28185346273583117}]
[null,null,28940,1560,null,"1979-04-01",{"$f":"'Índices INSS'!$E$1/VLOOKUP(F170,'Índices INSS'!A:D,4,1)","v":0.27498623157471586}]
[null,null,41674,2268,null,"1979-05-01",{"$f":"'Índices INSS'!$E$1/VLOOKUP(F171,'Índices INSS'!A:D,4,1)","v":0.26505726591087425}]
[null,null,41674,2268,null,"1979-06-01",{"$f":"'Índices INSS'!$E$1/VLOOKUP(F172,'Índices INSS'!A:D,4,1)","v":0.2552985798168087}]
[null,null,41674,2268,null,"1979-07-01",{"$f":"'Índices INSS'!$E$1/VLOOKUP(F173,'Índices INSS'!A:D,4,1)","v":0.24707876351228208}]
[null,null,41674,2268,null,"1979-08-01",{"$f":"'Índices INSS'!$E$1/VLOOKUP(F174,'Índices INSS'!A:D,4,1)","v":0.24053660093279186}]
[null,null,41674,2268,null,"1979-09-01",{"$f":"'Índices INSS'!$E$1/VLOOKUP(F175,'Índices INSS'!A:D,4,1)","v":0.23380900403168459}]
[null,null,41674,2268,null,"1979-10-01",{"$f":"'Índices INSS'!$E$1/VLOOKUP(F176,'Índices INSS'!A:D,4,1)","v":0.22477943433105849}]
[null,null,51929,2932.8,null,"1979-11-01",{"$f":"'Índices INSS'!$E$1/VLOOKUP(F177,'Índices INSS'!A:D,4,1)","v":0.21492055561956661}]
[null,null,51929,2932.8,null,"1979-12-01",{"$f":"'Índices INSS'!$E$1/VLOOKUP(F178,'Índices INSS'!A:D,4,1)","v":0.20563978533945462}]
[null,null,51930,2932.8,null,"1980-01-01",{"$f":"'Índices INSS'!$E$1/VLOOKUP(F179,'Índices INSS'!A:D,4,1)","v":0.1975799461136305}]
[null,null,51930,2932.8,null,"1980-02-01",{"$f":"'Índices INSS'!$E$1/VLOOKUP(F180,'Índices INSS'!A:D,4,1)","v":0.18961192222821852}]
[null,null,51930,2932.8,null,"1980-03-01",{"$f":"'Índices INSS'!$E$1/VLOOKUP(F181,'Índices INSS'!A:D,4,1)","v":0.18284598097134536}]
[null,null,51930,2932.8,null,"1980-04-01",{"$f":"'Índices INSS'!$E$1/VLOOKUP(F182,'Índices INSS'!A:D,4,1)","v":0.1763234078363233}]
[null,null,70136,4149.6000000000004,null,"1980-05-01",{"$f":"'Índices INSS'!$E$1/VLOOKUP(F183,'Índices INSS'!A:D,4,1)","v":0.170033921108103}]
[null,null,70136,4149.6000000000004,null,"1980-06-01",{"$f":"'Índices INSS'!$E$1/VLOOKUP(F184,'Índices INSS'!A:D,4,1)","v":0.16444377024912324}]
[null,null,70136,4149.6000000000004,null,"1980-07-01",{"$f":"'Índices INSS'!$E$1/VLOOKUP(F185,'Índices INSS'!A:D,4,1)","v":0.15934371955481993}]
[null,null,70136,4149.6000000000004,null,"1980-08-01",{"$f":"'Índices INSS'!$E$1/VLOOKUP(F186,'Índices INSS'!A:D,4,1)","v":0.15440196126302771}]
[null,null,70136,4149.6000000000004,null,"1980-09-01",{"$f":"'Índices INSS'!$E$1/VLOOKUP(F187,'Índices INSS'!A:D,4,1)","v":0.1496133757145573}]
[null,null,70136,4149.6000000000004,null,"1980-10-01",{"$f":"'Índices INSS'!$E$1/VLOOKUP(F188,'Índices INSS'!A:D,4,1)","v":0.14525502766060636}]
[null,null,93706,5788.8,null,"1980-11-01",{"$f":"'Índices INSS'!$E$1/VLOOKUP(F189,'Índices INSS'!A:D,4,1)","v":0.14075180048084227}]
[null,null,93706,5788.8,null,"1980-12-01",{"$f":"'Índices INSS'!$E$1/VLOOKUP(F190,'Índices INSS'!A:D,4,1)","v":0.13638803792967474}]
[null,null,93706,5788.8,null,"1981-01-01",{"$f":"'Índices INSS'!$E$1/VLOOKUP(F191,'Índices INSS'!A:D,4,1)","v":0.13051513111143548}]
[null,null,93706,5788.8,null,"1981-02-01",{"$f":"'Índices INSS'!$E$1/VLOOKUP(F192,'Índices INSS'!A:D,4,1)","v":0.12429931988196216}]
[null,null,93706,5788.8,null,"1981-03-01",{"$f":"'Índices INSS'!$E$1/VLOOKUP(F193,'Índices INSS'!A:D,4,1)","v":0.11671339285714087}]
[null,null,93706,5788.8,null,"1981-04-01",{"$f":"'Índices INSS'!$E$1/VLOOKUP(F194,'Índices INSS'!A:D,4,1)","v":0.10979588949266748}]
[null,null,133540,8464.7999999999993,null,"1981-05-01",{"$f":"'Índices INSS'!$E$1/VLOOKUP(F195,'Índices INSS'!A:D,4,1)","v":0.10358120371588131}]
[null,null,133540,8464.7999999999993,null,"1981-06-01",{"$f":"'Índices INSS'!$E$1/VLOOKUP(F196,'Índices INSS'!A:D,4,1)","v":9.7724238306891406E-2}]
[null,null,133540,8464.7999999999993,null,"1981-07-01",{"$f":"'Índices INSS'!$E$1/VLOOKUP(F197,'Índices INSS'!A:D,4,1)","v":9.2187207293917564E-2}]
[null,null,133540,8464.7999999999993,null,"1981-08-01",{"$f":"'Índices INSS'!$E$1/VLOOKUP(F198,'Índices INSS'!A:D,4,1)","v":8.6969252191695851E-2}]
[null,null,133540,8464.7999999999993,null,"1981-09-01",{"$f":"'Índices INSS'!$E$1/VLOOKUP(F199,'Índices INSS'!A:D,4,1)","v":8.2201538309295247E-2}]
[null,null,133540,8464.7999999999993,null,"1981-10-01",{"$f":"'Índices INSS'!$E$1/VLOOKUP(F200,'Índices INSS'!A:D,4,1)","v":7.7768426902164262E-2}]
[null,null,184390,11928,null,"1981-11-01",{"$f":"'Índices INSS'!$E$1/VLOOKUP(F201,'Índices INSS'!A:D,4,1)","v":7.3574399207197119E-2}]
[null,null,238560,11928,null,"1981-12-01",{"$f":"'Índices INSS'!$E$1/VLOOKUP(F202,'Índices INSS'!A:D,4,1)","v":6.9738879396485404E-2}]
[null,null,238560,11928,null,"1982-01-01",{"$f":"'Índices INSS'!$E$1/VLOOKUP(F203,'Índices INSS'!A:D,4,1)","v":6.6291647438058904E-2}]
[null,null,238560,11928,null,"1982-02-01",{"$f":"'Índices INSS'!$E$1/VLOOKUP(F204,'Índices INSS'!A:D,4,1)","v":6.3134818142203328E-2}]
[null,null,238560,11928,null,"1982-03-01",{"$f":"'Índices INSS'!$E$1/VLOOKUP(F205,'Índices INSS'!A:D,4,1)","v":6.0128512761170337E-2}]
[null,null,238560,11928,null,"1982-04-01",{"$f":"'Índices INSS'!$E$1/VLOOKUP(F206,'Índices INSS'!A:D,4,1)","v":5.7265233887238261E-2}]
[null,null,332160,16608,null,"1982-05-01",{"$f":"'Índices INSS'!$E$1/VLOOKUP(F207,'Índices INSS'!A:D,4,1)","v":5.427992486741047E-2}]
[null,null,332160,16608,null,"1982-06-01",{"$f":"'Índices INSS'!$E$1/VLOOKUP(F208,'Índices INSS'!A:D,4,1)","v":5.1450277917582644E-2}]
[null,null,332160,16608,null,"1982-07-01",{"$f":"'Índices INSS'!$E$1/VLOOKUP(F209,'Índices INSS'!A:D,4,1)","v":4.8767920377044263E-2}]
[null,null,332160,16608,null,"1982-08-01",{"$f":"'Índices INSS'!$E$1/VLOOKUP(F210,'Índices INSS'!A:D,4,1)","v":4.6007571881565651E-2}]
[null,null,332160,16608,null,"1982-09-01",{"$f":"'Índices INSS'!$E$1/VLOOKUP(F211,'Índices INSS'!A:D,4,1)","v":4.2997718675000039E-2}]
[null,null,332160,16608,null,"1982-10-01",{"$f":"'Índices INSS'!$E$1/VLOOKUP(F212,'Índices INSS'!A:D,4,1)","v":4.0184862675898748E-2}]
[null,null,471360,23568,null,"1982-11-01",{"$f":"'Índices INSS'!$E$1/VLOOKUP(F213,'Índices INSS'!A:D,4,1)","v":3.75559253666762E-2}]
[null,null,471360,23568,null,"1982-12-01",{"$f":"'Índices INSS'!$E$1/VLOOKUP(F214,'Índices INSS'!A:D,4,1)","v":3.5263769753563635E-2}]
[null,null,471360,23568,null,"1983-01-01",{"$f":"'Índices INSS'!$E$1/VLOOKUP(F215,'Índices INSS'!A:D,4,1)","v":3.3112686835042211E-2}]
[null,null,471360,23568,null,"1983-02-01",{"$f":"'Índices INSS'!$E$1/VLOOKUP(F216,'Índices INSS'!A:D,4,1)","v":3.1237266927005354E-2}]
[null,null,471360,23568,null,"1983-03-01",{"$f":"'Índices INSS'!$E$1/VLOOKUP(F217,'Índices INSS'!A:D,4,1)","v":2.9275830216261182E-2}]
[null,null,471360,23568,null,"1983-04-01",{"$f":"'Índices INSS'!$E$1/VLOOKUP(F218,'Índices INSS'!A:D,4,1)","v":2.6858549975083659E-2}]
[null,null,695520,34776,null,"1983-05-01",{"$f":"'Índices INSS'!$E$1/VLOOKUP(F219,'Índices INSS'!A:D,4,1)","v":2.4640851191117055E-2}]
[null,null,695520,34776,null,"1983-06-01",{"$f":"'Índices INSS'!$E$1/VLOOKUP(F220,'Índices INSS'!A:D,4,1)","v":2.2815596617072286E-2}]
[null,null,695520,34776,null,"1983-07-01",{"$f":"'Índices INSS'!$E$1/VLOOKUP(F221,'Índices INSS'!A:D,4,1)","v":2.1164766031389906E-2}]
[null,null,695520,34776,null,"1983-08-01",{"$f":"'Índices INSS'!$E$1/VLOOKUP(F222,'Índices INSS'!A:D,4,1)","v":1.9417234356536021E-2}]
[null,null,695520,34776,null,"1983-09-01",{"$f":"'Índices INSS'!$E$1/VLOOKUP(F223,'Índices INSS'!A:D,4,1)","v":1.7896076778409594E-2}]
[null,null,695520,34776,null,"1983-10-01",{"$f":"'Índices INSS'!$E$1/VLOOKUP(F224,'Índices INSS'!A:D,4,1)","v":1.6343462545685743E-2}]
[null,null,1142400,57120,null,"1983-11-01",{"$f":"'Índices INSS'!$E$1/VLOOKUP(F225,'Índices INSS'!A:D,4,1)","v":1.4898316870278597E-2}]
[null,null,1142400,57120,null,"1983-12-01",{"$f":"'Índices INSS'!$E$1/VLOOKUP(F226,'Índices INSS'!A:D,4,1)","v":1.3743838554824875E-2}]
[null,null,1142400,57120,null,"1984-01-01",{"$f":"'Índices INSS'!$E$1/VLOOKUP(F227,'Índices INSS'!A:D,4,1)","v":1.2773079410402519E-2}]
[null,null,1142400,57120,null,"1984-02-01",{"$f":"'Índices INSS'!$E$1/VLOOKUP(F228,'Índices INSS'!A:D,4,1)","v":1.1633036060004088E-2}]
[null,null,1142400,57120,null,"1984-03-01",{"$f":"'Índices INSS'!$E$1/VLOOKUP(F229,'Índices INSS'!A:D,4,1)","v":1.0358886771747129E-2}]
[null,null,1142400,57120,null,"1984-04-01",{"$f":"'Índices INSS'!$E$1/VLOOKUP(F230,'Índices INSS'!A:D,4,1)","v":9.417170648603812E-3}]
[null,null,1943520,97176,null,"1984-05-01",{"$f":"'Índices INSS'!$E$1/VLOOKUP(F231,'Índices INSS'!A:D,4,1)","v":8.6475404163065695E-3}]
[null,null,1943520,97176,null,"1984-06-01",{"$f":"'Índices INSS'!$E$1/VLOOKUP(F232,'Índices INSS'!A:D,4,1)","v":7.9408106506425758E-3}]
[null,null,1943520,97176,null,"1984-07-01",{"$f":"'Índices INSS'!$E$1/VLOOKUP(F233,'Índices INSS'!A:D,4,1)","v":7.2718066228796372E-3}]
[null,null,1943520,97176,null,"1984-08-01",{"$f":"'Índices INSS'!$E$1/VLOOKUP(F234,'Índices INSS'!A:D,4,1)","v":6.5927536556255693E-3}]
[null,null,1943520,97176,null,"1984-09-01",{"$f":"'Índices INSS'!$E$1/VLOOKUP(F235,'Índices INSS'!A:D,4,1)","v":5.9608984228079285E-3}]
[null,null,1943520,97176,null,"1984-10-01",{"$f":"'Índices INSS'!$E$1/VLOOKUP(F236,'Índices INSS'!A:D,4,1)","v":5.3946046543606116E-3}]
[null,null,3331200,166560,null,"1984-11-01",{"$f":"'Índices INSS'!$E$1/VLOOKUP(F237,'Índices INSS'!A:D,4,1)","v":4.7908340448566929E-3}]
[null,null,3331200,166560,null,"1984-12-01",{"$f":"'Índices INSS'!$E$1/VLOOKUP(F238,'Índices INSS'!A:D,4,1)","v":4.3592670434789791E-3}]
[null,null,3331200,166560,null,"1985-01-01",{"$f":"'Índices INSS'!$E$1/VLOOKUP(F239,'Índices INSS'!A:D,4,1)","v":3.9450376913802805E-3}]
[null,null,3331200,166560,null,"1985-02-01",{"$f":"'Índices INSS'!$E$1/VLOOKUP(F240,'Índices INSS'!A:D,4,1)","v":3.5035858715633042E-3}]
[null,null,3331200,166560,null,"1985-03-01",{"$f":"'Índices INSS'!$E$1/VLOOKUP(F241,'Índices INSS'!A:D,4,1)","v":3.1792975241046314E-3}]
[null,null,3331200,166560,null,"1985-04-01",{"$f":"'Índices INSS'!$E$1/VLOOKUP(F242,'Índices INSS'!A:D,4,1)","v":2.8215230415431771E-3}]
[null,null,6662400,333120,null,"1985-05-01",{"$f":"'Índices INSS'!$E$1/VLOOKUP(F243,'Índices INSS'!A:D,4,1)","v":2.5226193842723742E-3}]
[null,null,6662400,333120,null,"1985-06-01",{"$f":"'Índices INSS'!$E$1/VLOOKUP(F244,'Índices INSS'!A:D,4,1)","v":2.2931673521805417E-3}]
[null,null,6662400,333120,null,"1985-07-01",{"$f":"'Índices INSS'!$E$1/VLOOKUP(F245,'Índices INSS'!A:D,4,1)","v":2.099701679327937E-3}]
[null,null,6662400,333120,null,"1985-08-01",{"$f":"'Índices INSS'!$E$1/VLOOKUP(F246,'Índices INSS'!A:D,4,1)","v":1.9512447358419282E-3}]
[null,null,6662400,333120,null,"1985-09-01",{"$f":"'Índices INSS'!$E$1/VLOOKUP(F247,'Índices INSS'!A:D,4,1)","v":1.8037067541056713E-3}]
[null,null,6662400,333120,null,"1985-10-01",{"$f":"'Índices INSS'!$E$1/VLOOKUP(F248,'Índices INSS'!A:D,4,1)","v":1.6532602377925714E-3}]
[null,null,12000000,600000,null,"1985-11-01",{"$f":"'Índices INSS'!$E$1/VLOOKUP(F249,'Índices INSS'!A:D,4,1)","v":1.5167525117363038E-3}]
[null,null,12000000,600000,null,"1985-12-01",{"$f":"'Índices INSS'!$E$1/VLOOKUP(F250,'Índices INSS'!A:D,4,1)","v":1.3649680631176242E-3}]
[null,null,12000000,600000,null,"1986-01-01",{"$f":"'Índices INSS'!$E$1/VLOOKUP(F251,'Índices INSS'!A:D,4,1)","v":1.204100161174672E-3}]
[null,null,12000000,600000,null,"1986-02-01",{"$f":"'Índices INSS'!$E$1/VLOOKUP(F252,'Índices INSS'!A:D,4,1)","v":1.0359632259987518E-3}]
[null,null,16080,804,null,"1986-03-01",{"$f":"'Índices INSS'!$E$1/VLOOKUP(F253,'Índices INSS'!A:D,4,1)","v":0.90587781320569438}]
[null,null,16080,804,null,"1986-04-01",{"$f":"'Índices INSS'!$E$1/VLOOKUP(F254,'Índices INSS'!A:D,4,1)","v":0.90587781320569438}]
[null,null,16080,804,null,"1986-05-01",{"$f":"'Índices INSS'!$E$1/VLOOKUP(F255,'Índices INSS'!A:D,4,1)","v":0.90587781320569438}]
[null,null,16080,804,null,"1986-06-01",{"$f":"'Índices INSS'!$E$1/VLOOKUP(F256,'Índices INSS'!A:D,4,1)","v":0.90587781320569438}]
[null,null,16080,804,null,"1986-07-01",{"$f":"'Índices INSS'!$E$1/VLOOKUP(F257,'Índices INSS'!A:D,4,1)","v":0.90587781320569438}]
[null,null,16080,804,null,"1986-08-01",{"$f":"'Índices INSS'!$E$1/VLOOKUP(F258,'Índices INSS'!A:D,4,1)","v":0.90587781320569438}]
[null,null,16080,804,null,"1986-09-01",{"$f":"'Índices INSS'!$E$1/VLOOKUP(F259,'Índices INSS'!A:D,4,1)","v":0.90587781320569438}]
[null,null,16080,804,null,"1986-10-01",{"$f":"'Índices INSS'!$E$1/VLOOKUP(F260,'Índices INSS'!A:D,4,1)","v":0.90587781320569438}]
[null,null,16080,804,null,"1986-11-01",{"$f":"'Índices INSS'!$E$1/VLOOKUP(F261,'Índices INSS'!A:D,4,1)","v":0.90587781320569438}]
[null,null,16080,804,null,"1986-12-01",{"$f":"'Índices INSS'!$E$1/VLOOKUP(F262,'Índices INSS'!A:D,4,1)","v":0.90587781320569438}]
[null,null,19296,964.8,null,"1987-01-01",{"$f":"'Índices INSS'!$E$1/VLOOKUP(F263,'Índices INSS'!A:D,4,1)","v":0.90587781320569438}]
[null,null,19296,964.8,null,"1987-02-01",{"$f":"'Índices INSS'!$E$1/VLOOKUP(F264,'Índices INSS'!A:D,4,1)","v":0.90587781320569438}]
[null,null,27320,1368,null,"1987-03-01",{"$f":"'Índices INSS'!$E$1/VLOOKUP(F265,'Índices INSS'!A:D,4,1)","v":0.53072737983844764}]
[null,null,27320,1368,null,"1987-04-01",{"$f":"'Índices INSS'!$E$1/VLOOKUP(F266,'Índices INSS'!A:D,4,1)","v":0.463458185372704}]
[null,null,32832,1641.6,null,"1987-05-01",{"$f":"'Índices INSS'!$E$1/VLOOKUP(F267,'Índices INSS'!A:D,4,1)","v":0.38315074673410288}]
[null,null,39398.400000000001,1969.92,null,"1987-06-01",{"$f":"'Índices INSS'!$E$1/VLOOKUP(F268,'Índices INSS'!A:D,4,1)","v":0.31040998483162502}]
[null,null,39398.400000000001,1969.92,null,"1987-07-01",{"$f":"'Índices INSS'!$E$1/VLOOKUP(F269,'Índices INSS'!A:D,4,1)","v":0.26306060218908284}]
[null,null,39398.400000000001,1969.92,null,"1987-08-01",{"$f":"'Índices INSS'!$E$1/VLOOKUP(F270,'Índices INSS'!A:D,4,1)","v":0.25521065423855538}]
[null,null,41246.199999999997,2400,null,"1987-09-01",{"$f":"'Índices INSS'!$E$1/VLOOKUP(F271,'Índices INSS'!A:D,4,1)","v":0.23994973134983991}]
[null,null,43180.6,2640,null,"1987-10-01",{"$f":"'Índices INSS'!$E$1/VLOOKUP(F272,'Índices INSS'!A:D,4,1)","v":0.22705096597291838}]
[null,null,45205,3000,null,"1987-11-01",{"$f":"'Índices INSS'!$E$1/VLOOKUP(F273,'Índices INSS'!A:D,4,1)","v":0.20796021796383804}]
[null,null,51000,3600,null,"1987-12-01",{"$f":"'Índices INSS'!$E$1/VLOOKUP(F274,'Índices INSS'!A:D,4,1)","v":0.18458270733077142}]
[null,null,61200,4500,null,"1988-01-01",{"$f":"'Índices INSS'!$E$1/VLOOKUP(F275,'Índices INSS'!A:D,4,1)","v":0.16146580893181275}]
[null,null,72000,5280,null,"1988-02-01",{"$f":"'Índices INSS'!$E$1/VLOOKUP(F276,'Índices INSS'!A:D,4,1)","v":0.13858433031339715}]
[null,null,84960,6240,null,"1988-03-01",{"$f":"'Índices INSS'!$E$1/VLOOKUP(F277,'Índices INSS'!A:D,4,1)","v":0.11748299763820365}]
[null,null,98640,7260,null,"1988-04-01",{"$f":"'Índices INSS'!$E$1/VLOOKUP(F278,'Índices INSS'!A:D,4,1)","v":0.10126963752739408}]
[null,null,98640,8712,null,"1988-05-01",{"$f":"'Índices INSS'!$E$1/VLOOKUP(F279,'Índices INSS'!A:D,4,1)","v":8.4900861752610968E-2}]
[null,null,139680,10368,null,"1988-06-01",{"$f":"'Índices INSS'!$E$1/VLOOKUP(F280,'Índices INSS'!A:D,4,1)","v":7.2084332338690826E-2}]
[null,null,167520,12444,null,"1988-07-01",{"$f":"'Índices INSS'!$E$1/VLOOKUP(F281,'Índices INSS'!A:D,4,1)","v":6.0306457137210723E-2}]
[null,null,209280,15552,null,"1988-08-01",{"$f":"'Índices INSS'!$E$1/VLOOKUP(F282,'Índices INSS'!A:D,4,1)","v":4.8618599337044495E-2}]
[null,null,254040,18960,null,"1988-09-01",{"$f":"'Índices INSS'!$E$1/VLOOKUP(F283,'Índices INSS'!A:D,4,1)","v":4.0293889769453382E-2}]
[null,null,315120,23700,null,"1988-10-01",{"$f":"'Índices INSS'!$E$1/VLOOKUP(F284,'Índices INSS'!A:D,4,1)","v":3.2492491337948862E-2}]
[null,null,409520,30800,null,"1988-11-01",{"$f":"'Índices INSS'!$E$1/VLOOKUP(F285,'Índices INSS'!A:D,4,1)","v":2.5534382358901226E-2}]
[null,null,511900,40425,null,"1988-12-01",{"$f":"'Índices INSS'!$E$1/VLOOKUP(F286,'Índices INSS'!A:D,4,1)","v":2.0118516060574958E-2}]
[null,null,637.32000000000005,54.374000000000002,null,"1989-01-01",{"$f":"'Índices INSS'!$E$1/VLOOKUP(F287,'Índices INSS'!A:D,4,1)","v":14.473263177845753}]
[null,null,734.8,63.9,null,"1989-02-01",{"$f":"'Índices INSS'!$E$1/VLOOKUP(F288,'Índices INSS'!A:D,4,1)","v":10.141019603311205}]
[null,null,734.8,63.9,null,"1989-03-01",{"$f":"'Índices INSS'!$E$1/VLOOKUP(F289,'Índices INSS'!A:D,4,1)","v":9.2073902336219415}]
[null,null,734.8,63.9,null,"1989-04-01",{"$f":"'Índices INSS'!$E$1/VLOOKUP(F290,'Índices INSS'!A:D,4,1)","v":8.6787886496981805}]
[null,null,936,81.400000000000006,null,"1989-05-01",{"$f":"'Índices INSS'!$E$1/VLOOKUP(F291,'Índices INSS'!A:D,4,1)","v":8.087153524448679}]
[null,null,936,120,null,"1989-06-01",{"$f":"'Índices INSS'!$E$1/VLOOKUP(F292,'Índices INSS'!A:D,4,1)","v":7.3561534319198776}]
[null,null,1500,149.80000000000001,null,"1989-07-01",{"$f":"'Índices INSS'!$E$1/VLOOKUP(F293,'Índices INSS'!A:D,4,1)","v":5.8931037879384691}]
[null,null,1931.4,192.88,null,"1989-08-01",{"$f":"'Índices INSS'!$E$1/VLOOKUP(F294,'Índices INSS'!A:D,4,1)","v":4.576330566568533}]
[null,null,2498.0700000000002,249.48,null,"1989-09-01",{"$f":"'Índices INSS'!$E$1/VLOOKUP(F295,'Índices INSS'!A:D,4,1)","v":3.538223011453963}]
[null,null,3396.13,381.73,null,"1989-10-01",{"$f":"'Índices INSS'!$E$1/VLOOKUP(F296,'Índices INSS'!A:D,4,1)","v":2.6026652992530446}]
[null,null,4673.75,557.33000000000004,null,"1989-11-01",{"$f":"'Índices INSS'!$E$1/VLOOKUP(F297,'Índices INSS'!A:D,4,1)","v":1.8911820123304099}]
[null,null,6609.62,788.18,null,"1989-12-01",{"$f":"'Índices INSS'!$E$1/VLOOKUP(F298,'Índices INSS'!A:D,4,1)","v":1.3372760056096618}]
[null,null,10149.07,1283.95,null,"1990-01-01",{"$f":"'Índices INSS'!$E$1/VLOOKUP(F299,'Índices INSS'!A:D,4,1)","v":0.87090589749896574}]
[null,null,15843.71,2004.37,null,"1990-02-01",{"$f":"'Índices INSS'!$E$1/VLOOKUP(F300,'Índices INSS'!A:D,4,1)","v":0.5578814213734371}]
[null,null,27374.76,3674.06,null,"1990-03-01",{"$f":"'Índices INSS'!$E$1/VLOOKUP(F301,'Índices INSS'!A:D,4,1)","v":0.32288487383221609}]
[null,null,27374.76,3674.06,null,"1990-04-01",{"$f":"'Índices INSS'!$E$1/VLOOKUP(F302,'Índices INSS'!A:D,4,1)","v":0.17517625533431863}]
[null,null,27374.76,3674.06,null,"1990-05-01",{"$f":"'Índices INSS'!$E$1/VLOOKUP(F303,'Índices INSS'!A:D,4,1)","v":0.1209780768883416}]
[null,null,28847.52,3857.76,null,"1990-06-01",{"$f":"'Índices INSS'!$E$1/VLOOKUP(F304,'Índices INSS'!A:D,4,1)","v":0.11215173531875555}]
[null,null,36676.74,4904.76,null,"1990-07-01",{"$f":"'Índices INSS'!$E$1/VLOOKUP(F305,'Índices INSS'!A:D,4,1)","v":0.10237492954701558}]
[null,null,38910.35,5203.46,null,"1990-08-01",{"$f":"'Índices INSS'!$E$1/VLOOKUP(F306,'Índices INSS'!A:D,4,1)","v":9.0661467894983694E-2}]
[null,null,45287.76,6056.31,null,"1990-09-01",{"$f":"'Índices INSS'!$E$1/VLOOKUP(F307,'Índices INSS'!A:D,4,1)","v":8.092606256804756E-2}]
[null,null,48045.78,6425.14,null,"1990-10-01",{"$f":"'Índices INSS'!$E$1/VLOOKUP(F308,'Índices INSS'!A:D,4,1)","v":7.1768413061411462E-2}]
[null,null,62286.55,8329.5499999999993,null,"1990-11-01",{"$f":"'Índices INSS'!$E$1/VLOOKUP(F309,'Índices INSS'!A:D,4,1)","v":6.2844494799834921E-2}]
[null,null,66079.8,8836.82,null,"1990-12-01",{"$f":"'Índices INSS'!$E$1/VLOOKUP(F310,'Índices INSS'!A:D,4,1)","v":5.4373156947425956E-2}]
[null,null,92168.11,12325.6,null,"1991-01-01",{"$f":"'Índices INSS'!$E$1/VLOOKUP(F311,'Índices INSS'!A:D,4,1)","v":4.5962093784806382E-2}]
[null,null,118859.99,15895.46,null,"1991-02-01",{"$f":"'Índices INSS'!$E$1/VLOOKUP(F312,'Índices INSS'!A:D,4,1)","v":3.8330492690189628E-2}]
[null,null,127120.76,17000,null,"1991-03-01",{"$f":"'Índices INSS'!$E$1/VLOOKUP(F313,'Índices INSS'!A:D,4,1)","v":3.1451951005325038E-2}]
[null,null,127120.76,17000,null,"1991-04-01",{"$f":"'Índices INSS'!$E$1/VLOOKUP(F314,'Índices INSS'!A:D,4,1)","v":2.8134851959321087E-2}]
[null,null,127120.76,17000,null,"1991-05-01",{"$f":"'Índices INSS'!$E$1/VLOOKUP(F315,'Índices INSS'!A:D,4,1)","v":2.6792545433121689E-2}]
[null,null,127120.76,17000,null,"1991-06-01",{"$f":"'Índices INSS'!$E$1/VLOOKUP(F316,'Índices INSS'!A:D,4,1)","v":2.5114871984553516E-2}]
[null,null,127120.76,17000,null,"1991-07-01",{"$f":"'Índices INSS'!$E$1/VLOOKUP(F317,'Índices INSS'!A:D,4,1)","v":2.2660716398586588E-2}]
[null,null,170000,17000,null,"1991-08-01",{"$f":"'Índices INSS'!$E$1/VLOOKUP(F318,'Índices INSS'!A:D,4,1)","v":2.020752309486944E-2}]
[null,null,420002,42000,null,"1991-09-01",{"$f":"'Índices INSS'!$E$1/VLOOKUP(F319,'Índices INSS'!A:D,4,1)","v":1.7477532515887767E-2}]
[null,null,420002,42000,null,"1991-10-01",{"$f":"'Índices INSS'!$E$1/VLOOKUP(F320,'Índices INSS'!A:D,4,1)","v":1.5116357477847923E-2}]
[null,null,420002,42000,null,"1991-11-01",{"$f":"'Índices INSS'!$E$1/VLOOKUP(F321,'Índices INSS'!A:D,4,1)","v":1.248460313664348E-2}]
[null,null,420002,42000,null,"1991-12-01",{"$f":"'Índices INSS'!$E$1/VLOOKUP(F322,'Índices INSS'!A:D,4,1)","v":9.8708120941203986E-3}]
[null,null,923262.74,96037.33,null,"1992-01-01",{"$f":"'Índices INSS'!$E$1/VLOOKUP(F323,'Índices INSS'!A:D,4,1)","v":7.9507145341283919E-3}]
[null,null,923262.74,96037.33,null,"1992-02-01",{"$f":"'Índices INSS'!$E$1/VLOOKUP(F324,'Índices INSS'!A:D,4,1)","v":6.3140998523891299E-3}]
[null,null,923262.74,96037.33,null,"1992-03-01",{"$f":"'Índices INSS'!$E$1/VLOOKUP(F325,'Índices INSS'!A:D,4,1)","v":5.0723809868164597E-3}]
[null,null,923262.74,96037.33,null,"1992-04-01",{"$f":"'Índices INSS'!$E$1/VLOOKUP(F326,'Índices INSS'!A:D,4,1)","v":4.1706799760043252E-3}]
[null,null,2126842.4900000002,230000,null,"1992-05-01",{"$f":"'Índices INSS'!$E$1/VLOOKUP(F327,'Índices INSS'!A:D,4,1)","v":3.4514067990767338E-3}]
[null,null,2126842.4900000002,230000,null,"1992-06-01",{"$f":"'Índices INSS'!$E$1/VLOOKUP(F328,'Índices INSS'!A:D,4,1)","v":2.7722142964471757E-3}]
[null,null,2126842.4900000002,230000,null,"1992-07-01",{"$f":"'Índices INSS'!$E$1/VLOOKUP(F329,'Índices INSS'!A:D,4,1)","v":2.2939299101755696E-3}]
[null,null,2126842.4900000002,230000,null,"1992-08-01",{"$f":"'Índices INSS'!$E$1/VLOOKUP(F330,'Índices INSS'!A:D,4,1)","v":1.8790382619393589E-3}]
[null,null,4780863.3,522186.94,null,"1992-09-01",{"$f":"'Índices INSS'!$E$1/VLOOKUP(F331,'Índices INSS'!A:D,4,1)","v":1.5354128631633916E-3}]
[null,null,4780863.3,522186.94,null,"1992-10-01",{"$f":"'Índices INSS'!$E$1/VLOOKUP(F332,'Índices INSS'!A:D,4,1)","v":1.2384359277007513E-3}]
[null,null,4780863.3,522186.94,null,"1992-11-01",{"$f":"'Índices INSS'!$E$1/VLOOKUP(F333,'Índices INSS'!A:D,4,1)","v":9.8233991250951959E-4}]
[null,null,4780863.3,522186.94,null,"1992-12-01",{"$f":"'Índices INSS'!$E$1/VLOOKUP(F334,'Índices INSS'!A:D,4,1)","v":7.9936521483401377E-4}]
[null,null,11532054.23,1250700,null,"1993-01-01",{"$f":"'Índices INSS'!$E$1/VLOOKUP(F335,'Índices INSS'!A:D,4,1)","v":6.3653863261189188E-4}]
[null,null,11532054.23,1250700,null,"1993-02-01",{"$f":"'Índices INSS'!$E$1/VLOOKUP(F336,'Índices INSS'!A:D,4,1)","v":4.9764571387060576E-4}]
[null,null,15760858.52,1709400,null,"1993-03-01",{"$f":"'Índices INSS'!$E$1/VLOOKUP(F337,'Índices INSS'!A:D,4,1)","v":3.953020207090362E-4}]
[null,null,15760858.52,1709400,null,"1993-04-01",{"$f":"'Índices INSS'!$E$1/VLOOKUP(F338,'Índices INSS'!A:D,4,1)","v":3.1158037416965099E-4}]
[null,null,30214732.09,3303300,null,"1993-05-01",{"$f":"'Índices INSS'!$E$1/VLOOKUP(F339,'Índices INSS'!A:D,4,1)","v":2.4294766017126783E-4}]
[null,null,30214732.09,3303300,null,"1993-06-01",{"$f":"'Índices INSS'!$E$1/VLOOKUP(F340,'Índices INSS'!A:D,4,1)","v":1.8922631059371274E-4}]
[null,null,42439310.549999997,4639800,null,"1993-07-01",{"$f":"'Índices INSS'!$E$1/VLOOKUP(F341,'Índices INSS'!A:D,4,1)","v":1.4517900152962465E-4}]
[null,null,50613.120000000003,5534,null,"1993-08-01",{"$f":"'Índices INSS'!$E$1/VLOOKUP(F342,'Índices INSS'!A:D,4,1)","v":0.1123154893467621}]
[null,null,86414.97,9606,null,"1993-09-01",{"$f":"'Índices INSS'!$E$1/VLOOKUP(F343,'Índices INSS'!A:D,4,1)","v":8.4945915403692396E-2}]
[null,null,108165.62,12024,null,"1993-10-01",{"$f":"'Índices INSS'!$E$1/VLOOKUP(F344,'Índices INSS'!A:D,4,1)","v":6.2843763707695774E-2}]
[null,null,135120.49,15021,null,"1993-11-01",{"$f":"'Índices INSS'!$E$1/VLOOKUP(F345,'Índices INSS'!A:D,4,1)","v":4.6578538176471819E-2}]
[null,null,168751.08,18760,null,"1993-12-01",{"$f":"'Índices INSS'!$E$1/VLOOKUP(F346,'Índices INSS'!A:D,4,1)","v":3.4530757043866718E-2}]
[null,null,295795.39,32882,null,"1994-01-01",{"$f":"'Índices INSS'!$E$1/VLOOKUP(F347,'Índices INSS'!A:D,4,1)","v":2.5140704072709665E-2}]
[null,null,385273.5,42829,null,"1994-02-01",{"$f":"'Índices INSS'!$E$1/VLOOKUP(F348,'Índices INSS'!A:D,4,1)","v":1.7925635702466781E-2}]
[null,null,582.86,64.790000000000006,null,"1994-03-01",{"$f":"G350","v":8.1836600387226692}]
[null,null,582.86,64.790000000000006,null,"1994-04-01",8.1836600387226692]
[null,null,582.86,64.790000000000006,null,"1994-05-01",8.1836600387226692]
[null,null,582.86,64.790000000000006,null,"1994-06-01",{"$f":"G353","v":8.1836600387226692}]
[null,null,582.86,64.790000000000006,null,"1994-07-01",{"$f":"'Índices INSS'!$E$1/VLOOKUP(F353,'Índices INSS'!A:D,4,1)","v":8.1836600387226692}]
[null,{"$f":"IF(F354>=#REF!,1,0)","v":{"$error":"#REF!"}},582.86,64.790000000000006,null,"1994-08-01",{"$f":"'Índices INSS'!$E$1/VLOOKUP(F354,'Índices INSS'!A:D,4,1)","v":7.7146116503795907}]
[null,{"$f":"IF(F355>=#REF!,1,0)","v":{"$error":"#REF!"}},582.86,70,null,"1994-09-01",{"$f":"'Índices INSS'!$E$1/VLOOKUP(F355,'Índices INSS'!A:D,4,1)","v":7.3152016407923295}]
[null,{"$f":"IF(F356>=#REF!,1,0)","v":{"$error":"#REF!"}},582.86,70,null,"1994-10-01",{"$f":"'Índices INSS'!$E$1/VLOOKUP(F356,'Índices INSS'!A:D,4,1)","v":7.2063852239112709}]
[null,{"$f":"IF(F357>=#REF!,1,0)","v":{"$error":"#REF!"}},582.86,70,null,"1994-11-01",{"$f":"'Índices INSS'!$E$1/VLOOKUP(F357,'Índices INSS'!A:D,4,1)","v":7.0747940544976151}]
[null,{"$f":"IF(F358>=#REF!,1,0)","v":{"$error":"#REF!"}},582.86,70,null,"1994-12-01",{"$f":"'Índices INSS'!$E$1/VLOOKUP(F358,'Índices INSS'!A:D,4,1)","v":6.850773752781655}]
[null,{"$f":"IF(F359>=#REF!,1,0)","v":{"$error":"#REF!"}},582.86,70,null,"1995-01-01",{"$f":"'Índices INSS'!$E$1/VLOOKUP(F359,'Índices INSS'!A:D,4,1)","v":6.7039570924568501}]
[null,{"$f":"IF(F360>=#REF!,1,0)","v":{"$error":"#REF!"}},582.86,70,null,"1995-02-01",{"$f":"'Índices INSS'!$E$1/VLOOKUP(F360,'Índices INSS'!A:D,4,1)","v":6.5938399650406714}]
[null,{"$f":"IF(F361>=#REF!,1,0)","v":{"$error":"#REF!"}},582.86,70,null,"1995-03-01",{"$f":"'Índices INSS'!$E$1/VLOOKUP(F361,'Índices INSS'!A:D,4,1)","v":6.5292008763646612}]
[null,{"$f":"IF(F362>=#REF!,1,0)","v":{"$error":"#REF!"}},582.86,70,null,"1995-04-01",{"$f":"'Índices INSS'!$E$1/VLOOKUP(F362,'Índices INSS'!A:D,4,1)","v":6.438419166122336}]
[null,{"$f":"IF(F363>=#REF!,1,0)","v":{"$error":"#REF!"}},832.66,100,null,"1995-05-01",{"$f":"'Índices INSS'!$E$1/VLOOKUP(F363,'Índices INSS'!A:D,4,1)","v":6.317130265033688}]
[null,{"$f":"IF(F364>=#REF!,1,0)","v":{"$error":"#REF!"}},832.66,100,null,"1995-06-01",{"$f":"'Índices INSS'!$E$1/VLOOKUP(F364,'Índices INSS'!A:D,4,1)","v":6.158847874655053}]
[null,{"$f":"IF(F365>=#REF!,1,0)","v":{"$error":"#REF!"}},832.66,100,null,"1995-07-01",{"$f":"'Índices INSS'!$E$1/VLOOKUP(F365,'Índices INSS'!A:D,4,1)","v":6.0487604347427357}]
[null,{"$f":"IF(F366>=#REF!,1,0)","v":{"$error":"#REF!"}},832.66,100,null,"1995-08-01",{"$f":"'Índices INSS'!$E$1/VLOOKUP(F366,'Índices INSS'!A:D,4,1)","v":5.9035335103872102}]
[null,{"$f":"IF(F367>=#REF!,1,0)","v":{"$error":"#REF!"}},832.66,100,null,"1995-09-01",{"$f":"'Índices INSS'!$E$1/VLOOKUP(F367,'Índices INSS'!A:D,4,1)","v":5.8439254705872203}]
[null,{"$f":"IF(F368>=#REF!,1,0)","v":{"$error":"#REF!"}},832.66,100,null,"1995-10-01",{"$f":"'Índices INSS'!$E$1/VLOOKUP(F368,'Índices INSS'!A:D,4,1)","v":5.7763422660741526}]
[null,{"$f":"IF(F369>=#REF!,1,0)","v":{"$error":"#REF!"}},832.66,100,null,"1995-11-01",{"$f":"'Índices INSS'!$E$1/VLOOKUP(F369,'Índices INSS'!A:D,4,1)","v":5.6965900059902888}]
[null,{"$f":"IF(F370>=#REF!,1,0)","v":{"$error":"#REF!"}},832.66,100,null,"1995-12-01",{"$f":"'Índices INSS'!$E$1/VLOOKUP(F370,'Índices INSS'!A:D,4,1)","v":5.6118510550589003}]
[null,{"$f":"IF(F371>=#REF!,1,0)","v":{"$error":"#REF!"}},832.66,100,null,"1996-01-01",{"$f":"'Índices INSS'!$E$1/VLOOKUP(F371,'Índices INSS'!A:D,4,1)","v":5.5207585391627152}]
[null,{"$f":"IF(F372>=#REF!,1,0)","v":{"$error":"#REF!"}},832.66,100,null,"1996-02-01",{"$f":"'Índices INSS'!$E$1/VLOOKUP(F372,'Índices INSS'!A:D,4,1)","v":5.4413153352678059}]
[null,{"$f":"IF(F373>=#REF!,1,0)","v":{"$error":"#REF!"}},832.66,100,null,"1996-03-01",{"$f":"'Índices INSS'!$E$1/VLOOKUP(F373,'Índices INSS'!A:D,4,1)","v":5.4029543593166567}]
[null,{"$f":"IF(F374>=#REF!,1,0)","v":{"$error":"#REF!"}},832.66,100,null,"1996-04-01",{"$f":"'Índices INSS'!$E$1/VLOOKUP(F374,'Índices INSS'!A:D,4,1)","v":5.3873310991291818}]
[null,{"$f":"IF(F375>=#REF!,1,0)","v":{"$error":"#REF!"}},957.56,112,null,"1996-05-01",{"$f":"'Índices INSS'!$E$1/VLOOKUP(F375,'Índices INSS'!A:D,4,1)","v":5.3498819256496351}]
[null,{"$f":"IF(F376>=#REF!,1,0)","v":{"$error":"#REF!"}},957.56,112,null,"1996-06-01",{"$f":"'Índices INSS'!$E$1/VLOOKUP(F376,'Índices INSS'!A:D,4,1)","v":5.2614889119292254}]
[null,{"$f":"IF(F377>=#REF!,1,0)","v":{"$error":"#REF!"}},957.56,112,null,"1996-07-01",{"$f":"'Índices INSS'!$E$1/VLOOKUP(F377,'Índices INSS'!A:D,4,1)","v":5.1980724283039175}]
[null,{"$f":"IF(F378>=#REF!,1,0)","v":{"$error":"#REF!"}},957.56,112,null,"1996-08-01",{"$f":"'Índices INSS'!$E$1/VLOOKUP(F378,'Índices INSS'!A:D,4,1)","v":5.142024362749944}]
[null,{"$f":"IF(F379>=#REF!,1,0)","v":{"$error":"#REF!"}},957.56,112,null,"1996-09-01",{"$f":"'Índices INSS'!$E$1/VLOOKUP(F379,'Índices INSS'!A:D,4,1)","v":5.141818690002343}]
[null,{"$f":"IF(F380>=#REF!,1,0)","v":{"$error":"#REF!"}},957.56,112,null,"1996-10-01",{"$f":"'Índices INSS'!$E$1/VLOOKUP(F380,'Índices INSS'!A:D,4,1)","v":5.1351430040970163}]
[null,{"$f":"IF(F381>=#REF!,1,0)","v":{"$error":"#REF!"}},957.56,112,null,"1996-11-01",{"$f":"'Índices INSS'!$E$1/VLOOKUP(F381,'Índices INSS'!A:D,4,1)","v":5.1238704890211704}]
[null,{"$f":"IF(F382>=#REF!,1,0)","v":{"$error":"#REF!"}},957.56,112,null,"1996-12-01",{"$f":"'Índices INSS'!$E$1/VLOOKUP(F382,'Índices INSS'!A:D,4,1)","v":5.1095637106314031}]
[null,{"$f":"IF(F383>=#REF!,1,0)","v":{"$error":"#REF!"}},957.56,112,null,"1997-01-01",{"$f":"'Índices INSS'!$E$1/VLOOKUP(F383,'Índices INSS'!A:D,4,1)","v":5.0649917829415179}]
[null,{"$f":"IF(F384>=#REF!,1,0)","v":{"$error":"#REF!"}},957.56,112,null,"1997-02-01",{"$f":"'Índices INSS'!$E$1/VLOOKUP(F384,'Índices INSS'!A:D,4,1)","v":4.9862096701530989}]
[null,{"$f":"IF(F385>=#REF!,1,0)","v":{"$error":"#REF!"}},957.56,112,null,"1997-03-01",{"$f":"'Índices INSS'!$E$1/VLOOKUP(F385,'Índices INSS'!A:D,4,1)","v":4.9653551784038035}]
[null,{"$f":"IF(F386>=#REF!,1,0)","v":{"$error":"#REF!"}},957.56,112,null,"1997-04-01",{"$f":"'Índices INSS'!$E$1/VLOOKUP(F386,'Índices INSS'!A:D,4,1)","v":4.9084175349978283}]
[null,{"$f":"IF(F387>=#REF!,1,0)","v":{"$error":"#REF!"}},957.56,120,null,"1997-05-01",{"$f":"'Índices INSS'!$E$1/VLOOKUP(F387,'Índices INSS'!A:D,4,1)","v":4.8796277313826701}]
[null,{"$f":"IF(F388>=#REF!,1,0)","v":{"$error":"#REF!"}},1031.8699999999999,120,null,"1997-06-01",{"$f":"'Índices INSS'!$E$1/VLOOKUP(F388,'Índices INSS'!A:D,4,1)","v":4.8650326334822243}]
[null,{"$f":"IF(F389>=#REF!,1,0)","v":{"$error":"#REF!"}},1031.8699999999999,120,null,"1997-07-01",{"$f":"'Índices INSS'!$E$1/VLOOKUP(F389,'Índices INSS'!A:D,4,1)","v":4.8312141345404411}]
[null,{"$f":"IF(F390>=#REF!,1,0)","v":{"$error":"#REF!"}},1031.8699999999999,120,null,"1997-08-01",{"$f":"'Índices INSS'!$E$1/VLOOKUP(F390,'Índices INSS'!A:D,4,1)","v":4.8268699515840163}]
[null,{"$f":"IF(F391>=#REF!,1,0)","v":{"$error":"#REF!"}},1031.8699999999999,120,null,"1997-09-01",{"$f":"'Índices INSS'!$E$1/VLOOKUP(F391,'Índices INSS'!A:D,4,1)","v":4.8268699515840163}]
[null,{"$f":"IF(F392>=#REF!,1,0)","v":{"$error":"#REF!"}},1031.8699999999999,120,null,"1997-10-01",{"$f":"'Índices INSS'!$E$1/VLOOKUP(F392,'Índices INSS'!A:D,4,1)","v":4.7985584566895474}]
[null,{"$f":"IF(F393>=#REF!,1,0)","v":{"$error":"#REF!"}},1031.8699999999999,120,null,"1997-11-01",{"$f":"'Índices INSS'!$E$1/VLOOKUP(F393,'Índices INSS'!A:D,4,1)","v":4.7822986413090964}]
[null,{"$f":"IF(F394>=#REF!,1,0)","v":{"$error":"#REF!"}},1031.8699999999999,120,null,"1997-12-01",{"$f":"'Índices INSS'!$E$1/VLOOKUP(F394,'Índices INSS'!A:D,4,1)","v":4.7429323031925978}]
[null,{"$f":"IF(F395>=#REF!,1,0)","v":{"$error":"#REF!"}},1031.8699999999999,120,null,"1998-01-01",{"$f":"'Índices INSS'!$E$1/VLOOKUP(F395,'Índices INSS'!A:D,4,1)","v":4.7104303338887661}]
[null,{"$f":"IF(F396>=#REF!,1,0)","v":{"$error":"#REF!"}},1031.8699999999999,120,null,"1998-02-01",{"$f":"'Índices INSS'!$E$1/VLOOKUP(F396,'Índices INSS'!A:D,4,1)","v":4.6693401406510375}]
[null,{"$f":"IF(F397>=#REF!,1,0)","v":{"$error":"#REF!"}},1031.8699999999999,120,null,"1998-03-01",{"$f":"'Índices INSS'!$E$1/VLOOKUP(F397,'Índices INSS'!A:D,4,1)","v":4.668406459359165}]
[null,{"$f":"IF(F398>=#REF!,1,0)","v":{"$error":"#REF!"}},1031.8699999999999,120,null,"1998-04-01",{"$f":"'Índices INSS'!$E$1/VLOOKUP(F398,'Índices INSS'!A:D,4,1)","v":4.6576937637026496}]
[null,{"$f":"IF(F399>=#REF!,1,0)","v":{"$error":"#REF!"}},1031.8699999999999,130,null,"1998-05-01",{"$f":"'Índices INSS'!$E$1/VLOOKUP(F399,'Índices INSS'!A:D,4,1)","v":4.6576937637026496}]
[null,{"$f":"IF(F400>=#REF!,1,0)","v":{"$error":"#REF!"}},1081.5,130,null,"1998-06-01",{"$f":"'Índices INSS'!$E$1/VLOOKUP(F400,'Índices INSS'!A:D,4,1)","v":4.647005650706026}]
[null,{"$f":"IF(F401>=#REF!,1,0)","v":{"$error":"#REF!"}},1081.5,130,null,"1998-07-01",{"$f":"'Índices INSS'!$E$1/VLOOKUP(F401,'Índices INSS'!A:D,4,1)","v":4.6340303656821167}]
[null,{"$f":"IF(F402>=#REF!,1,0)","v":{"$error":"#REF!"}},1081.5,130,null,"1998-08-01",{"$f":"'Índices INSS'!$E$1/VLOOKUP(F402,'Índices INSS'!A:D,4,1)","v":4.6340303656821167}]
[null,{"$f":"IF(F403>=#REF!,1,0)","v":{"$error":"#REF!"}},1081.5,130,null,"1998-09-01",{"$f":"'Índices INSS'!$E$1/VLOOKUP(F403,'Índices INSS'!A:D,4,1)","v":4.6340303656821167}]
[null,{"$f":"IF(F404>=#REF!,1,0)","v":{"$error":"#REF!"}},1081.5,130,null,"1998-10-01",{"$f":"'Índices INSS'!$E$1/VLOOKUP(F404,'Índices INSS'!A:D,4,1)","v":4.6340303656821167}]
[null,{"$f":"IF(F405>=#REF!,1,0)","v":{"$error":"#REF!"}},1081.5,130,null,"1998-11-01",{"$f":"'Índices INSS'!$E$1/VLOOKUP(F405,'Índices INSS'!A:D,4,1)","v":4.6340303656821167}]
[null,{"$f":"IF(F406>=#REF!,1,0)","v":{"$error":"#REF!"}},1200,130,null,"1998-12-01",{"$f":"'Índices INSS'!$E$1/VLOOKUP(F406,'Índices INSS'!A:D,4,1)","v":4.6340303656821167}]
[null,{"$f":"IF(F407>=#REF!,1,0)","v":{"$error":"#REF!"}},1200,130,null,"1999-01-01",{"$f":"'Índices INSS'!$E$1/VLOOKUP(F407,'Índices INSS'!A:D,4,1)","v":4.5890576011904498}]
[null,{"$f":"IF(F408>=#REF!,1,0)","v":{"$error":"#REF!"}},1200,130,null,"1999-02-01",{"$f":"'Índices INSS'!$E$1/VLOOKUP(F408,'Índices INSS'!A:D,4,1)","v":4.5368834416119128}]
[null,{"$f":"IF(F409>=#REF!,1,0)","v":{"$error":"#REF!"}},1200,130,null,"1999-03-01",{"$f":"'Índices INSS'!$E$1/VLOOKUP(F409,'Índices INSS'!A:D,4,1)","v":4.3440094232209043}]
[null,{"$f":"IF(F410>=#REF!,1,0)","v":{"$error":"#REF!"}},1200,130,null,"1999-04-01",{"$f":"'Índices INSS'!$E$1/VLOOKUP(F410,'Índices INSS'!A:D,4,1)","v":4.2596679968826283}]
[null,{"$f":"IF(F411>=#REF!,1,0)","v":{"$error":"#REF!"}},1200,136,null,"1999-05-01",{"$f":"'Índices INSS'!$E$1/VLOOKUP(F411,'Índices INSS'!A:D,4,1)","v":4.2583904797387069}]
[null,{"$f":"IF(F412>=#REF!,1,0)","v":{"$error":"#REF!"}},1255.32,136,null,"1999-06-01",{"$f":"'Índices INSS'!$E$1/VLOOKUP(F412,'Índices INSS'!A:D,4,1)","v":4.2583904797387069}]
[null,{"$f":"IF(F413>=#REF!,1,0)","v":{"$error":"#REF!"}},1255.32,136,null,"1999-07-01",{"$f":"'Índices INSS'!$E$1/VLOOKUP(F413,'Índices INSS'!A:D,4,1)","v":4.2153934663816148}]
[null,{"$f":"IF(F414>=#REF!,1,0)","v":{"$error":"#REF!"}},1255.32,136,null,"1999-08-01",{"$f":"'Índices INSS'!$E$1/VLOOKUP(F414,'Índices INSS'!A:D,4,1)","v":4.1494177245610935}]
[null,{"$f":"IF(F415>=#REF!,1,0)","v":{"$error":"#REF!"}},1255.32,136,null,"1999-09-01",{"$f":"'Índices INSS'!$E$1/VLOOKUP(F415,'Índices INSS'!A:D,4,1)","v":4.0901111134165538}]
[null,{"$f":"IF(F416>=#REF!,1,0)","v":{"$error":"#REF!"}},1255.32,136,null,"1999-10-01",{"$f":"'Índices INSS'!$E$1/VLOOKUP(F416,'Índices INSS'!A:D,4,1)","v":4.0308575080482445}]
[null,{"$f":"IF(F417>=#REF!,1,0)","v":{"$error":"#REF!"}},1255.32,136,null,"1999-11-01",{"$f":"'Índices INSS'!$E$1/VLOOKUP(F417,'Índices INSS'!A:D,4,1)","v":3.9560874551459855}]
[null,{"$f":"IF(F418>=#REF!,1,0)","v":{"$error":"#REF!"}},1255.32,136,null,"1999-12-01",{"$f":"'Índices INSS'!$E$1/VLOOKUP(F418,'Índices INSS'!A:D,4,1)","v":3.8584682094469769}]
[null,{"$f":"IF(F419>=#REF!,1,0)","v":{"$error":"#REF!"}},1255.32,136,null,"2000-01-01",{"$f":"'Índices INSS'!$E$1/VLOOKUP(F419,'Índices INSS'!A:D,4,1)","v":3.8115857052721296}]
[null,{"$f":"IF(F420>=#REF!,1,0)","v":{"$error":"#REF!"}},1255.32,136,null,"2000-02-01",{"$f":"'Índices INSS'!$E$1/VLOOKUP(F420,'Índices INSS'!A:D,4,1)","v":3.7731000844111362}]
[null,{"$f":"IF(F421>=#REF!,1,0)","v":{"$error":"#REF!"}},1255.32,136,null,"2000-03-01",{"$f":"'Índices INSS'!$E$1/VLOOKUP(F421,'Índices INSS'!A:D,4,1)","v":3.7659447893114444}]
[null,{"$f":"IF(F422>=#REF!,1,0)","v":{"$error":"#REF!"}},1255.32,151,null,"2000-04-01",{"$f":"'Índices INSS'!$E$1/VLOOKUP(F422,'Índices INSS'!A:D,4,1)","v":3.7591782684282733}]
[null,{"$f":"IF(F423>=#REF!,1,0)","v":{"$error":"#REF!"}},1255.32,151,null,"2000-05-01",{"$f":"'Índices INSS'!$E$1/VLOOKUP(F423,'Índices INSS'!A:D,4,1)","v":3.7542976814423978}]
[null,{"$f":"IF(F424>=#REF!,1,0)","v":{"$error":"#REF!"}},1328.25,151,null,"2000-06-01",{"$f":"'Índices INSS'!$E$1/VLOOKUP(F424,'Índices INSS'!A:D,4,1)","v":3.7293112957608008}]
[null,{"$f":"IF(F425>=#REF!,1,0)","v":{"$error":"#REF!"}},1328.25,151,null,"2000-07-01",{"$f":"'Índices INSS'!$E$1/VLOOKUP(F425,'Índices INSS'!A:D,4,1)","v":3.6949482767866844}]
[null,{"$f":"IF(F426>=#REF!,1,0)","v":{"$error":"#REF!"}},1328.25,151,null,"2000-08-01",{"$f":"'Índices INSS'!$E$1/VLOOKUP(F426,'Índices INSS'!A:D,4,1)","v":3.6132879686941957}]
[null,{"$f":"IF(F427>=#REF!,1,0)","v":{"$error":"#REF!"}},1328.25,151,null,"2000-09-01",{"$f":"'Índices INSS'!$E$1/VLOOKUP(F427,'Índices INSS'!A:D,4,1)","v":3.5487015995818068}]
[null,{"$f":"IF(F428>=#REF!,1,0)","v":{"$error":"#REF!"}},1328.25,151,null,"2000-10-01",{"$f":"'Índices INSS'!$E$1/VLOOKUP(F428,'Índices INSS'!A:D,4,1)","v":3.5243833544361975}]
[null,{"$f":"IF(F429>=#REF!,1,0)","v":{"$error":"#REF!"}},1328.25,151,null,"2000-11-01",{"$f":"'Índices INSS'!$E$1/VLOOKUP(F429,'Índices INSS'!A:D,4,1)","v":3.5113912069704067}]
[null,{"$f":"IF(F430>=#REF!,1,0)","v":{"$error":"#REF!"}},1328.25,151,null,"2000-12-01",{"$f":"'Índices INSS'!$E$1/VLOOKUP(F430,'Índices INSS'!A:D,4,1)","v":3.4977499820404492}]
[null,{"$f":"IF(F431>=#REF!,1,0)","v":{"$error":"#REF!"}},1328.25,151,null,"2001-01-01",{"$f":"'Índices INSS'!$E$1/VLOOKUP(F431,'Índices INSS'!A:D,4,1)","v":3.471367588368846}]
[null,{"$f":"IF(F432>=#REF!,1,0)","v":{"$error":"#REF!"}},1328.25,151,null,"2001-02-01",{"$f":"'Índices INSS'!$E$1/VLOOKUP(F432,'Índices INSS'!A:D,4,1)","v":3.4544408283101267}]
[null,{"$f":"IF(F433>=#REF!,1,0)","v":{"$error":"#REF!"}},1328.25,151,null,"2001-03-01",{"$f":"'Índices INSS'!$E$1/VLOOKUP(F433,'Índices INSS'!A:D,4,1)","v":3.4427355275165703}]
[null,{"$f":"IF(F434>=#REF!,1,0)","v":{"$error":"#REF!"}},1328.25,180,null,"2001-04-01",{"$f":"'Índices INSS'!$E$1/VLOOKUP(F434,'Índices INSS'!A:D,4,1)","v":3.4154122296791374}]
[null,{"$f":"IF(F435>=#REF!,1,0)","v":{"$error":"#REF!"}},1328.25,180,null,"2001-05-01",{"$f":"'Índices INSS'!$E$1/VLOOKUP(F435,'Índices INSS'!A:D,4,1)","v":3.3772493124484693}]
[null,{"$f":"IF(F436>=#REF!,1,0)","v":{"$error":"#REF!"}},1430,180,null,"2001-06-01",{"$f":"'Índices INSS'!$E$1/VLOOKUP(F436,'Índices INSS'!A:D,4,1)","v":3.3624545125930601}]
[null,{"$f":"IF(F437>=#REF!,1,0)","v":{"$error":"#REF!"}},1430,180,null,"2001-07-01",{"$f":"'Índices INSS'!$E$1/VLOOKUP(F437,'Índices INSS'!A:D,4,1)","v":3.3140691036793415}]
[null,{"$f":"IF(F438>=#REF!,1,0)","v":{"$error":"#REF!"}},1430,180,null,"2001-08-01",{"$f":"'Índices INSS'!$E$1/VLOOKUP(F438,'Índices INSS'!A:D,4,1)","v":3.2612370632546166}]
[null,{"$f":"IF(F439>=#REF!,1,0)","v":{"$error":"#REF!"}},1430,180,null,"2001-09-01",{"$f":"'Índices INSS'!$E$1/VLOOKUP(F439,'Índices INSS'!A:D,4,1)","v":3.2321477336517512}]
[null,{"$f":"IF(F440>=#REF!,1,0)","v":{"$error":"#REF!"}},1430,180,null,"2001-10-01",{"$f":"'Índices INSS'!$E$1/VLOOKUP(F440,'Índices INSS'!A:D,4,1)","v":3.2199120677941333}]
[null,{"$f":"IF(F441>=#REF!,1,0)","v":{"$error":"#REF!"}},1430,180,null,"2001-11-01",{"$f":"'Índices INSS'!$E$1/VLOOKUP(F441,'Índices INSS'!A:D,4,1)","v":3.1738906533209792}]
[null,{"$f":"IF(F442>=#REF!,1,0)","v":{"$error":"#REF!"}},1430,180,null,"2001-12-01",{"$f":"'Índices INSS'!$E$1/VLOOKUP(F442,'Índices INSS'!A:D,4,1)","v":3.149951025526974}]
[null,{"$f":"IF(F443>=#REF!,1,0)","v":{"$error":"#REF!"}},1430,180,null,"2002-01-01",{"$f":"'Índices INSS'!$E$1/VLOOKUP(F443,'Índices INSS'!A:D,4,1)","v":3.144291301184841}]
[null,{"$f":"IF(F444>=#REF!,1,0)","v":{"$error":"#REF!"}},1430,180,null,"2002-02-01",{"$f":"'Índices INSS'!$E$1/VLOOKUP(F444,'Índices INSS'!A:D,4,1)","v":3.1383284770783919}]
[null,{"$f":"IF(F445>=#REF!,1,0)","v":{"$error":"#REF!"}},1430,180,null,"2002-03-01",{"$f":"'Índices INSS'!$E$1/VLOOKUP(F445,'Índices INSS'!A:D,4,1)","v":3.1326896357340708}]
[null,{"$f":"IF(F446>=#REF!,1,0)","v":{"$error":"#REF!"}},1430,200,null,"2002-04-01",{"$f":"'Índices INSS'!$E$1/VLOOKUP(F446,'Índices INSS'!A:D,4,1)","v":3.1292474635241936}]
[null,{"$f":"IF(F447>=#REF!,1,0)","v":{"$error":"#REF!"}},1430,200,null,"2002-05-01",{"$f":"'Índices INSS'!$E$1/VLOOKUP(F447,'Índices INSS'!A:D,4,1)","v":3.1074949985344529}]
[null,{"$f":"IF(F448>=#REF!,1,0)","v":{"$error":"#REF!"}},1561.56,200,null,"2002-06-01",{"$f":"'Índices INSS'!$E$1/VLOOKUP(F448,'Índices INSS'!A:D,4,1)","v":3.0733804752590768}]
[null,{"$f":"IF(F449>=#REF!,1,0)","v":{"$error":"#REF!"}},1561.56,200,null,"2002-07-01",{"$f":"'Índices INSS'!$E$1/VLOOKUP(F449,'Índices INSS'!A:D,4,1)","v":3.0208182379192809}]
[null,{"$f":"IF(F450>=#REF!,1,0)","v":{"$error":"#REF!"}},1561.56,200,null,"2002-08-01",{"$f":"'Índices INSS'!$E$1/VLOOKUP(F450,'Índices INSS'!A:D,4,1)","v":2.9601354609694082}]
[null,{"$f":"IF(F451>=#REF!,1,0)","v":{"$error":"#REF!"}},1561.56,200,null,"2002-09-01",{"$f":"'Índices INSS'!$E$1/VLOOKUP(F451,'Índices INSS'!A:D,4,1)","v":2.8918869294347482}]
[null,{"$f":"IF(F452>=#REF!,1,0)","v":{"$error":"#REF!"}},1561.56,200,null,"2002-10-01",{"$f":"'Índices INSS'!$E$1/VLOOKUP(F452,'Índices INSS'!A:D,4,1)","v":2.8175048026449221}]
[null,{"$f":"IF(F453>=#REF!,1,0)","v":{"$error":"#REF!"}},1561.56,200,null,"2002-11-01",{"$f":"'Índices INSS'!$E$1/VLOOKUP(F453,'Índices INSS'!A:D,4,1)","v":2.7036798797091666}]
[null,{"$f":"IF(F454>=#REF!,1,0)","v":{"$error":"#REF!"}},1561.56,200,null,"2002-12-01",{"$f":"'Índices INSS'!$E$1/VLOOKUP(F454,'Índices INSS'!A:D,4,1)","v":2.5544972408438835}]
[null,{"$f":"IF(F455>=#REF!,1,0)","v":{"$error":"#REF!"}},1561.56,200,null,"2003-01-01",{"$f":"'Índices INSS'!$E$1/VLOOKUP(F455,'Índices INSS'!A:D,4,1)","v":2.4873390855344537}]
[null,{"$f":"IF(F456>=#REF!,1,0)","v":{"$error":"#REF!"}},1561.56,200,null,"2003-02-01",{"$f":"'Índices INSS'!$E$1/VLOOKUP(F456,'Índices INSS'!A:D,4,1)","v":2.4345102138929757}]
[null,{"$f":"IF(F457>=#REF!,1,0)","v":{"$error":"#REF!"}},1561.56,200,null,"2003-03-01",{"$f":"'Índices INSS'!$E$1/VLOOKUP(F457,'Índices INSS'!A:D,4,1)","v":2.3964073372310026}]
[null,{"$f":"IF(F458>=#REF!,1,0)","v":{"$error":"#REF!"}},1561.56,240,null,"2003-04-01",{"$f":"'Índices INSS'!$E$1/VLOOKUP(F458,'Índices INSS'!A:D,4,1)","v":2.3572765465581376}]
[null,{"$f":"IF(F459>=#REF!,1,0)","v":{"$error":"#REF!"}},1561.56,240,null,"2003-05-01",{"$f":"'Índices INSS'!$E$1/VLOOKUP(F459,'Índices INSS'!A:D,4,1)","v":2.34765117673353}]
[null,{"$f":"IF(F460>=#REF!,1,0)","v":{"$error":"#REF!"}},1869.34,240,null,"2003-06-01",{"$f":"'Índices INSS'!$E$1/VLOOKUP(F460,'Índices INSS'!A:D,4,1)","v":2.3634865365282698}]
[null,{"$f":"IF(F461>=#REF!,1,0)","v":{"$error":"#REF!"}},1869.34,240,null,"2003-07-01",{"$f":"'Índices INSS'!$E$1/VLOOKUP(F461,'Índices INSS'!A:D,4,1)","v":2.3801475695148739}]
[null,{"$f":"IF(F462>=#REF!,1,0)","v":{"$error":"#REF!"}},1869.34,240,null,"2003-08-01",{"$f":"'Índices INSS'!$E$1/VLOOKUP(F462,'Índices INSS'!A:D,4,1)","v":2.3849174043235211}]
[null,{"$f":"IF(F463>=#REF!,1,0)","v":{"$error":"#REF!"}},1869.34,240,null,"2003-09-01",{"$f":"'Índices INSS'!$E$1/VLOOKUP(F463,'Índices INSS'!A:D,4,1)","v":2.3702220277514621}]
[null,{"$f":"IF(F464>=#REF!,1,0)","v":{"$error":"#REF!"}},1869.34,240,null,"2003-10-01",{"$f":"'Índices INSS'!$E$1/VLOOKUP(F464,'Índices INSS'!A:D,4,1)","v":2.34559329812119}]
[null,{"$f":"IF(F465>=#REF!,1,0)","v":{"$error":"#REF!"}},1869.34,240,null,"2003-11-01",{"$f":"'Índices INSS'!$E$1/VLOOKUP(F465,'Índices INSS'!A:D,4,1)","v":2.3353178993639885}]
[null,{"$f":"IF(F466>=#REF!,1,0)","v":{"$error":"#REF!"}},1869.34,240,null,"2003-12-01",{"$f":"'Índices INSS'!$E$1/VLOOKUP(F466,'Índices INSS'!A:D,4,1)","v":2.3241619221377277}]
[null,{"$f":"IF(F467>=#REF!,1,0)","v":{"$error":"#REF!"}},2400,240,null,"2004-01-01",{"$f":"'Índices INSS'!$E$1/VLOOKUP(F467,'Índices INSS'!A:D,4,1)","v":2.3103001214092718}]
[null,{"$f":"IF(F468>=#REF!,1,0)","v":{"$error":"#REF!"}},2400,240,null,"2004-02-01",{"$f":"'Índices INSS'!$E$1/VLOOKUP(F468,'Índices INSS'!A:D,4,1)","v":2.2912824768514053}]
[null,{"$f":"IF(F469>=#REF!,1,0)","v":{"$error":"#REF!"}},2400,240,null,"2004-03-01",{"$f":"'Índices INSS'!$E$1/VLOOKUP(F469,'Índices INSS'!A:D,4,1)","v":2.2823811902095876}]
[null,{"$f":"IF(F470>=#REF!,1,0)","v":{"$error":"#REF!"}},2400,240,null,"2004-04-01",{"$f":"'Índices INSS'!$E$1/VLOOKUP(F470,'Índices INSS'!A:D,4,1)","v":2.2694453517048698}]
[null,{"$f":"IF(F471>=#REF!,1,0)","v":{"$error":"#REF!"}},2508.7199999999998,260,null,"2004-05-01",{"$f":"'Índices INSS'!$E$1/VLOOKUP(F471,'Índices INSS'!A:D,4,1)","v":2.2601786193654716}]
[null,{"$f":"IF(F472>=#REF!,1,0)","v":{"$error":"#REF!"}},2508.7199999999998,260,null,"2004-06-01",{"$f":"'Índices INSS'!$E$1/VLOOKUP(F472,'Índices INSS'!A:D,4,1)","v":2.2511739236707884}]
[null,{"$f":"IF(F473>=#REF!,1,0)","v":{"$error":"#REF!"}},2508.7199999999998,260,null,"2004-07-01",{"$f":"'Índices INSS'!$E$1/VLOOKUP(F473,'Índices INSS'!A:D,4,1)","v":2.2399740534037695}]
[null,{"$f":"IF(F474>=#REF!,1,0)","v":{"$error":"#REF!"}},2508.7199999999998,260,null,"2004-08-01",{"$f":"'Índices INSS'!$E$1/VLOOKUP(F474,'Índices INSS'!A:D,4,1)","v":2.2237407459582741}]
[null,{"$f":"IF(F475>=#REF!,1,0)","v":{"$error":"#REF!"}},2508.7199999999998,260,null,"2004-09-01",{"$f":"'Índices INSS'!$E$1/VLOOKUP(F475,'Índices INSS'!A:D,4,1)","v":2.2126773591624618}]
[null,{"$f":"IF(F476>=#REF!,1,0)","v":{"$error":"#REF!"}},2508.7199999999998,260,null,"2004-10-01",{"$f":"'Índices INSS'!$E$1/VLOOKUP(F476,'Índices INSS'!A:D,4,1)","v":2.208922191437019}]
[null,{"$f":"IF(F477>=#REF!,1,0)","v":{"$error":"#REF!"}},2508.7199999999998,260,null,"2004-11-01",{"$f":"'Índices INSS'!$E$1/VLOOKUP(F477,'Índices INSS'!A:D,4,1)","v":2.2051733966626919}]
[null,{"$f":"IF(F478>=#REF!,1,0)","v":{"$error":"#REF!"}},2508.7199999999998,260,null,"2004-12-01",{"$f":"'Índices INSS'!$E$1/VLOOKUP(F478,'Índices INSS'!A:D,4,1)","v":2.1955131388517444}]
[null,{"$f":"IF(F479>=#REF!,1,0)","v":{"$error":"#REF!"}},2508.7199999999998,260,null,"2005-01-01",{"$f":"'Índices INSS'!$E$1/VLOOKUP(F479,'Índices INSS'!A:D,4,1)","v":2.1767927214472982}]
[null,{"$f":"IF(F480>=#REF!,1,0)","v":{"$error":"#REF!"}},2508.7199999999998,260,null,"2005-02-01",{"$f":"'Índices INSS'!$E$1/VLOOKUP(F480,'Índices INSS'!A:D,4,1)","v":2.1644553260885928}]
[null,{"$f":"IF(F481>=#REF!,1,0)","v":{"$error":"#REF!"}},2508.7199999999998,260,null,"2005-03-01",{"$f":"'Índices INSS'!$E$1/VLOOKUP(F481,'Índices INSS'!A:D,4,1)","v":2.1549734429396583}]
[null,{"$f":"IF(F482>=#REF!,1,0)","v":{"$error":"#REF!"}},2508.7199999999998,260,null,"2005-04-01",{"$f":"'Índices INSS'!$E$1/VLOOKUP(F482,'Índices INSS'!A:D,4,1)","v":2.1393561430950645}]
[null,{"$f":"IF(F483>=#REF!,1,0)","v":{"$error":"#REF!"}},2668.15,300,null,"2005-05-01",{"$f":"'Índices INSS'!$E$1/VLOOKUP(F483,'Índices INSS'!A:D,4,1)","v":2.1200635646566881}]
[null,{"$f":"IF(F484>=#REF!,1,0)","v":{"$error":"#REF!"}},2668.15,300,null,"2005-06-01",{"$f":"'Índices INSS'!$E$1/VLOOKUP(F484,'Índices INSS'!A:D,4,1)","v":2.1053262806918456}]
[null,{"$f":"IF(F485>=#REF!,1,0)","v":{"$error":"#REF!"}},2668.15,300,null,"2005-07-01",{"$f":"'Índices INSS'!$E$1/VLOOKUP(F485,'Índices INSS'!A:D,4,1)","v":2.1076446898506811}]
[null,{"$f":"IF(F486>=#REF!,1,0)","v":{"$error":"#REF!"}},2668.15,300,null,"2005-08-01",{"$f":"'Índices INSS'!$E$1/VLOOKUP(F486,'Índices INSS'!A:D,4,1)","v":2.107012586074859}]
[null,{"$f":"IF(F487>=#REF!,1,0)","v":{"$error":"#REF!"}},2668.15,300,null,"2005-09-01",{"$f":"'Índices INSS'!$E$1/VLOOKUP(F487,'Índices INSS'!A:D,4,1)","v":2.107012586074859}]
[null,{"$f":"IF(F488>=#REF!,1,0)","v":{"$error":"#REF!"}},2668.15,300,null,"2005-10-01",{"$f":"'Índices INSS'!$E$1/VLOOKUP(F488,'Índices INSS'!A:D,4,1)","v":2.1038568008735483}]
[null,{"$f":"IF(F489>=#REF!,1,0)","v":{"$error":"#REF!"}},2668.15,300,null,"2005-11-01",{"$f":"'Índices INSS'!$E$1/VLOOKUP(F489,'Índices INSS'!A:D,4,1)","v":2.0917247970506545}]
[null,{"$f":"IF(F490>=#REF!,1,0)","v":{"$error":"#REF!"}},2668.15,300,null,"2005-12-01",{"$f":"'Índices INSS'!$E$1/VLOOKUP(F490,'Índices INSS'!A:D,4,1)","v":2.0804901502393616}]
[null,{"$f":"IF(F491>=#REF!,1,0)","v":{"$error":"#REF!"}},2668.15,300,null,"2006-01-01",{"$f":"'Índices INSS'!$E$1/VLOOKUP(F491,'Índices INSS'!A:D,4,1)","v":2.0722013448599221}]
[null,{"$f":"IF(F492>=#REF!,1,0)","v":{"$error":"#REF!"}},2668.15,300,null,"2006-02-01",{"$f":"'Índices INSS'!$E$1/VLOOKUP(F492,'Índices INSS'!A:D,4,1)","v":2.0643567890614882}]
[null,{"$f":"IF(F493>=#REF!,1,0)","v":{"$error":"#REF!"}},2668.15,300,null,"2006-03-01",{"$f":"'Índices INSS'!$E$1/VLOOKUP(F493,'Índices INSS'!A:D,4,1)","v":2.0596196638346682}]
[null,{"$f":"IF(F494>=#REF!,1,0)","v":{"$error":"#REF!"}},2801.56,350,null,"2006-04-01",{"$f":"'Índices INSS'!$E$1/VLOOKUP(F494,'Índices INSS'!A:D,4,1)","v":2.0540736649393323}]
[null,{"$f":"IF(F495>=#REF!,1,0)","v":{"$error":"#REF!"}},2801.56,350,null,"2006-05-01",{"$f":"'Índices INSS'!$E$1/VLOOKUP(F495,'Índices INSS'!A:D,4,1)","v":2.0516117308622972}]
[null,{"$f":"IF(F496>=#REF!,1,0)","v":{"$error":"#REF!"}},2801.56,350,null,"2006-06-01",{"$f":"'Índices INSS'!$E$1/VLOOKUP(F496,'Índices INSS'!A:D,4,1)","v":2.0489480983344626}]
[null,{"$f":"IF(F497>=#REF!,1,0)","v":{"$error":"#REF!"}},2801.56,350,null,"2006-07-01",{"$f":"'Índices INSS'!$E$1/VLOOKUP(F497,'Índices INSS'!A:D,4,1)","v":2.0503833666911464}]
[null,{"$f":"IF(F498>=#REF!,1,0)","v":{"$error":"#REF!"}},2801.56,350,null,"2006-08-01",{"$f":"'Índices INSS'!$E$1/VLOOKUP(F498,'Índices INSS'!A:D,4,1)","v":2.0481304232255981}]
[null,{"$f":"IF(F499>=#REF!,1,0)","v":{"$error":"#REF!"}},2801.56,350,null,"2006-09-01",{"$f":"'Índices INSS'!$E$1/VLOOKUP(F499,'Índices INSS'!A:D,4,1)","v":2.0485401312518485}]
[null,{"$f":"IF(F500>=#REF!,1,0)","v":{"$error":"#REF!"}},2801.56,350,null,"2006-10-01",{"$f":"'Índices INSS'!$E$1/VLOOKUP(F500,'Índices INSS'!A:D,4,1)","v":2.0452677029271649}]
[null,{"$f":"IF(F501>=#REF!,1,0)","v":{"$error":"#REF!"}},2801.56,350,null,"2006-11-01",{"$f":"'Índices INSS'!$E$1/VLOOKUP(F501,'Índices INSS'!A:D,4,1)","v":2.0365107068875488}]
[null,{"$f":"IF(F502>=#REF!,1,0)","v":{"$error":"#REF!"}},2801.56,350,null,"2006-12-01",{"$f":"'Índices INSS'!$E$1/VLOOKUP(F502,'Índices INSS'!A:D,4,1)","v":2.0279931357175349}]
[null,{"$f":"IF(F503>=#REF!,1,0)","v":{"$error":"#REF!"}},2801.56,350,null,"2007-01-01",{"$f":"'Índices INSS'!$E$1/VLOOKUP(F503,'Índices INSS'!A:D,4,1)","v":2.0154970539828416}]
[null,{"$f":"IF(F504>=#REF!,1,0)","v":{"$error":"#REF!"}},2801.56,350,null,"2007-02-01",{"$f":"'Índices INSS'!$E$1/VLOOKUP(F504,'Índices INSS'!A:D,4,1)","v":2.0056692745376075}]
[null,{"$f":"IF(F505>=#REF!,1,0)","v":{"$error":"#REF!"}},2801.56,350,null,"2007-03-01",{"$f":"'Índices INSS'!$E$1/VLOOKUP(F505,'Índices INSS'!A:D,4,1)","v":1.9972806956160203}]
[null,{"$f":"IF(F506>=#REF!,1,0)","v":{"$error":"#REF!"}},2894.28,380,null,"2007-04-01",{"$f":"'Índices INSS'!$E$1/VLOOKUP(F506,'Índices INSS'!A:D,4,1)","v":1.9885311585185386}]
[null,{"$f":"IF(F507>=#REF!,1,0)","v":{"$error":"#REF!"}},2894.28,380,null,"2007-05-01",{"$f":"'Índices INSS'!$E$1/VLOOKUP(F507,'Índices INSS'!A:D,4,1)","v":1.9833743851172341}]
[null,{"$f":"IF(F508>=#REF!,1,0)","v":{"$error":"#REF!"}},2894.28,380,null,"2007-06-01",{"$f":"'Índices INSS'!$E$1/VLOOKUP(F508,'Índices INSS'!A:D,4,1)","v":1.9782309845573851}]
[null,{"$f":"IF(F509>=#REF!,1,0)","v":{"$error":"#REF!"}},2894.28,380,null,"2007-07-01",{"$f":"'Índices INSS'!$E$1/VLOOKUP(F509,'Índices INSS'!A:D,4,1)","v":1.9721174205536687}]
[null,{"$f":"IF(F510>=#REF!,1,0)","v":{"$error":"#REF!"}},2894.28,380,null,"2007-08-01",{"$f":"'Índices INSS'!$E$1/VLOOKUP(F510,'Índices INSS'!A:D,4,1)","v":1.9658267748740712}]
[null,{"$f":"IF(F511>=#REF!,1,0)","v":{"$error":"#REF!"}},2894.28,380,null,"2007-09-01",{"$f":"'Índices INSS'!$E$1/VLOOKUP(F511,'Índices INSS'!A:D,4,1)","v":1.9542964259609019}]
[null,{"$f":"IF(F512>=#REF!,1,0)","v":{"$error":"#REF!"}},2894.28,380,null,"2007-10-01",{"$f":"'Índices INSS'!$E$1/VLOOKUP(F512,'Índices INSS'!A:D,4,1)","v":1.9494228687889295}]
[null,{"$f":"IF(F513>=#REF!,1,0)","v":{"$error":"#REF!"}},2894.28,380,null,"2007-11-01",{"$f":"'Índices INSS'!$E$1/VLOOKUP(F513,'Índices INSS'!A:D,4,1)","v":1.9435920925113954}]
[null,{"$f":"IF(F514>=#REF!,1,0)","v":{"$error":"#REF!"}},2894.28,380,null,"2007-12-01",{"$f":"'Índices INSS'!$E$1/VLOOKUP(F514,'Índices INSS'!A:D,4,1)","v":1.9352704296638408}]
[null,{"$f":"IF(F515>=#REF!,1,0)","v":{"$error":"#REF!"}},2894.28,380,null,"2008-01-01",{"$f":"'Índices INSS'!$E$1/VLOOKUP(F515,'Índices INSS'!A:D,4,1)","v":1.9166786467899777}]
[null,{"$f":"IF(F516>=#REF!,1,0)","v":{"$error":"#REF!"}},2894.28,380,null,"2008-02-01",{"$f":"'Índices INSS'!$E$1/VLOOKUP(F516,'Índices INSS'!A:D,4,1)","v":1.9035441918661018}]
[null,{"$f":"IF(F517>=#REF!,1,0)","v":{"$error":"#REF!"}},3038.99,415,null,"2008-03-01",{"$f":"'Índices INSS'!$E$1/VLOOKUP(F517,'Índices INSS'!A:D,4,1)","v":1.8944508278922194}]
[null,{"$f":"IF(F518>=#REF!,1,0)","v":{"$error":"#REF!"}},3038.99,415,null,"2008-04-01",{"$f":"'Índices INSS'!$E$1/VLOOKUP(F518,'Índices INSS'!A:D,4,1)","v":1.8848381533103364}]
[null,{"$f":"IF(F519>=#REF!,1,0)","v":{"$error":"#REF!"}},3038.99,415,null,"2008-05-01",{"$f":"'Índices INSS'!$E$1/VLOOKUP(F519,'Índices INSS'!A:D,4,1)","v":1.8728519011430214}]
[null,{"$f":"IF(F520>=#REF!,1,0)","v":{"$error":"#REF!"}},3038.99,415,null,"2008-06-01",{"$f":"'Índices INSS'!$E$1/VLOOKUP(F520,'Índices INSS'!A:D,4,1)","v":1.8550434836995058}]
[null,{"$f":"IF(F521>=#REF!,1,0)","v":{"$error":"#REF!"}},3038.99,415,null,"2008-07-01",{"$f":"'Índices INSS'!$E$1/VLOOKUP(F521,'Índices INSS'!A:D,4,1)","v":1.8383148188479888}]
[null,{"$f":"IF(F522>=#REF!,1,0)","v":{"$error":"#REF!"}},3038.99,415,null,"2008-08-01",{"$f":"'Índices INSS'!$E$1/VLOOKUP(F522,'Índices INSS'!A:D,4,1)","v":1.8277140772002274}]
[null,{"$f":"IF(F523>=#REF!,1,0)","v":{"$error":"#REF!"}},3038.99,415,null,"2008-09-01",{"$f":"'Índices INSS'!$E$1/VLOOKUP(F523,'Índices INSS'!A:D,4,1)","v":1.8238839209661986}]
[null,{"$f":"IF(F524>=#REF!,1,0)","v":{"$error":"#REF!"}},3038.99,415,null,"2008-10-01",{"$f":"'Índices INSS'!$E$1/VLOOKUP(F524,'Índices INSS'!A:D,4,1)","v":1.8211521926771825}]
[null,{"$f":"IF(F525>=#REF!,1,0)","v":{"$error":"#REF!"}},3038.99,415,null,"2008-11-01",{"$f":"'Índices INSS'!$E$1/VLOOKUP(F525,'Índices INSS'!A:D,4,1)","v":1.8120917340071472}]
[null,{"$f":"IF(F526>=#REF!,1,0)","v":{"$error":"#REF!"}},3038.99,415,null,"2008-12-01",{"$f":"'Índices INSS'!$E$1/VLOOKUP(F526,'Índices INSS'!A:D,4,1)","v":1.8052318529658766}]
[null,{"$f":"IF(F527>=#REF!,1,0)","v":{"$error":"#REF!"}},3038.99,415,null,"2009-01-01",{"$f":"'Índices INSS'!$E$1/VLOOKUP(F527,'Índices INSS'!A:D,4,1)","v":1.8000118186916709}]
[null,{"$f":"IF(F528>=#REF!,1,0)","v":{"$error":"#REF!"}},3218.9,465,null,"2009-02-01",{"$f":"'Índices INSS'!$E$1/VLOOKUP(F528,'Índices INSS'!A:D,4,1)","v":1.7885650026745539}]
[null,{"$f":"IF(F529>=#REF!,1,0)","v":{"$error":"#REF!"}},3218.9,465,null,"2009-03-01",{"$f":"'Índices INSS'!$E$1/VLOOKUP(F529,'Índices INSS'!A:D,4,1)","v":1.7830375861574654}]
[null,{"$f":"IF(F530>=#REF!,1,0)","v":{"$error":"#REF!"}},3218.9,465,null,"2009-04-01",{"$f":"'Índices INSS'!$E$1/VLOOKUP(F530,'Índices INSS'!A:D,4,1)","v":1.779478628899666}]
[null,{"$f":"IF(F531>=#REF!,1,0)","v":{"$error":"#REF!"}},3218.9,465,null,"2009-05-01",{"$f":"'Índices INSS'!$E$1/VLOOKUP(F531,'Índices INSS'!A:D,4,1)","v":1.7697450312279124}]
[null,{"$f":"IF(F532>=#REF!,1,0)","v":{"$error":"#REF!"}},3218.9,465,null,"2009-06-01",{"$f":"'Índices INSS'!$E$1/VLOOKUP(F532,'Índices INSS'!A:D,4,1)","v":1.7591898918766526}]
[null,{"$f":"IF(F533>=#REF!,1,0)","v":{"$error":"#REF!"}},3218.9,465,null,"2009-07-01",{"$f":"'Índices INSS'!$E$1/VLOOKUP(F533,'Índices INSS'!A:D,4,1)","v":1.7518321966507198}]
[null,{"$f":"IF(F534>=#REF!,1,0)","v":{"$error":"#REF!"}},3218.9,465,null,"2009-08-01",{"$f":"'Índices INSS'!$E$1/VLOOKUP(F534,'Índices INSS'!A:D,4,1)","v":1.7478122285251123}]
[null,{"$f":"IF(F535>=#REF!,1,0)","v":{"$error":"#REF!"}},3218.9,465,null,"2009-09-01",{"$f":"'Índices INSS'!$E$1/VLOOKUP(F535,'Índices INSS'!A:D,4,1)","v":1.7464150964479539}]
[null,{"$f":"IF(F536>=#REF!,1,0)","v":{"$error":"#REF!"}},3218.9,465,null,"2009-10-01",{"$f":"'Índices INSS'!$E$1/VLOOKUP(F536,'Índices INSS'!A:D,4,1)","v":1.7436252959743948}]
[null,{"$f":"IF(F537>=#REF!,1,0)","v":{"$error":"#REF!"}},3218.9,465,null,"2009-11-01",{"$f":"'Índices INSS'!$E$1/VLOOKUP(F537,'Índices INSS'!A:D,4,1)","v":1.7394506144995958}]
[null,{"$f":"IF(F538>=#REF!,1,0)","v":{"$error":"#REF!"}},3218.9,465,null,"2009-12-01",{"$f":"'Índices INSS'!$E$1/VLOOKUP(F538,'Índices INSS'!A:D,4,1)","v":1.733038372521267}]
[null,{"$f":"IF(F539>=#REF!,1,0)","v":{"$error":"#REF!"}},3467.4,510,null,"2010-01-01",{"$f":"'Índices INSS'!$E$1/VLOOKUP(F539,'Índices INSS'!A:D,4,1)","v":1.7288890388280795}]
[null,{"$f":"IF(F540>=#REF!,1,0)","v":{"$error":"#REF!"}},3467.4,510,null,"2010-02-01",{"$f":"'Índices INSS'!$E$1/VLOOKUP(F540,'Índices INSS'!A:D,4,1)","v":1.7138075325417126}]
[null,{"$f":"IF(F541>=#REF!,1,0)","v":{"$error":"#REF!"}},3467.4,510,null,"2010-03-01",{"$f":"'Índices INSS'!$E$1/VLOOKUP(F541,'Índices INSS'!A:D,4,1)","v":1.70189427263328}]
[null,{"$f":"IF(F542>=#REF!,1,0)","v":{"$error":"#REF!"}},3467.4,510,null,"2010-04-01",{"$f":"'Índices INSS'!$E$1/VLOOKUP(F542,'Índices INSS'!A:D,4,1)","v":1.6898960109554955}]
[null,{"$f":"IF(F543>=#REF!,1,0)","v":{"$error":"#REF!"}},3467.4,510,null,"2010-05-01",{"$f":"'Índices INSS'!$E$1/VLOOKUP(F543,'Índices INSS'!A:D,4,1)","v":1.677649171999896}]
[null,{"$f":"IF(F544>=#REF!,1,0)","v":{"$error":"#REF!"}},3467.4,510,null,"2010-06-01",{"$f":"'Índices INSS'!$E$1/VLOOKUP(F544,'Índices INSS'!A:D,4,1)","v":1.6704661674797332}]
[null,{"$f":"IF(F545>=#REF!,1,0)","v":{"$error":"#REF!"}},3467.4,510,null,"2010-07-01",{"$f":"'Índices INSS'!$E$1/VLOOKUP(F545,'Índices INSS'!A:D,4,1)","v":1.6723057037538622}]
[null,{"$f":"IF(F546>=#REF!,1,0)","v":{"$error":"#REF!"}},3467.4,510,null,"2010-08-01",{"$f":"'Índices INSS'!$E$1/VLOOKUP(F546,'Índices INSS'!A:D,4,1)","v":1.6734771377502877}]
[null,{"$f":"IF(F547>=#REF!,1,0)","v":{"$error":"#REF!"}},3467.4,510,null,"2010-09-01",{"$f":"'Índices INSS'!$E$1/VLOOKUP(F547,'Índices INSS'!A:D,4,1)","v":1.6746493923249151}]
[null,{"$f":"IF(F548>=#REF!,1,0)","v":{"$error":"#REF!"}},3467.4,510,null,"2010-10-01",{"$f":"'Índices INSS'!$E$1/VLOOKUP(F548,'Índices INSS'!A:D,4,1)","v":1.6656548561019644}]
[null,{"$f":"IF(F549>=#REF!,1,0)","v":{"$error":"#REF!"}},3467.4,510,null,"2010-11-01",{"$f":"'Índices INSS'!$E$1/VLOOKUP(F549,'Índices INSS'!A:D,4,1)","v":1.6504705272512528}]
[null,{"$f":"IF(F550>=#REF!,1,0)","v":{"$error":"#REF!"}},3467.4,510,null,"2010-12-01",{"$f":"'Índices INSS'!$E$1/VLOOKUP(F550,'Índices INSS'!A:D,4,1)","v":1.6336439941119001}]
[null,{"$f":"IF(F551>=#REF!,1,0)","v":{"$error":"#REF!"}},3691.74,540,null,"2011-01-01",{"$f":"'Índices INSS'!$E$1/VLOOKUP(F551,'Índices INSS'!A:D,4,1)","v":1.6239005905684891}]
[null,{"$f":"IF(F552>=#REF!,1,0)","v":{"$error":"#REF!"}},3691.74,540,null,"2011-02-01",{"$f":"'Índices INSS'!$E$1/VLOOKUP(F552,'Índices INSS'!A:D,4,1)","v":1.6087780766479978}]
[null,{"$f":"IF(F553>=#REF!,1,0)","v":{"$error":"#REF!"}},3691.74,545,null,"2011-03-01",{"$f":"'Índices INSS'!$E$1/VLOOKUP(F553,'Índices INSS'!A:D,4,1)","v":1.6001373350387882}]
[null,{"$f":"IF(F554>=#REF!,1,0)","v":{"$error":"#REF!"}},3691.74,545,null,"2011-04-01",{"$f":"'Índices INSS'!$E$1/VLOOKUP(F554,'Índices INSS'!A:D,4,1)","v":1.589645673593074}]
[null,{"$f":"IF(F555>=#REF!,1,0)","v":{"$error":"#REF!"}},3691.74,545,null,"2011-05-01",{"$f":"'Índices INSS'!$E$1/VLOOKUP(F555,'Índices INSS'!A:D,4,1)","v":1.5782820428843067}]
[null,{"$f":"IF(F556>=#REF!,1,0)","v":{"$error":"#REF!"}},3691.74,545,null,"2011-06-01",{"$f":"'Índices INSS'!$E$1/VLOOKUP(F556,'Índices INSS'!A:D,4,1)","v":1.5693368229932452}]
[null,{"$f":"IF(F557>=#REF!,1,0)","v":{"$error":"#REF!"}},3691.74,545,null,"2011-07-01",{"$f":"'Índices INSS'!$E$1/VLOOKUP(F557,'Índices INSS'!A:D,4,1)","v":1.5658918608992669}]
[null,{"$f":"IF(F558>=#REF!,1,0)","v":{"$error":"#REF!"}},3691.74,545,null,"2011-08-01",{"$f":"'Índices INSS'!$E$1/VLOOKUP(F558,'Índices INSS'!A:D,4,1)","v":1.5658918608992669}]
[null,{"$f":"IF(F559>=#REF!,1,0)","v":{"$error":"#REF!"}},3691.74,545,null,"2011-09-01",{"$f":"'Índices INSS'!$E$1/VLOOKUP(F559,'Índices INSS'!A:D,4,1)","v":1.5593426218873399}]
[null,{"$f":"IF(F560>=#REF!,1,0)","v":{"$error":"#REF!"}},3691.74,545,null,"2011-10-01",{"$f":"'Índices INSS'!$E$1/VLOOKUP(F560,'Índices INSS'!A:D,4,1)","v":1.5523570153184072}]
[null,{"$f":"IF(F561>=#REF!,1,0)","v":{"$error":"#REF!"}},3691.74,545,null,"2011-11-01",{"$f":"'Índices INSS'!$E$1/VLOOKUP(F561,'Índices INSS'!A:D,4,1)","v":1.5474053182998475}]
[null,{"$f":"IF(F562>=#REF!,1,0)","v":{"$error":"#REF!"}},3691.74,545,null,"2011-12-01",{"$f":"'Índices INSS'!$E$1/VLOOKUP(F562,'Índices INSS'!A:D,4,1)","v":1.5386350982398802}]
[null,{"$f":"IF(F563>=#REF!,1,0)","v":{"$error":"#REF!"}},3916.2,622,null,"2012-01-01",{"$f":"'Índices INSS'!$E$1/VLOOKUP(F563,'Índices INSS'!A:D,4,1)","v":1.5308278760719132}]
[null,{"$f":"IF(F564>=#REF!,1,0)","v":{"$error":"#REF!"}},3916.2,622,null,"2012-02-01",{"$f":"'Índices INSS'!$E$1/VLOOKUP(F564,'Índices INSS'!A:D,4,1)","v":1.5230602687015353}]
[null,{"$f":"IF(F565>=#REF!,1,0)","v":{"$error":"#REF!"}},3916.2,622,null,"2012-03-01",{"$f":"'Índices INSS'!$E$1/VLOOKUP(F565,'Índices INSS'!A:D,4,1)","v":1.5171434094048561}]
[null,{"$f":"IF(F566>=#REF!,1,0)","v":{"$error":"#REF!"}},3916.2,622,null,"2012-04-01",{"$f":"'Índices INSS'!$E$1/VLOOKUP(F566,'Índices INSS'!A:D,4,1)","v":1.5144174579804914}]
[null,{"$f":"IF(F567>=#REF!,1,0)","v":{"$error":"#REF!"}},3916.2,622,null,"2012-05-01",{"$f":"'Índices INSS'!$E$1/VLOOKUP(F567,'Índices INSS'!A:D,4,1)","v":1.5047868223176584}]
[null,{"$f":"IF(F568>=#REF!,1,0)","v":{"$error":"#REF!"}},3916.2,622,null,"2012-06-01",{"$f":"'Índices INSS'!$E$1/VLOOKUP(F568,'Índices INSS'!A:D,4,1)","v":1.4965557656068207}]
[null,{"$f":"IF(F569>=#REF!,1,0)","v":{"$error":"#REF!"}},3916.2,622,null,"2012-07-01",{"$f":"'Índices INSS'!$E$1/VLOOKUP(F569,'Índices INSS'!A:D,4,1)","v":1.4926748110979662}]
[null,{"$f":"IF(F570>=#REF!,1,0)","v":{"$error":"#REF!"}},3916.2,622,null,"2012-08-01",{"$f":"'Índices INSS'!$E$1/VLOOKUP(F570,'Índices INSS'!A:D,4,1)","v":1.4862837907975368}]
[null,{"$f":"IF(F571>=#REF!,1,0)","v":{"$error":"#REF!"}},3916.2,622,null,"2012-09-01",{"$f":"'Índices INSS'!$E$1/VLOOKUP(F571,'Índices INSS'!A:D,4,1)","v":1.47962547615484}]
[null,{"$f":"IF(F572>=#REF!,1,0)","v":{"$error":"#REF!"}},3916.2,622,null,"2012-10-01",{"$f":"'Índices INSS'!$E$1/VLOOKUP(F572,'Índices INSS'!A:D,4,1)","v":1.4703621943305574}]
[null,{"$f":"IF(F573>=#REF!,1,0)","v":{"$error":"#REF!"}},3916.2,622,null,"2012-11-01",{"$f":"'Índices INSS'!$E$1/VLOOKUP(F573,'Índices INSS'!A:D,4,1)","v":1.4599962211603188}]
[null,{"$f":"IF(F574>=#REF!,1,0)","v":{"$error":"#REF!"}},3916.2,622,null,"2012-12-01",{"$f":"'Índices INSS'!$E$1/VLOOKUP(F574,'Índices INSS'!A:D,4,1)","v":1.4521545863937924}]
[null,{"$f":"IF(F575>=#REF!,1,0)","v":{"$error":"#REF!"}},4159,678,null,"2013-01-01",{"$f":"'Índices INSS'!$E$1/VLOOKUP(F575,'Índices INSS'!A:D,4,1)","v":1.4414875783142667}]
[null,{"$f":"IF(F576>=#REF!,1,0)","v":{"$error":"#REF!"}},4159,678,null,"2013-02-01",{"$f":"'Índices INSS'!$E$1/VLOOKUP(F576,'Índices INSS'!A:D,4,1)","v":1.4283467878659004}]
[null,{"$f":"IF(F577>=#REF!,1,0)","v":{"$error":"#REF!"}},4159,678,null,"2013-03-01",{"$f":"'Índices INSS'!$E$1/VLOOKUP(F577,'Índices INSS'!A:D,4,1)","v":1.4209578072681062}]
[null,{"$f":"IF(F578>=#REF!,1,0)","v":{"$error":"#REF!"}},4159,678,null,"2013-04-01",{"$f":"'Índices INSS'!$E$1/VLOOKUP(F578,'Índices INSS'!A:D,4,1)","v":1.4124829098092504}]
[null,{"$f":"IF(F579>=#REF!,1,0)","v":{"$error":"#REF!"}},4159,678,null,"2013-05-01",{"$f":"'Índices INSS'!$E$1/VLOOKUP(F579,'Índices INSS'!A:D,4,1)","v":1.4041981407786563}]
[null,{"$f":"IF(F580>=#REF!,1,0)","v":{"$error":"#REF!"}},4159,678,null,"2013-06-01",{"$f":"'Índices INSS'!$E$1/VLOOKUP(F580,'Índices INSS'!A:D,4,1)","v":1.3993005887181429}]
[null,{"$f":"IF(F581>=#REF!,1,0)","v":{"$error":"#REF!"}},4159,678,null,"2013-07-01",{"$f":"'Índices INSS'!$E$1/VLOOKUP(F581,'Índices INSS'!A:D,4,1)","v":1.3953934869546698}]
[null,{"$f":"IF(F582>=#REF!,1,0)","v":{"$error":"#REF!"}},4159,678,null,"2013-08-01",{"$f":"'Índices INSS'!$E$1/VLOOKUP(F582,'Índices INSS'!A:D,4,1)","v":1.3972098597723739}]
[null,{"$f":"IF(F583>=#REF!,1,0)","v":{"$error":"#REF!"}},4159,678,null,"2013-09-01",{"$f":"'Índices INSS'!$E$1/VLOOKUP(F583,'Índices INSS'!A:D,4,1)","v":1.3949778951401495}]
[null,{"$f":"IF(F584>=#REF!,1,0)","v":{"$error":"#REF!"}},4159,678,null,"2013-10-01",{"$f":"'Índices INSS'!$E$1/VLOOKUP(F584,'Índices INSS'!A:D,4,1)","v":1.391221596828712}]
[null,{"$f":"IF(F585>=#REF!,1,0)","v":{"$error":"#REF!"}},4159,678,null,"2013-11-01",{"$f":"'Índices INSS'!$E$1/VLOOKUP(F585,'Índices INSS'!A:D,4,1)","v":1.3827865985773899}]
[null,{"$f":"IF(F586>=#REF!,1,0)","v":{"$error":"#REF!"}},4159,678,null,"2013-12-01",{"$f":"'Índices INSS'!$E$1/VLOOKUP(F586,'Índices INSS'!A:D,4,1)","v":1.3753596564326536}]
[null,{"$f":"IF(F587>=#REF!,1,0)","v":{"$error":"#REF!"}},4390.24,724,null,"2014-01-01",{"$f":"'Índices INSS'!$E$1/VLOOKUP(F587,'Índices INSS'!A:D,4,1)","v":1.3655278558703867}]
[null,{"$f":"IF(F588>=#REF!,1,0)","v":{"$error":"#REF!"}},4390.24,724,null,"2014-02-01",{"$f":"'Índices INSS'!$E$1/VLOOKUP(F588,'Índices INSS'!A:D,4,1)","v":1.3569788888705026}]
[null,{"$f":"IF(F589>=#REF!,1,0)","v":{"$error":"#REF!"}},4390.24,724,null,"2014-03-01",{"$f":"'Índices INSS'!$E$1/VLOOKUP(F589,'Índices INSS'!A:D,4,1)","v":1.3483494523753008}]
[null,{"$f":"IF(F590>=#REF!,1,0)","v":{"$error":"#REF!"}},4390.24,724,null,"2014-04-01",{"$f":"'Índices INSS'!$E$1/VLOOKUP(F590,'Índices INSS'!A:D,4,1)","v":1.3373829124928593}]
[null,{"$f":"IF(F591>=#REF!,1,0)","v":{"$error":"#REF!"}},4390.24,724,null,"2014-05-01",{"$f":"'Índices INSS'!$E$1/VLOOKUP(F591,'Índices INSS'!A:D,4,1)","v":1.3270320624060918}]
[null,{"$f":"IF(F592>=#REF!,1,0)","v":{"$error":"#REF!"}},4390.24,724,null,"2014-06-01",{"$f":"'Índices INSS'!$E$1/VLOOKUP(F592,'Índices INSS'!A:D,4,1)","v":1.3191173582565527}]
[null,{"$f":"IF(F593>=#REF!,1,0)","v":{"$error":"#REF!"}},4390.24,724,null,"2014-07-01",{"$f":"'Índices INSS'!$E$1/VLOOKUP(F593,'Índices INSS'!A:D,4,1)","v":1.315696547233745}]
[null,{"$f":"IF(F594>=#REF!,1,0)","v":{"$error":"#REF!"}},4390.24,724,null,"2014-08-01",{"$f":"'Índices INSS'!$E$1/VLOOKUP(F594,'Índices INSS'!A:D,4,1)","v":1.3139883623626736}]
[null,{"$f":"IF(F595>=#REF!,1,0)","v":{"$error":"#REF!"}},4390.24,724,null,"2014-09-01",{"$f":"'Índices INSS'!$E$1/VLOOKUP(F595,'Índices INSS'!A:D,4,1)","v":1.3116274329833035}]
[null,{"$f":"IF(F596>=#REF!,1,0)","v":{"$error":"#REF!"}},4390.24,724,null,"2014-10-01",{"$f":"'Índices INSS'!$E$1/VLOOKUP(F596,'Índices INSS'!A:D,4,1)","v":1.3052317971771359}]
[null,{"$f":"IF(F597>=#REF!,1,0)","v":{"$error":"#REF!"}},4390.24,724,null,"2014-11-01",{"$f":"'Índices INSS'!$E$1/VLOOKUP(F597,'Índices INSS'!A:D,4,1)","v":1.3002906925454629}]
[null,{"$f":"IF(F598>=#REF!,1,0)","v":{"$error":"#REF!"}},4390.24,724,null,"2014-12-01",{"$f":"'Índices INSS'!$E$1/VLOOKUP(F598,'Índices INSS'!A:D,4,1)","v":1.2934354844777309}]
[null,{"$f":"IF(F599>=#REF!,1,0)","v":{"$error":"#REF!"}},4663.75,788,null,"2015-01-01",{"$f":"'Índices INSS'!$E$1/VLOOKUP(F599,'Índices INSS'!A:D,4,1)","v":1.2854655977715475}]
[null,{"$f":"IF(F600>=#REF!,1,0)","v":{"$error":"#REF!"}},4663.75,788,null,"2015-02-01",{"$f":"'Índices INSS'!$E$1/VLOOKUP(F600,'Índices INSS'!A:D,4,1)","v":1.2667181688722384}]
[null,{"$f":"IF(F601>=#REF!,1,0)","v":{"$error":"#REF!"}},4663.75,788,null,"2015-03-01",{"$f":"'Índices INSS'!$E$1/VLOOKUP(F601,'Índices INSS'!A:D,4,1)","v":1.2521927331674954}]
[null,{"$f":"IF(F602>=#REF!,1,0)","v":{"$error":"#REF!"}},4663.75,788,null,"2015-04-01",{"$f":"'Índices INSS'!$E$1/VLOOKUP(F602,'Índices INSS'!A:D,4,1)","v":1.2335658882548473}]
[null,{"$f":"IF(F603>=#REF!,1,0)","v":{"$error":"#REF!"}},4663.75,788,null,"2015-05-01",{"$f":"'Índices INSS'!$E$1/VLOOKUP(F603,'Índices INSS'!A:D,4,1)","v":1.2248693161104629}]
[null,{"$f":"IF(F604>=#REF!,1,0)","v":{"$error":"#REF!"}},4663.75,788,null,"2015-06-01",{"$f":"'Índices INSS'!$E$1/VLOOKUP(F604,'Índices INSS'!A:D,4,1)","v":1.2128619824838724}]
[null,{"$f":"IF(F605>=#REF!,1,0)","v":{"$error":"#REF!"}},4663.75,788,null,"2015-07-01",{"$f":"'Índices INSS'!$E$1/VLOOKUP(F605,'Índices INSS'!A:D,4,1)","v":1.2035943063251688}]
[null,{"$f":"IF(F606>=#REF!,1,0)","v":{"$error":"#REF!"}},4663.75,788,null,"2015-08-01",{"$f":"'Índices INSS'!$E$1/VLOOKUP(F606,'Índices INSS'!A:D,4,1)","v":1.1966537147794478}]
[null,{"$f":"IF(F607>=#REF!,1,0)","v":{"$error":"#REF!"}},4663.75,788,null,"2015-09-01",{"$f":"'Índices INSS'!$E$1/VLOOKUP(F607,'Índices INSS'!A:D,4,1)","v":1.1936695409271301}]
[null,{"$f":"IF(F608>=#REF!,1,0)","v":{"$error":"#REF!"}},4663.75,788,null,"2015-10-01",{"$f":"'Índices INSS'!$E$1/VLOOKUP(F608,'Índices INSS'!A:D,4,1)","v":1.1876127160751468}]
[null,{"$f":"IF(F609>=#REF!,1,0)","v":{"$error":"#REF!"}},4663.75,788,null,"2015-11-01",{"$f":"'Índices INSS'!$E$1/VLOOKUP(F609,'Índices INSS'!A:D,4,1)","v":1.1785379736778274}]
[null,{"$f":"IF(F610>=#REF!,1,0)","v":{"$error":"#REF!"}},4663.75,788,null,"2015-12-01",{"$f":"'Índices INSS'!$E$1/VLOOKUP(F610,'Índices INSS'!A:D,4,1)","v":1.1655998157232987}]
[null,{"$f":"IF(F611>=#REF!,1,0)","v":{"$error":"#REF!"}},5189.82,880,null,"2016-01-01",{"$f":"'Índices INSS'!$E$1/VLOOKUP(F611,'Índices INSS'!A:D,4,1)","v":1.1552029888238839}]
[null,{"$f":"IF(F612>=#REF!,1,0)","v":{"$error":"#REF!"}},5189.82,880,null,"2016-02-01",{"$f":"'Índices INSS'!$E$1/VLOOKUP(F612,'Índices INSS'!A:D,4,1)","v":1.1380189033828036}]
[null,{"$f":"IF(F613>=#REF!,1,0)","v":{"$error":"#REF!"}},5189.82,880,null,"2016-03-01",{"$f":"'Índices INSS'!$E$1/VLOOKUP(F613,'Índices INSS'!A:D,4,1)","v":1.127309463479746}]
[null,{"$f":"IF(F614>=#REF!,1,0)","v":{"$error":"#REF!"}},5189.82,880,null,"2016-04-01",{"$f":"'Índices INSS'!$E$1/VLOOKUP(F614,'Índices INSS'!A:D,4,1)","v":1.1223710309435944}]
[null,{"$f":"IF(F615>=#REF!,1,0)","v":{"$error":"#REF!"}},5189.82,880,null,"2016-05-01",{"$f":"'Índices INSS'!$E$1/VLOOKUP(F615,'Índices INSS'!A:D,4,1)","v":1.1152335363112027}]
[null,{"$f":"IF(F616>=#REF!,1,0)","v":{"$error":"#REF!"}},5189.82,880,null,"2016-06-01",{"$f":"'Índices INSS'!$E$1/VLOOKUP(F616,'Índices INSS'!A:D,4,1)","v":1.1044103152220268}]
[null,{"$f":"IF(F617>=#REF!,1,0)","v":{"$error":"#REF!"}},5189.82,880,null,"2016-07-01",{"$f":"'Índices INSS'!$E$1/VLOOKUP(F617,'Índices INSS'!A:D,4,1)","v":1.0992438690375506}]
[null,{"$f":"IF(F618>=#REF!,1,0)","v":{"$error":"#REF!"}},5189.82,880,null,"2016-08-01",{"$f":"'Índices INSS'!$E$1/VLOOKUP(F618,'Índices INSS'!A:D,4,1)","v":1.0922534469768983}]
[null,{"$f":"IF(F619>=#REF!,1,0)","v":{"$error":"#REF!"}},5189.82,880,null,"2016-09-01",{"$f":"'Índices INSS'!$E$1/VLOOKUP(F619,'Índices INSS'!A:D,4,1)","v":1.0888779254081331}]
[null,{"$f":"IF(F620>=#REF!,1,0)","v":{"$error":"#REF!"}},5189.82,880,null,"2016-10-01",{"$f":"'Índices INSS'!$E$1/VLOOKUP(F620,'Índices INSS'!A:D,4,1)","v":1.0880075193926191}]
[null,{"$f":"IF(F621>=#REF!,1,0)","v":{"$error":"#REF!"}},5189.82,880,null,"2016-11-01",{"$f":"'Índices INSS'!$E$1/VLOOKUP(F621,'Índices INSS'!A:D,4,1)","v":1.0861610456150734}]
[null,{"$f":"IF(F622>=#REF!,1,0)","v":{"$error":"#REF!"}},5189.82,880,null,"2016-12-01",{"$f":"'Índices INSS'!$E$1/VLOOKUP(F622,'Índices INSS'!A:D,4,1)","v":1.0854012647297626}]
[null,{"$f":"IF(F623>=#REF!,1,0)","v":{"$error":"#REF!"}},5531.31,937,null,"2017-01-01",{"$f":"'Índices INSS'!$E$1/VLOOKUP(F623,'Índices INSS'!A:D,4,1)","v":1.0838838273714426}]
[null,{"$f":"IF(F624>=#REF!,1,0)","v":{"$error":"#REF!"}},5531.31,937,null,"2017-02-01",{"$f":"'Índices INSS'!$E$1/VLOOKUP(F624,'Índices INSS'!A:D,4,1)","v":1.0793505550402736}]
[null,{"$f":"IF(F625>=#REF!,1,0)","v":{"$error":"#REF!"}},5531.31,937,null,"2017-03-01",{"$f":"'Índices INSS'!$E$1/VLOOKUP(F625,'Índices INSS'!A:D,4,1)","v":1.0767663158821563}]
[null,{"$f":"IF(F626>=#REF!,1,0)","v":{"$error":"#REF!"}},5531.31,937,null,"2017-04-01",{"$f":"'Índices INSS'!$E$1/VLOOKUP(F626,'Índices INSS'!A:D,4,1)","v":1.0733316545874763}]
[null,{"$f":"IF(F627>=#REF!,1,0)","v":{"$error":"#REF!"}},5531.31,937,null,"2017-05-01",{"$f":"'Índices INSS'!$E$1/VLOOKUP(F627,'Índices INSS'!A:D,4,1)","v":1.0724736756469588}]
[null,{"$f":"IF(F628>=#REF!,1,0)","v":{"$error":"#REF!"}},5531.31,937,null,"2017-06-01",{"$f":"'Índices INSS'!$E$1/VLOOKUP(F628,'Índices INSS'!A:D,4,1)","v":1.0686266198156225}]
[null,{"$f":"IF(F629>=#REF!,1,0)","v":{"$error":"#REF!"}},5531.31,937,null,"2017-07-01",{"$f":"'Índices INSS'!$E$1/VLOOKUP(F629,'Índices INSS'!A:D,4,1)","v":1.0718421462543857}]
[null,{"$f":"IF(F630>=#REF!,1,0)","v":{"$error":"#REF!"}},5531.31,937,null,"2017-08-01",{"$f":"'Índices INSS'!$E$1/VLOOKUP(F630,'Índices INSS'!A:D,4,1)","v":1.0700231069725323}]
[null,{"$f":"IF(F631>=#REF!,1,0)","v":{"$error":"#REF!"}},5531.31,937,null,"2017-09-01",{"$f":"'Índices INSS'!$E$1/VLOOKUP(F631,'Índices INSS'!A:D,4,1)","v":1.0703442102356031}]
[null,{"$f":"IF(F632>=#REF!,1,0)","v":{"$error":"#REF!"}},5531.31,937,null,"2017-10-01",{"$f":"'Índices INSS'!$E$1/VLOOKUP(F632,'Índices INSS'!A:D,4,1)","v":1.070558321899983}]
[null,{"$f":"IF(F633>=#REF!,1,0)","v":{"$error":"#REF!"}},5531.31,937,null,"2017-11-01",{"$f":"'Índices INSS'!$E$1/VLOOKUP(F633,'Índices INSS'!A:D,4,1)","v":1.0666118580252892}]
[null,{"$f":"IF(F634>=#REF!,1,0)","v":{"$error":"#REF!"}},5531.31,937,null,"2017-12-01",{"$f":"'Índices INSS'!$E$1/VLOOKUP(F634,'Índices INSS'!A:D,4,1)","v":1.0646954062939602}]
[null,{"$f":"IF(F635>=#REF!,1,0)","v":{"$error":"#REF!"}},5645.8,954,null,"2018-01-01",{"$f":"'Índices INSS'!$E$1/VLOOKUP(F635,'Índices INSS'!A:D,4,1)","v":1.061934376913984}]
[null,{"$f":"IF(F636>=#REF!,1,0)","v":{"$error":"#REF!"}},5645.8,954,null,"2018-02-01",{"$f":"'Índices INSS'!$E$1/VLOOKUP(F636,'Índices INSS'!A:D,4,1)","v":1.059497532589029}]
[null,{"$f":"IF(F637>=#REF!,1,0)","v":{"$error":"#REF!"}},5645.8,954,null,"2018-03-01",{"$f":"'Índices INSS'!$E$1/VLOOKUP(F637,'Índices INSS'!A:D,4,1)","v":1.057593863634487}]
[null,{"$f":"IF(F638>=#REF!,1,0)","v":{"$error":"#REF!"}},5645.8,954,null,"2018-04-01",{"$f":"'Índices INSS'!$E$1/VLOOKUP(F638,'Índices INSS'!A:D,4,1)","v":1.0568540657884353}]
[null,{"$f":"IF(F639>=#REF!,1,0)","v":{"$error":"#REF!"}},5645.8,954,null,"2018-05-01",{"$f":"'Índices INSS'!$E$1/VLOOKUP(F639,'Índices INSS'!A:D,4,1)","v":1.0546393232096949}]
[null,{"$f":"IF(F640>=#REF!,1,0)","v":{"$error":"#REF!"}},5645.8,954,null,"2018-06-01",{"$f":"'Índices INSS'!$E$1/VLOOKUP(F640,'Índices INSS'!A:D,4,1)","v":1.050123790908787}]
[null,{"$f":"IF(F641>=#REF!,1,0)","v":{"$error":"#REF!"}},5645.8,954,null,"2018-07-01",{"$f":"'Índices INSS'!$E$1/VLOOKUP(F641,'Índices INSS'!A:D,4,1)","v":1.0353187330265081}]
[null,{"$f":"IF(F642>=#REF!,1,0)","v":{"$error":"#REF!"}},5645.8,954,null,"2018-08-01",{"$f":"'Índices INSS'!$E$1/VLOOKUP(F642,'Índices INSS'!A:D,4,1)","v":1.0327368907995094}]
[null,{"$f":"IF(F643>=#REF!,1,0)","v":{"$error":"#REF!"}},5645.8,954,null,"2018-09-01",{"$f":"'Índices INSS'!$E$1/VLOOKUP(F643,'Índices INSS'!A:D,4,1)","v":1.0327368907995094}]
[null,{"$f":"IF(F644>=#REF!,1,0)","v":{"$error":"#REF!"}},5645.8,954,null,"2018-10-01",{"$f":"'Índices INSS'!$E$1/VLOOKUP(F644,'Índices INSS'!A:D,4,1)","v":1.0296479469586337}]
[null,{"$f":"IF(F645>=#REF!,1,0)","v":{"$error":"#REF!"}},5645.8,954,null,"2018-11-01",{"$f":"'Índices INSS'!$E$1/VLOOKUP(F645,'Índices INSS'!A:D,4,1)","v":1.0255457639030214}]
[null,{"$f":"IF(F646>=#REF!,1,0)","v":{"$error":"#REF!"}},5645.8,954,null,"2018-12-01",{"$f":"'Índices INSS'!$E$1/VLOOKUP(F646,'Índices INSS'!A:D,4,1)","v":1.0281160540381169}]
[null,{"$f":"IF(F647>=#REF!,1,0)","v":{"$error":"#REF!"}},5839.45,998,null,"2019-01-01",{"$f":"'Índices INSS'!$E$1/VLOOKUP(F647,'Índices INSS'!A:D,4,1)","v":1.026678703852723}]
[null,{"$f":"IF(F648>=#REF!,1,0)","v":{"$error":"#REF!"}},5839.45,998,null,"2019-02-01",{"$f":"'Índices INSS'!$E$1/VLOOKUP(F648,'Índices INSS'!A:D,4,1)","v":1.0229959185459574}]
[null,{"$f":"IF(F649>=#REF!,1,0)","v":{"$error":"#REF!"}},5839.45,998,null,"2019-03-01",{"$f":"'Índices INSS'!$E$1/VLOOKUP(F649,'Índices INSS'!A:D,4,1)","v":1.0175014109269518}]
[null,{"$f":"IF(F650>=#REF!,1,0)","v":{"$error":"#REF!"}},5839.45,998,null,"2019-04-01",{"$f":"'Índices INSS'!$E$1/VLOOKUP(F650,'Índices INSS'!A:D,4,1)","v":1.0097265167479923}]
[null,{"$f":"IF(F651>=#REF!,1,0)","v":{"$error":"#REF!"}},5839.45,998,null,"2019-05-01",{"$f":"'Índices INSS'!$E$1/VLOOKUP(F651,'Índices INSS'!A:D,4,1)","v":1.0037042910019804}]
[null,{"$f":"IF(F652>=#REF!,1,0)","v":{"$error":"#REF!"}},5839.45,998,null,"2019-06-01",{"$f":"'Índices INSS'!$E$1/VLOOKUP(F652,'Índices INSS'!A:D,4,1)","v":1.0022009895177038}]
[null,{"$f":"IF(F653>=#REF!,1,0)","v":{"$error":"#REF!"}},5839.45,998,null,"2019-07-01",{"$f":"'Índices INSS'!$E$1/VLOOKUP(F653,'Índices INSS'!A:D,4,1)","v":1.0021007794397598}]
[null,{"$f":"IF(F654>=#REF!,1,0)","v":{"$error":"#REF!"}},5839.45,998,null,"2019-08-01",{"$f":"'Índices INSS'!$E$1/VLOOKUP(F654,'Índices INSS'!A:D,4,1)","v":1.00109967976}]
[null,{"$f":"IF(F655>=#REF!,1,0)","v":{"$error":"#REF!"}},5839.45,998,null,"2019-09-01",{"$f":"'Índices INSS'!$E$1/VLOOKUP(F655,'Índices INSS'!A:D,4,1)","v":0.99989979999999989}]
[null,{"$f":"IF(F656>=#REF!,1,0)","v":{"$error":"#REF!"}},5839.45,998,null,"2019-10-01",{"$f":"'Índices INSS'!$E$1/VLOOKUP(F656,'Índices INSS'!A:D,4,1)","v":1.0004}]
[null,{"$f":"IF(F657>=#REF!,1,0)","v":{"$error":"#REF!"}},5839.45,998,null,"2019-11-01",{"$f":"'Índices INSS'!$E$1/VLOOKUP(F657,'Índices INSS'!A:D,4,1)","v":1}]
[null,null,6101.06,null,null,null,"Total:"]

{"sheet":"Índices INSS","index":1,"n_rows":1634,"n_cols":5,"rows_kept":1634,"cut":false,"hidden":false,"merged":[[0,0,0,3]]}
["INSS",null,null,null,{"$f":"VLOOKUP(RMI!D3,A:D,4,1)","v":8.5296871750375359E-3}]
["Data","Variação Mensal %","Índices Mensais","Variação Acumulada"]
["1964-01-01"]
["1964-02-01"]
["1964-03-01"]
["1964-04-01"]
["1964-05-01"]
["1964-06-01"]
["1964-07-01"]
["1964-08-01"]
["1964-09-01"]
["1964-10-01"]
["1964-11-01",0]
["1964-12-01",0]
["1965-01-01",0.13,{"$f":"B15+1","v":1.1299999999999999},1]
["1965-02-01",0,{"$f":"B16+1","v":1},{"$f":"D15*C16","v":1}]
["1965-03-01",0,1,{"$f":"D16*C17","v":1}]
["1965-04-01",0.1858407,1.1858407,1.1858407]
["1965-05-01",0,1,1.1858407]
["1965-06-01",0,1,1.1858407]
["1965-07-01",0.13432840000000001,1.1343284,1.34513278388588]
["1965-08-01",0,1,1.34513278388588]
["1965-09-01",3.2894699999999999E-2,1.0328946999999999,1.3893805232719707]
["1965-10-01",1.2738899999999999E-2,1.0127389,1.40707970281988]
["1965-11-01",9.4339999999999997E-3,1.0094339999999999,1.4203540927362828]
["1965-12-01",1.5576300000000001E-2,1.0155763,1.4424779541909709]
["1966-01-01",1.8404899999999998E-2,1.0184048999999999,1.4690266166900603]
["1966-02-01",5.4216899999999998E-2,1.0542168999999999,1.5486726858644835]
["1966-03-01",-1.1428600000000001E-2,0.98857139999999999,1.5309735252068126]
["1966-04-01",1.7340999999999999E-2,1.0173410000000001,1.5575221371074239]
["1966-05-01",3.8636400000000001E-2,1.0386363999999999,1.6176991854055611]
["1966-06-01",4.4310700000000001E-2,1.0443107,1.6893805687003114]
["1966-07-01",4.0859100000000002E-2,1.0408591,1.7584071382948943]
["1966-08-01",2.8183199999999999E-2,1.0281832,1.8079646783548868]
["1966-09-01",2.8389600000000001E-2,1.0283895999999999,1.8592920723875106]
["1966-10-01",2.8557800000000001E-2,1.0285578,1.9123893635323386]
["1966-11-01",2.6376699999999999E-2,1.0263766999999999,1.9628318840574219]
["1966-12-01",2.2993700000000002E-2,1.0229937,2.007964651549873]
["1967-01-01",2.3799000000000001E-2,1.0237989999999999,2.0557522022921084]
["1967-02-01",2.3676300000000001E-2,1.0236763,{"$f":"(D39/1000)*C40","v":2.1044248081592372E-3}]
["1967-03-01",2.1026099999999999E-2,1.0210261,{"$f":"D40*C41","v":2.1486726546180741E-3}]
["1967-04-01",1.4827E-2,1.0148269999999999,{"$f":"D41*C42","v":2.1805310240680959E-3}]
["1967-05-01",1.50162E-2,1.0150162,2.2132743140317072E-3]
["1967-06-01",1.79928E-2,1.0179928,2.2530973161092168E-3]
["1967-07-01",2.8279700000000001E-2,1.0282796999999999,2.3168142322795905E-3]
["1967-08-01",2.5210099999999999E-2,1.0252101,2.3752213507567824E-3]
["1967-09-01",1.5275700000000001E-2,1.0152756999999999,2.4115045195445377E-3]
["1967-10-01",4.7705999999999998E-3,1.0047706000000001,2.423008843005477E-3]
["1967-11-01",6.9394000000000001E-3,1.0069394,2.4398230705706295E-3]
["1967-12-01",1.41458E-2,1.0141458000000001,2.4743363197623075E-3]
["1968-01-01",1.8598E-2,1.0185979999999999,2.5203540266372465E-3]
["1968-02-01",1.7556200000000001E-2,1.0175562,2.5646018659996953E-3]
["1968-03-01",1.4492799999999998E-2,1.0144928,2.6017701279232555E-3]
["1968-04-01",1.4625900000000001E-2,1.0146259,2.6398233576372483E-3]
["1968-05-01",1.8773100000000001E-2,1.0187731,2.6893810255125081E-3]
["1968-06-01",2.66535E-2,1.0266535000000001,2.761062442676006E-3]
["1968-07-01",2.8525599999999998E-2,1.0285256,2.8398234054908046E-3]
["1968-08-01",2.2436899999999999E-2,1.0224369,2.9035402392574611E-3]
["1968-09-01",1.8287100000000001E-2,1.0182871,2.9566375699667862E-3]
["1968-10-01",1.40676E-2,1.0140676,2.9982303646460509E-3]
["1968-11-01",1.50531E-2,1.0150531,3.0433630261481044E-3]
["1968-12-01",1.6283800000000001E-2,1.0162838000000001,3.0929205409932952E-3]
["1969-01-01",1.9170199999999998E-2,1.0191702,3.152212446348245E-3]
["1969-02-01",1.8248200000000003E-2,1.0182481999999999,3.2097346495116967E-3]
["1969-03-01",1.7645399999999999E-2,1.0176453999999999,3.2663717012961901E-3]
["1969-04-01",1.40883E-2,1.0140883000000001,3.3123893257355616E-3]
["1969-05-01",1.54956E-2,1.0154955999999999,3.3637167857714294E-3]
["1969-06-01",1.23652E-2,1.0123652000000001,3.4053098165708505E-3]
["1969-07-01",1.3513500000000001E-2,1.0135135,3.4513274707770806E-3]
["1969-08-01",6.9230999999999997E-3,1.0069231000000001,3.4752213559900175E-3]
["1969-09-01",7.3848000000000004E-3,1.0073848000000001,3.5008851706597329E-3]
["1969-10-01",9.1000999999999999E-3,1.0091000999999999,3.5327435758012535E-3]
["1969-11-01",1.6282600000000001E-2,1.0162826,3.5902658263485951E-3]
["1969-12-01",2.0951399999999998E-2,1.0209514,3.6654869217827546E-3]
["1970-01-01",2.2452899999999998E-2,1.0224529,3.7477877330888507E-3]
["1970-02-01",2.24321E-2,1.0224321000000001,3.8318584822962733E-3]
["1970-03-01",2.00924E-2,1.0200924,3.908849715665963E-3]
["1970-04-01",1.1319900000000001E-2,1.0113198999999999,3.9530975035623299E-3]
["1970-05-01",9.1783999999999998E-3,{"$f":"B79+1","v":1.0091783999999999},3.9893806136890256E-3]
["1970-06-01",9.3168000000000001E-3,1.0093167999999999,4.0265488749906429E-3]
["1970-07-01",1.53846E-2,1.0153846,4.0884957188128236E-3]
["1970-08-01",8.8745000000000004E-3,1.0088744999999999,4.124779074069428E-3]
["1970-09-01",9.4399999999999987E-3,1.0094399999999999,4.1637169885286431E-3]
["1970-10-01",1.19022E-2,1.0119022,4.2132743808695082E-3]
["1970-11-01",1.89036E-2,1.0189036,4.2929204344557131E-3]
["1970-12-01",2.1232700000000004E-2,1.0212327000000001,4.3840707261643816E-3]
["1971-01-01",1.95801E-2,1.0195801,4.4699112693897527E-3]
["1971-02-01",1.84122E-2,1.0184122,4.5522121696640111E-3]
["1971-03-01",1.32193E-2,1.0132193,4.6123892279984506E-3]
["1971-04-01",9.9769999999999998E-3,1.0099769999999999,4.6584070353261906E-3]
["1971-05-01",1.15882E-2,1.0115882,4.7123895877329578E-3]
["1971-06-01",1.42723E-2,1.0142723,4.7796462256459588E-3]
["1971-07-01",1.9811200000000001E-2,1.0198111999999999,4.8743367529514754E-3]
["1971-08-01",1.9971000000000003E-2,1.019971,4.971682132244669E-3]
["1971-09-01",2.1003899999999999E-2,1.0210039,5.0761068465821225E-3]
["1971-10-01",2.1792199999999998E-2,1.0217921999999999,5.1867263822042093E-3]
["1971-11-01",2.0133100000000001E-2,1.0201331,5.2911512631297645E-3]
["1971-12-01",1.6390700000000001E-2,1.0163907000000001,5.3778769361383458E-3]
["1972-01-01",1.2341599999999999E-2,1.0123416000000001,5.4442485421333916E-3]
["1972-02-01",1.20286E-2,1.0120286000000001,5.5097352301472979E-3]
["1972-03-01",1.3331200000000001E-2,1.0133312000000001,5.5831866124474378E-3]
["1972-04-01",1.14123E-2,1.0114122999999999,5.6469036130246709E-3]
["1972-05-01",1.3320799999999999E-2,1.0133208,5.7221248866730504E-3]
["1972-06-01",1.6857400000000002E-2,1.0168573999999999,5.8185850347376522E-3]
["1972-07-01",1.7946799999999999E-2,1.0179468,5.9230100166390819E-3]
["1972-08-01",1.4343300000000002E-2,1.0143432999999999,{"$f":"D105*C106","v":6.0079655262107413E-3}]
["1972-09-01",8.3958999999999995E-3,1.0083959,6.0584078039722543E-3]
["1972-10-01",7.1574999999999998E-3,1.0071574999999999,6.1017708578291856E-3]
["1972-11-01",9.5721999999999995E-3,1.0095722,6.1601782288344979E-3]
["1972-12-01",6.6083000000000001E-3,1.0066082999999999,6.2008865346241046E-3]
["1973-01-01",1.1417200000000001E-2,1.0114171999999999,6.2716832963672147E-3]
["1973-02-01",9.8772000000000009E-3,1.0098772,6.3336299666220935E-3]
["1973-03-01",1.04793E-2,1.0104793000000001,6.4000019751313166E-3]
["1973-04-01",1.20299E-2,1.0120298999999999,6.4769933588919486E-3]
["1973-05-01",1.1476999999999999E-2,1.011477,6.5513298116719508E-3]
["1973-06-01",1.26976E-2,1.0126976000000001,6.6345159770886371E-3]
["1973-07-01",1.10711E-2,1.0110711000000001,6.7079673669225839E-3]
["1973-08-01",8.9709999999999998E-3,1.0089710000000001,6.7681445421712465E-3]
["1973-09-01",8.3681999999999993E-3,1.0083682,6.8247817293290445E-3]
["1973-10-01",9.7251000000000004E-3,1.0097251,6.8911534141249424E-3]
["1973-11-01",6.8062000000000001E-3,1.0068062,6.9380559824921591E-3]
["1973-12-01",8.5459000000000004E-3,1.0085459000000001,6.9973479151129395E-3]
["1974-01-01",1.9602899999999999E-2,1.0196029,7.1345162265581069E-3]
["1974-02-01",1.05433E-2,1.0105432999999999,7.2097375714895761E-3]
["1974-03-01",1.49748E-2,1.0149748000000001,7.3177019496751183E-3]
["1974-04-01",1.2577100000000001E-2,1.0125770999999999,7.4097374188663761E-3]
["1974-05-01",1.6362100000000001E-2,1.0163621,7.5309762834876101E-3]
["1974-06-01",2.1269099999999999E-2,1.0212691,7.6911533711587366E-3]
["1974-07-01",3.3252799999999999E-2,1.0332528000000001,7.9469057559792052E-3]
["1974-08-01",4.3986599999999994E-2,1.0439866,8.2964631207051599E-3]
["1974-09-01",4.768E-2,1.0476799999999999,8.6920384823003811E-3]
["1974-10-01",3.7466899999999997E-2,1.0374669000000001,9.0177022189128816E-3]
["1974-11-01",2.1589800000000003E-2,1.0215898000000001,9.2123926062787683E-3]
["1974-12-01",1.2584100000000001E-2,1.0125841,9.3283222760754403E-3]
["1975-01-01",1.28071E-2,1.0128071000000001,9.4477910322973667E-3]
["1975-02-01",1.5174200000000001E-2,1.0151741999999999,9.5911537029796518E-3]
["1975-03-01",1.66082E-2,1.0166082000000001,9.7504455019094792E-3]
["1975-04-01",1.8787399999999999E-2,1.0187873999999999,9.933631021732052E-3]
["1975-05-01",1.9955500000000001E-2,1.0199555,1.0131861595586227E-2]
["1975-06-01",2.3058800000000001E-2,1.0230588,1.0365490165746531E-2]
["1975-07-01",1.82703E-2,1.0182703,1.0554870780721769E-2]
["1975-08-01",1.7104100000000001E-2,1.0171041000000001,1.0735402346042313E-2]
["1975-09-01",1.5579900000000001E-2,{"$f":"B143+1","v":1.0155799000000001},1.0902658841053419E-2]
["1975-10-01",2.02922E-2,1.0202922000000001,1.1123897774787844E-2]
["1975-11-01",2.1718399999999999E-2,1.0217183999999999,1.1365491036219795E-2]
["1975-12-01",1.9465900000000001E-2,1.0194658999999999,1.1586730548181745E-2]
["1976-01-01",1.8406800000000001E-2,1.0184067999999999,1.1800005180036016E-2]
["1976-02-01",1.9199000000000001E-2,1.019199,1.2026553479487527E-2]
["1976-03-01",2.2369400000000001E-2,1.0223694000000001,1.2295580264891576E-2]
["1976-04-01",2.3751299999999999E-2,1.0237513,1.2587616280437097E-2]
["1976-05-01",2.24269E-2,1.0224268999999999,1.286991749199683E-2]
["1976-06-01",3.2593000000000004E-2,1.0325930000000001,1.3289386712813484E-2]
["1976-07-01",2.9499900000000003E-2,1.0294999,1.3681422291902811E-2]
["1976-08-01",2.5549800000000001E-2,1.0255498000000001,1.403097989517647E-2]
["1976-09-01",2.7877599999999999E-2,1.0278776000000001,1.4422129940302243E-2]
["1976-10-01",3.2889499999999995E-2,1.0328895,1.4896466582973814E-2]
["1976-11-01",3.6060099999999998E-2,1.0360601,1.5433634657602509E-2]
["1976-12-01",3.0275199999999999E-2,1.0302751999999999,1.5900891033588355E-2]
["1977-01-01",2.2094800000000001E-2,1.0220948000000001,1.6252218040797285E-2]
["1977-02-01",1.73156E-2,1.0173156000000001,1.6533634947504514E-2]
["1977-03-01",1.9697100000000002E-2,1.0196970999999999,1.6859299608429003E-2]
["1977-04-01",2.2675999999999998E-2,1.0226759999999999,1.7241601086349739E-2]
["1977-05-01",2.8845700000000002E-2,1.0288457,1.7738947138806256E-2]
["1977-06-01",3.2177600000000001E-2,1.0321776,1.8309743884259908E-2]
["1977-07-01",3.3349400000000001E-2,1.0333494000000001,1.8920362856953647E-2]
["1977-08-01",2.67072E-2,1.0267071999999999,1.9425672771846876E-2]
["1977-09-01",2.05002E-2,1.0205002000000001,1.9823902948804293E-2]
["1977-10-01",1.40172E-2,1.0140172000000001,2.0101778561218274E-2]
["1977-11-01",1.38675E-2,1.0138674999999999,2.0380539975415966E-2]
["1977-12-01",1.4937000000000001E-2,1.014937,{"$f":"D169*C170","v":2.0684964101028755E-2}]
["1978-01-01",1.9594400000000001E-2,1.0195943999999999,2.1090273561609949E-2]
["1978-02-01",2.1106099999999999E-2,1.0211060999999999,2.1535406984428643E-2]
["1978-03-01",2.3176499999999999E-2,1.0231764999999999,2.2034522344403253E-2]
["1978-04-01",2.57842E-2,1.0257841999999999,2.2602664875435816E-2]
["1978-05-01",2.9207900000000002E-2,1.0292079000000001,2.3262841250851058E-2]
["1978-06-01",3.04713E-2,1.0304713000000001,2.3971690265458118E-2]
["1978-07-01",3.0123999999999998E-2,1.030124,2.4693813463014778E-2]
["1978-08-01",3.0604900000000001E-2,1.0306048999999999,2.5449565154668997E-2]
["1978-09-01",2.7783600000000002E-2,1.0277836,2.615664569310026E-2]
["1978-10-01",2.6119E-2,1.026119,2.6839831121958348E-2]
["1978-11-01",2.3739699999999999E-2,1.0237396999999999,2.7477000660844301E-2]
["1978-12-01",2.5604700000000001E-2,1.0256046999999999,2.818054101966502E-2]
["1979-01-01",2.63158E-2,1.0263157999999999,2.8922134501030317E-2]
["1979-02-01",2.2581199999999999E-2,1.0225812000000001,2.9575231004624985E-2]
["1979-03-01",2.3249599999999999E-2,1.0232496,3.0262843295390113E-2]
["1979-04-01",2.4973000000000002E-2,1.0249729999999999,3.1018597281005887E-2]
["1979-05-01",3.7459699999999999E-2,1.0374597000000001,3.2180544629573184E-2]
["1979-06-01",3.8224599999999997E-2,1.0382245999999999,3.3410633075820761E-2]
["1979-07-01",3.3267999999999999E-2,1.0332680000000001,3.4522138016987169E-2]
["1979-08-01",2.7198199999999999E-2,1.0271982,3.5461078031200785E-2]
["1979-09-01",2.8773900000000002E-2,1.0287739,3.6481431544362751E-2]
["1979-10-01",4.01708E-2,1.0401708000000001,3.7946919834645043E-2]
["1979-11-01",4.5872200000000002E-2,1.0458722,3.9687628530683847E-2]
["1979-12-01",4.5131199999999996E-2,1.0451311999999999,4.1478778831427844E-2]
["1980-01-01",4.0792799999999997E-2,1.0407928,4.3170814360542514E-2]
["1980-02-01",4.2022799999999999E-2,1.0420228,4.4984972858252724E-2]
["1980-03-01",3.7003499999999995E-2,1.0370035,4.6649574301413074E-2]
["1980-04-01",3.69921E-2,1.0369921,4.8375240018928373E-2]
["1980-05-01",3.6989599999999997E-2,1.0369896000000001,5.0164620797132527E-2]
["1980-06-01",3.3994300000000005E-2,1.0339943,5.1869931965896489E-2]
["1980-07-01",3.2006600000000003E-2,1.0320066000000001,5.3530112130356154E-2]
["1980-08-01",3.2005800000000001E-2,1.0320058000000001,5.524338619317791E-2]
["1980-09-01",3.2006399999999997E-2,1.0320064,5.7011528109031241E-2]
["1980-10-01",3.0004800000000002E-2,1.0300047999999999,5.8722147607637096E-2]
["1980-11-01",3.1994099999999998E-2,1.0319940999999999,6.0600909870410592E-2]
["1980-12-01",3.1995200000000001E-2,1.0319951999999999,6.2539848101896348E-2]
["1981-01-01",4.49979E-2,{"$f":"B207+1","v":1.0449979},6.5354009932800675E-2]
["1981-02-01",5.0006799999999997E-2,1.0500068,6.8622154836708249E-2]
["1981-03-01",6.4996200000000004E-2,1.0649961999999999,7.3082334136905902E-2]
["1981-04-01",6.3003299999999998E-2,1.0630033000000001,7.7686762359233635E-2]
["1981-05-01",5.9998199999999995E-2,1.0599981999999999,8.2347828264615397E-2]
["1981-06-01",5.9933600000000004E-2,1.0599335999999999,8.7283230064695544E-2]
["1981-07-01",6.0062900000000002E-2,1.0600628999999999,9.2525713983748342E-2]
["1981-08-01",5.9997700000000001E-2,1.0599977,9.8077044013631084E-2]
["1981-09-01",5.8000299999999998E-2,1.0580003,0.10376554198953489]
["1981-10-01",5.7003999999999999E-2,1.0570040000000001,0.10968059294510633]
["1981-11-01",5.7003899999999996E-2,1.0570039,0.11593281449728988]
["1981-12-01",5.49983E-2,1.0549983000000001,0.12230892220885618]
["1982-01-01",5.2000999999999999E-2,1.052001,0.1286691084726389]
["1982-02-01",5.0001400000000001E-2,1.0500014,0.13510274403302272]
["1982-03-01",4.9997999999999994E-2,1.049998,0.14185761102918579]
["1982-04-01",5.0000299999999998E-2,1.0500003,0.14895053413792839]
["1982-05-01",5.4998399999999996E-2,1.0549983999999999,0.15714257519465982]
["1982-06-01",5.4997699999999997E-2,1.0549976999999999,0.16578505540244315]
["1982-07-01",5.5002500000000003E-2,1.0550025000000001,0.17490364791221605]
["1982-08-01",5.9997700000000001E-2,1.0599977,0.18539746450855882]
["1982-09-01",7.0000300000000001E-2,1.0700003,0.19837534264339729]
["1982-10-01",6.9997900000000002E-2,1.0699978999999999,0.21226120004021554]
["1982-11-01",7.000060000000001E-2,1.0700006,0.22711961139975065]
["1982-12-01",6.5000299999999997E-2,1.0650002999999999,0.24188245427661784]
["1983-01-01",6.4962499999999992E-2,1.0649625,0.25759574321256262]
["1983-02-01",6.0037900000000005E-2,1.0600379,0.27306125068398412]
["1983-03-01",6.6998500000000002E-2,1.0669985,0.29135594488793504]
["1983-04-01",9.0000400000000008E-2,1.0900004000000001,{"$f":"D233*C234","v":0.31757809647022717}]
["1983-05-01",9.0000899999999995E-2,1.0900008999999999,0.3461604109728344]
["1983-06-01",8.000030000000001E-2,1.0800003,0.37385334769878448]
["1983-07-01",7.7998999999999999E-2,1.0779989999999999,0.40301353496594194]
["1983-08-01",8.9998999999999996E-2,1.0899989999999999,0.43928435009934175]
["1983-09-01",8.4999500000000006E-2,1.0849994999999999,0.47662330021561072]
["1983-10-01",9.4999100000000003E-2,1.0949990999999999,0.52190208477512345]
["1983-11-01",9.7000600000000006E-2,1.0970006000000001,0.57252690013956131]
["1983-12-01",8.3999699999999997E-2,1.0839996999999999,0.62061898799321435]
["1984-01-01",7.6000399999999996E-2,1.0760004000000001,0.66778627932829393]
["1984-02-01",9.8000500000000004E-2,1.0980004999999999,0.73322966859560634]
["1984-03-01",0.1230006,1.1230005999999999,0.82341735777066705]
["1984-04-01",9.9999900000000003E-2,1.0999999,0.905759011205998]
["1984-05-01",8.8999900000000007E-2,1.0889998999999999,0.98637147262743063]
["1984-06-01",8.8999700000000001E-2,1.0889997,1.0741582377798302]
["1984-07-01",9.1999700000000004E-2,1.0919996999999999,1.1729804734081031]
["1984-08-01",0.10299989999999999,1.1029998999999999,1.2937973448710902]
["1984-09-01",0.106,1.1060000000000001,1.430939863427426]
["1984-10-01",0.1049741,1.1049741,1.5811514877448429]
["1984-11-01",0.1260262,1.1260262000000001,1.7804180013696722]
["1984-12-01",9.8999900000000002E-2,1.0989998999999999,1.9566792054634694]
["1985-01-01",0.1050001,1.1050001,2.1621307177050544]
["1985-02-01",0.126,1.1259999999999999,2.434559188135891]
["1985-03-01",0.10199999999999999,1.1020000000000001,2.6828842253257523]
["1985-04-01",0.1268019,1.1268019,3.0230790425770859]
["1985-05-01",0.11848940000000001,1.1184894000000001,3.3812818644846194]
["1985-06-01",0.10005900000000001,1.1000589999999999,3.7196095465630856]
["1985-07-01",9.2139600000000002E-2,1.0921396000000001,4.0623328823395903]
["1985-08-01",7.6083200000000004E-2,1.0760832,4.3714081674932102]
["1985-09-01",8.1797099999999998E-2,1.0817971,4.7289766785104685]
["1985-10-01",9.0999899999999995E-2,1.0909998999999999,5.1593130833572527]
["1985-11-01",0.09,1.0900000000000001,5.6236512608594058]
["1985-12-01",0.11119999999999999,1.1112,6.2490012810669713]
["1986-01-01",0.1336001,1.1336001,7.0838684771176466]
["1986-02-01",0.1623001,1.1623000999999999,{"$f":"D267*C268","v":8.2335810393406881}]
["1986-03-01",0.14360150000000002,1.1436014999999999,{"$f":"(D268/1000)*C269","v":9.4159356269615697E-3}]
["1986-04-01",0,1,{"$f":"D269*C270","v":9.4159356269615697E-3}]
["1986-05-01",0,{"$f":"B271+1","v":1},9.4159356269615697E-3]
["1986-06-01",0,1,9.4159356269615697E-3]
["1986-07-01",0,1,9.4159356269615697E-3]
["1986-08-01",0,1,9.4159356269615697E-3]
["1986-09-01",0,1,9.4159356269615697E-3]
["1986-10-01",0,1,9.4159356269615697E-3]
["1986-11-01",0,1,9.4159356269615697E-3]
["1986-12-01",0,1,9.4159356269615697E-3]
["1987-01-01",0,1,9.4159356269615697E-3]
["1987-02-01",0,1,9.4159356269615697E-3]
["1987-03-01",0.7068608999999999,1.7068608999999999,1.6071692358577687E-2]
["1987-04-01",0.1451462,1.1451462000000001,1.8404437431994276E-2]
["1987-05-01",0.20959749999999999,1.2095975000000001,2.2261961506646697E-2]
["1987-06-01",0.23433769999999998,1.2343377,2.7478778363602817E-2]
["1987-07-01",0.17999419999999999,1.1799941999999999,3.2424799092136809E-2]
["1987-08-01",3.07587E-2,1.0307587,3.3422143759972121E-2]
["1987-09-01",6.3600500000000004E-2,1.0636004999999999,3.5547808814178225E-2]
["1987-10-01",5.6809999999999999E-2,1.05681,3.7567279832911693E-2]
["1987-11-01",9.1799999999999993E-2,1.0918000000000001,4.1015956121572987E-2]
["1987-12-01",0.1266506,1.1266506000000001,4.6210651573943884E-2]
["1988-01-01",0.14316899999999999,1.1431689999999999,5.282658434913385E-2]
["1988-02-01",0.1651087,1.1651087,6.1548713016459686E-2]
["1988-03-01",0.17961179999999999,1.1796118,7.2603588149029438E-2]
["1988-04-01",0.16010090000000002,1.1601009,8.4227487954918384E-2]
["1988-05-01",0.19279869999999999,1.1927987,0.10046643813689231]
["1988-06-01",0.17779910000000002,1.1777991000000001,0.11832928041783745]
["1988-07-01",0.19530039999999999,1.1953004,0.14143903621515327]
["1988-08-01",0.2403989,1.2403989,0.17544082493833629]
["1988-09-01",0.2065998,1.2065998,0.21168686428243158]
["1988-10-01",0.24009849999999999,1.2400985,0.262512562866347]
["1988-11-01",0.27249960000000001,1.2724996,0.33404713124240137]
["1988-12-01",0.2691981,1.2691981000000001,0.42397198428330651]
["1989-01-01",0.39004699999999998,1.390047,{"$f":"(D302/1000)*C303","v":5.8934098483705744E-4}]
["1989-02-01",0.42719999999999997,1.4272,{"$f":"D303*C304","v":8.4110745355944836E-4}]
["1989-03-01",0.1014,1.1013999999999999,{"$f":"D304*C305","v":9.2639574935037634E-4}]
["1989-04-01",6.0907299999999998E-2,1.0609073,9.8282001317478453E-4]
["1989-05-01",7.3157399999999997E-2,1.0731573999999999,1.0547205700066175E-3]
["1989-06-01",9.9372600000000005E-2,1.0993725999999999,1.1595308953216571E-3]
["1989-07-01",0.2482647,1.2482647,1.4474014851894197E-3]
["1989-08-01",0.28773559999999998,1.2877356,1.8638704199712885E-3]
["1989-09-01",0.29339799999999999,1.293398,2.4107262734500245E-3]
["1989-10-01",0.35946139999999999,1.3594614,3.2772893147211533E-3]
["1989-11-01",0.37621090000000001,1.3762109,4.5102412773727818E-3]
["1989-12-01",0.41420470000000004,1.4142047,6.3784044125945911E-3]
["1990-01-01",0.53549999999999998,1.5354999999999999,9.7940399755389942E-3]
["1990-02-01",0.56109500000000001,1.5610949999999999,1.5289426835614045E-2]
["1990-03-01",0.72780289999999992,1.7278028999999999,2.641711602591177E-2]
["1990-04-01",0.84319999999999995,1.8431999999999999,4.8692028258960574E-2]
["1990-05-01",0.44799999999999995,1.448,7.0506056918974908E-2]
["1990-06-01",7.8700000000000006E-2,1.0787,7.6054883598498227E-2]
["1990-07-01",9.5500000000000002E-2,1.0954999999999999,8.3318124982154795E-2]
["1990-08-01",0.12920000000000001,1.1292,9.4082826729849189E-2]
["1990-09-01",0.12029999999999999,1.1203000000000001,0.10540099078545005]
["1990-10-01",0.12759999999999999,1.1275999999999999,0.11885015720967347]
["1990-11-01",0.14199999999999999,1.1419999999999999,0.13572687953344709]
["1990-12-01",0.15579999999999999,1.1557999999999999,0.15687312736475814]
["1991-01-01",0.183,1.1830000000000001,0.1855809096725089]
["1991-02-01",0.1991,1.1991000000000001,0.22253006878830542]
["1991-03-01",0.21870000000000001,1.2187000000000001,0.27119739483230781]
["1991-04-01",0.11789999999999999,1.1178999999999999,0.30317156768303688]
["1991-05-01",5.0099999999999999E-2,1.0501,0.31836046322395706]
["1991-06-01",6.6799999999999998E-2,1.0668,0.33962694216731737]
["1991-07-01",0.10830000000000001,1.1083000000000001,0.37640854000403784]
["1991-08-01",0.12140000000000001,1.1214,0.422104536760528]
["1991-09-01",0.15620000000000001,{"$f":"B335+1","v":1.1562000000000001},0.48803726540252251]
["1991-10-01",0.15620000000000001,1.1562000000000001,0.56426868625839655]
["1991-11-01",0.21079999999999999,1.2107999999999999,0.68321652532166643]
["1991-12-01",0.26479999999999998,1.2647999999999999,0.86413226122684361]
["1992-01-01",0.24149999999999999,1.2415,1.0728202023131264]
["1992-02-01",0.25920000000000004,1.2592000000000001,1.3508951987526887]
["1992-03-01",0.24480000000000002,1.2448000000000001,1.681594343407347]
["1992-04-01",0.2162,1.2161999999999999,2.0451550404520153]
["1992-05-01",0.2084,1.2083999999999999,2.4713653508822153]
["1992-06-01",0.245,1.2450000000000001,3.0768498618483582]
["1992-07-01",0.20850000000000002,1.2084999999999999,3.7183730580437406]
["1992-08-01",0.2208,1.2208000000000001,4.5393898292597994]
["1992-09-01",0.2238,1.2238,5.5553052730481429]
["1992-10-01",0.23980000000000001,1.2398,6.8874674775250879]
["1992-11-01",0.26069999999999999,1.2606999999999999,8.6830302489158786]
["1992-12-01",0.22889999999999999,1.2288999999999999,10.670575872892723]
["1993-01-01",0.25579999999999997,1.2558,13.400109181178681]
["1993-02-01",0.27910000000000001,1.2791000000000001,17.140079653645653]
["1993-03-01",0.25890000000000002,1.2589000000000001,21.577646275974516]
["1993-04-01",0.26869999999999999,1.2686999999999999,27.375559830328868]
["1993-05-01",0.28249999999999997,1.2825,35.109155482396773]
["1993-06-01",0.28389999999999999,1.2839,45.07664472384922]
["1993-07-01",0.3034,1.3033999999999999,58.752898733065066]
["1993-08-01",0.29260000000000003,1.2926,{"$f":"(D357/1000)*C358","v":7.5943996902359895E-2}]
["1993-09-01",0.32219999999999999,1.3222,{"$f":"D358*C359","v":0.10041315270430026}]
["1993-10-01",0.35170000000000001,1.3517000000000001,{"$f":"D359*C360","v":0.13572845851040269}]
["1993-11-01",0.34920000000000001,1.3492,0.1831248362222353]
["1993-12-01",0.34889999999999999,1.3489,0.24701709158017318]
["1994-01-01",0.3735,1.3734999999999999,0.33927797528536785]
["1994-02-01",0.40250000000000002,1.4025000000000001,0.47583736033772844]
["1994-03-01",0.3967,1.3967000000000001,0.66460204118370536]
["1994-04-01",0.46015,1.4601500000000001,0.97041867043438745]
["1994-05-01",0.42196399999999995,1.421964,1.3799004142855633]
["1994-06-01",0.44162699999999999,1.441627,1.9893016945452537]
["1994-07-01",0.44084600000000002,1.4408460000000001,{"$f":"(D368/2750)*C369","v":1.0422826870468186E-3}]
["1994-08-01",6.08E-2,1.0608,{"$f":"D369*C370","v":1.1056534744192652E-3}]
["1994-09-01",5.4600000000000003E-2,1.0546,{"$f":"D370*C371","v":1.166022154122557E-3}]
["1994-10-01",1.5100000000000001E-2,1.0150999999999999,1.1836290886498074E-3]
["1994-11-01",1.8600000000000002E-2,1.0185999999999999,1.2056445896986938E-3]
["1994-12-01",3.27E-2,1.0327,1.2450691677818411E-3]
["1995-01-01",2.1899999999999999E-2,1.0219,1.2723361825562635E-3]
["1995-02-01",1.67E-2,1.0166999999999999,1.2935841968049529E-3]
["1995-03-01",9.8999999999999991E-3,1.0099,1.306390680353322E-3]
["1995-04-01",1.41E-2,1.0141,1.324810788946304E-3]
["1995-05-01",1.9199999999999998E-2,1.0192000000000001,1.3502471560940732E-3]
["1995-06-01",2.5699999999999997E-2,1.0257000000000001,1.3849485080056909E-3]
["1995-07-01",1.8200000000000001E-2,1.0182,1.4101545708513944E-3]
["1995-08-01",2.46E-2,1.0246,1.4448443732943386E-3]
["1995-09-01",1.0200000000000001E-2,1.0102,1.4595817859019409E-3]
["1995-10-01",1.1699999999999999E-2,1.0117,1.4766588927969937E-3]
["1995-11-01",1.3999999999999999E-2,1.014,1.4973321172961516E-3]
["1995-12-01",1.5100000000000001E-2,1.0150999999999999,1.5199418322673233E-3]
["1996-01-01",1.6500000000000001E-2,1.0165,1.5450208724997342E-3]
["1996-02-01",1.46E-2,1.0145999999999999,1.5675781772382302E-3]
["1996-03-01",7.0999999999999995E-3,1.0071000000000001,1.5787079822966218E-3]
["1996-04-01",2.8999999999999998E-3,1.0028999999999999,1.5832862354452819E-3]
["1996-05-01",7.0000000000000001E-3,1.0069999999999999,1.5943692390933987E-3]
["1996-06-01",1.6799999999999999E-2,1.0167999999999999,1.6211546423101676E-3]
["1996-07-01",1.2199999999999999E-2,1.0122,1.6409327289463515E-3]
["1996-08-01",1.09E-2,1.0108999999999999,1.6588188956918667E-3]
["1996-09-01",4.0000000000000003E-5,1.00004,1.6588852484476944E-3]
["1996-10-01",1.2999999999999999E-3,1.0013000000000001,1.6610417992706766E-3]
["1996-11-01",2.2000000000000001E-3,1.0022,1.6646960912290721E-3]
["1996-12-01",2.8000000000000004E-3,1.0027999999999999,1.6693572402845132E-3]
["1997-01-01",8.8000000000000005E-3,{"$f":"B399+1","v":1.0087999999999999},1.6840475839990168E-3]
["1997-02-01",1.5800000000000002E-2,1.0158,1.7106555358262013E-3]
["1997-03-01",4.1999999999999997E-3,1.0042,1.7178402890766712E-3]
["1997-04-01",1.1599999999999999E-2,1.0116000000000001,1.7377672364299608E-3]
["1997-05-01",5.8999999999999999E-3,1.0059,1.7480200631248975E-3]
["1997-06-01",3.0000000000000001E-3,1.0029999999999999,1.753264123314272E-3]
["1997-07-01",6.9999999999999993E-3,1.0069999999999999,1.7655369721774718E-3]
["1997-08-01",8.9999999999999998E-4,1.0008999999999999,1.7671259554524314E-3]
["1997-09-01",0,1,1.7671259554524314E-3]
["1997-10-01",5.8999999999999999E-3,1.0059,1.7775519985896008E-3]
["1997-11-01",3.4000000000000002E-3,1.0034000000000001,1.7835956753848056E-3]
["1997-12-01",8.3000000000000001E-3,1.0083,1.7983995194904995E-3]
["1998-01-01",6.8999999999999999E-3,1.0068999999999999,1.8108084761749837E-3]
["1998-02-01",8.8000000000000005E-3,1.0087999999999999,1.8267435907653234E-3]
["1998-03-01",2.0000000000000001E-4,1.0002,1.8271089394834765E-3]
["1998-04-01",2.3E-3,1.0023,1.8313112900442885E-3]
["1998-05-01",0,1,1.8313112900442885E-3]
["1998-06-01",2.3E-3,1.0023,1.8355233060113902E-3]
["1998-07-01",2.8000000000000004E-3,1.0027999999999999,1.8406627712682219E-3]
["1998-08-01",0,1,1.8406627712682219E-3]
["1998-09-01",0,1,1.8406627712682219E-3]
["1998-10-01",0,1,1.8406627712682219E-3]
["1998-11-01",0,1,1.8406627712682219E-3]
["1998-12-01",0,1,1.8406627712682219E-3]
["1999-01-01",9.7999999999999997E-3,1.0098,1.8587012664266504E-3]
["1999-02-01",1.15E-2,1.0115000000000001,1.8800763309905571E-3]
["1999-03-01",4.4400000000000002E-2,1.0444,1.9635517200865377E-3]
["1999-04-01",1.9799999999999998E-2,1.0198,2.0024300441442511E-3]
["1999-05-01",2.9999999999999997E-4,1.0003,2.0030307731574945E-3]
["1999-06-01",0,1,2.0030307731574945E-3]
["1999-07-01",1.0200000000000001E-2,1.0102,2.0234616870437008E-3]
["1999-08-01",1.5900000000000001E-2,1.0159,2.0556347278676956E-3]
["1999-09-01",1.4499999999999999E-2,1.0145,2.0854414314217772E-3]
["1999-10-01",1.47E-2,1.0146999999999999,2.1160974204636773E-3]
["1999-11-01",1.89E-2,1.0188999999999999,2.1560916617104405E-3]
["1999-12-01",2.53E-2,1.0253000000000001,2.2106407807517148E-3]
["2000-01-01",1.23E-2,1.0123,{"$f":"D434*C435","v":2.2378316623549608E-3}]
["2000-02-01",1.0200000000000001E-2,1.0102,2.2606575453109814E-3]
["2000-03-01",1.9E-3,1.0019,2.2649527946470723E-3]
["2000-04-01",1.8E-3,1.0018,2.2690297096774371E-3]
["2000-05-01",1.2999999999999999E-3,1.0013000000000001,2.2719794483000181E-3]
["2000-06-01",6.7000000000000002E-3,1.0066999999999999,2.287201710603628E-3]
["2000-07-01",9.300000000000001E-3,1.0093000000000001,2.3084726865122418E-3]
["2000-08-01",2.2599999999999999E-2,1.0226,2.3606441692274184E-3]
["2000-09-01",1.8200000000000001E-2,1.0182,2.4036078931073575E-3]
["2000-10-01",6.8999999999999999E-3,1.0068999999999999,2.4201927875697978E-3]
["2000-11-01",3.7000000000000002E-3,1.0037,2.4291475008838062E-3]
["2000-12-01",3.9000000000000003E-3,1.0039,2.438621176137253E-3]
["2001-01-01",7.6E-3,1.0076000000000001,2.4571546970758962E-3]
["2001-02-01",4.8999999999999998E-3,1.0048999999999999,2.4691947550915679E-3]
["2001-03-01",3.4000000000000002E-3,1.0034000000000001,2.4775900172588792E-3]
["2001-04-01",8.0000000000000002E-3,1.008,2.4974107373969502E-3]
["2001-05-01",1.1299999999999999E-2,1.0113000000000001,2.525631478729536E-3]
["2001-06-01",4.4000000000000003E-3,1.0044,2.5367442572359457E-3]
["2001-07-01",1.46E-2,1.0145999999999999,2.5737807233915905E-3]
["2001-08-01",1.6200000000000003E-2,1.0162,2.6154759711105344E-3]
["2001-09-01",9.0000000000000011E-3,1.0089999999999999,2.6390152548505289E-3]
["2001-10-01",3.8E-3,1.0038,2.6490435128189611E-3]
["2001-11-01",1.4499999999999999E-2,1.0145,2.687454643754836E-3]
["2001-12-01",7.6E-3,1.0076000000000001,2.7078792990473731E-3]
["2002-01-01",1.8E-3,1.0018,2.7127534817856583E-3]
["2002-02-01",1.9E-3,1.0019,2.7179077134010512E-3]
["2002-03-01",1.8E-3,1.0018,2.7227999472851732E-3]
["2002-04-01",1.1000000000000001E-3,1.0011000000000001,2.7257950272271871E-3]
["2002-05-01",6.9999999999999993E-3,{"$f":"B463+1","v":1.0069999999999999},2.7448755924177771E-3]
["2002-06-01",1.11E-2,1.0111000000000001,2.7753437114936149E-3]
["2002-07-01",1.7399999999999999E-2,1.0174000000000001,2.8236346920736039E-3]
["2002-08-01",2.0499999999999997E-2,1.0205,2.8815192032611127E-3]
["2002-09-01",2.3599999999999999E-2,1.0236000000000001,2.9495230564580751E-3]
["2002-10-01",2.64E-2,1.0264,3.0273904651485681E-3]
["2002-11-01",4.2099999999999999E-2,1.0421,3.1548436037313228E-3]
["2002-12-01",5.8400000000000001E-2,1.0584,3.339086470189232E-3]
["2003-01-01",2.7000000000000003E-2,1.0269999999999999,3.429241804884341E-3]
["2003-02-01",2.1700000000000001E-2,1.0217000000000001,3.5036563520503316E-3]
["2003-03-01",1.5900000000000001E-2,1.0159,3.5593644880479321E-3]
["2003-04-01",1.66E-2,1.0165999999999999,3.6184499385495277E-3]
["2003-05-01",4.0999999999999995E-3,1.0041,3.6332855832975808E-3]
["2003-06-01",-6.7000000000000002E-3,0.99329999999999996,3.6089425698894867E-3]
["2003-07-01",-6.9999999999999993E-3,0.99299999999999999,3.5836799719002601E-3]
["2003-08-01",-2E-3,0.998,3.5765126119564595E-3]
["2003-09-01",6.1999999999999998E-3,1.0062,3.5986869901505894E-3]
["2003-10-01",1.0500000000000001E-2,1.0105,3.6364732035471703E-3]
["2003-11-01",4.4000000000000003E-3,1.0044,3.6524736856427776E-3]
["2003-12-01",4.7999999999999996E-3,1.0047999999999999,3.6700055593338627E-3]
["2004-01-01",6.0000000000000001E-3,1.006,3.6920255926898658E-3]
["2004-02-01",8.3000000000000001E-3,1.0083,3.7226694051091915E-3]
["2004-03-01",3.9000000000000003E-3,1.0039,3.7371878157891176E-3]
["2004-04-01",5.6999999999999993E-3,1.0057,3.7584897863391156E-3]
["2004-05-01",4.0999999999999995E-3,1.0041,3.7738995944631062E-3]
["2004-06-01",4.0000000000000001E-3,1.004,3.7889951928409588E-3]
["2004-07-01",5.0000000000000001E-3,1.0049999999999999,3.8079401688051631E-3]
["2004-08-01",7.3000000000000001E-3,1.0073000000000001,3.8357381320374413E-3]
["2004-09-01",5.0000000000000001E-3,1.0049999999999999,3.8549168226976282E-3]
["2004-10-01",1.7000000000000001E-3,1.0017,3.8614701812962142E-3]
["2004-11-01",1.7000000000000001E-3,1.0017,3.8680346806044181E-3]
["2004-12-01",4.4000000000000003E-3,1.0044,3.8850540331990774E-3]
["2005-01-01",8.6E-3,1.0085999999999999,3.9184654978845889E-3]
["2005-02-01",5.6999999999999993E-3,1.0057,3.9408007512225316E-3]
["2005-03-01",4.4000000000000003E-3,1.0044,3.9581402745279106E-3]
["2005-04-01",7.3000000000000001E-3,1.0073000000000001,3.9870346985319645E-3]
["2005-05-01",9.1000000000000004E-3,1.0091000000000001,{"$f":"D498*C499","v":4.0233167142886056E-3}]
["2005-06-01",6.9999999999999993E-3,1.0069999999999999,4.0514799312886254E-3]
["2005-07-01",-1.1000000000000001E-3,0.99890000000000001,4.0470233033642082E-3]
["2005-08-01",2.9999999999999997E-4,1.0003,4.0482374103552174E-3]
["2005-09-01",0,1,4.0482374103552174E-3]
["2005-10-01",1.5E-3,1.0015000000000001,4.0543097664707504E-3]
["2005-11-01",5.7999999999999996E-3,1.0058,4.077824763116281E-3]
["2005-12-01",5.4000000000000003E-3,1.0054000000000001,4.0998450168371094E-3]
["2006-01-01",4.0000000000000001E-3,1.004,4.1162443969044579E-3]
["2006-02-01",3.8E-3,1.0038,4.1318861256126951E-3]
["2006-03-01",2.3E-3,1.0023,4.1413894637016046E-3]
["2006-04-01",2.7000000000000001E-3,1.0026999999999999,4.1525712152535987E-3]
["2006-05-01",1.1999999999999999E-3,1.0012000000000001,4.1575543007119032E-3]
["2006-06-01",1.2999999999999999E-3,1.0013000000000001,4.1629591213028288E-3]
["2006-07-01",-7.000000000000001E-4,0.99929999999999997,4.1600450499179164E-3]
["2006-08-01",1.1000000000000001E-3,1.0011000000000001,4.1646210994728261E-3]
["2006-09-01",-2.0000000000000001E-4,0.99980000000000002,4.1637881752529318E-3]
["2006-10-01",1.6000000000000001E-3,1.0016,4.1704502363333366E-3]
["2006-11-01",4.3E-3,1.0043,4.1883831723495699E-3]
["2006-12-01",4.1999999999999997E-3,1.0042,4.205974381673438E-3]
["2007-01-01",6.1999999999999998E-3,1.0062,4.2320514228398132E-3]
["2007-02-01",4.8999999999999998E-3,1.0048999999999999,4.2527884748117277E-3]
["2007-03-01",4.1999999999999997E-3,1.0042,4.2706501864059367E-3]
["2007-04-01",4.4000000000000003E-3,1.0044,4.2894410472261229E-3]
["2007-05-01",2.5999999999999999E-3,1.0025999999999999,4.3005935939489101E-3]
["2007-06-01",2.5999999999999999E-3,1.0025999999999999,4.3117751372931772E-3]
["2007-07-01",3.0999999999999999E-3,1.0031000000000001,4.3251416402187862E-3]
["2007-08-01",3.2000000000000002E-3,1.0032000000000001,4.3389820934674871E-3]
["2007-09-01",5.8999999999999999E-3,{"$f":"B527+1","v":1.0059},4.3645820878189454E-3]
["2007-10-01",2.5000000000000001E-3,1.0024999999999999,4.3754935430384929E-3]
["2007-11-01",3.0000000000000001E-3,1.0029999999999999,4.388620023667608E-3]
["2007-12-01",4.3E-3,1.0043,4.4074910897693789E-3]
["2008-01-01",9.7000000000000003E-3,1.0097,4.4502437533401424E-3]
["2008-02-01",6.8999999999999999E-3,1.0068999999999999,4.4809504352381893E-3]
["2008-03-01",4.7999999999999996E-3,1.0047999999999999,4.5024589973273318E-3]
["2008-04-01",5.1000000000000004E-3,1.0051000000000001,4.5254215382137019E-3]
["2008-05-01",6.4000000000000003E-3,1.0064,4.5543842360582691E-3]
["2008-06-01",9.5999999999999992E-3,1.0096000000000001,4.598106324724429E-3]
["2008-07-01",9.1000000000000004E-3,1.0091000000000001,4.6399490922794219E-3]
["2008-08-01",5.7999999999999996E-3,1.0058,4.6668607970146428E-3]
["2008-09-01",2.0999999999999999E-3,1.0021,4.6766612046883734E-3]
["2008-10-01",1.5E-3,1.0015000000000001,4.6836761964954062E-3]
["2008-11-01",5.0000000000000001E-3,1.0049999999999999,4.7070945774778826E-3]
["2008-12-01",3.8E-3,1.0038,4.7249815368722988E-3]
["2009-01-01",2.8999999999999998E-3,1.0028999999999999,4.7386839833292284E-3]
["2009-02-01",6.4000000000000003E-3,1.0064,4.7690115608225352E-3]
["2009-03-01",3.0999999999999999E-3,1.0031000000000001,4.7837954966610859E-3]
["2009-04-01",2E-3,1.002,4.7933630876544082E-3]
["2009-05-01",5.5000000000000005E-3,1.0055000000000001,4.8197265846365075E-3]
["2009-06-01",6.0000000000000001E-3,1.006,4.8486449441443261E-3]
["2009-07-01",4.1999999999999997E-3,1.0042,4.8690092529097319E-3]
["2009-08-01",2.3E-3,1.0023,4.8802079741914238E-3]
["2009-09-01",8.0000000000000004E-4,1.0007999999999999,4.8841121405707767E-3]
["2009-10-01",1.6000000000000001E-3,1.0016,4.8919267199956902E-3]
["2009-11-01",2.3999999999999998E-3,1.0024,4.9036673441236796E-3]
["2009-12-01",3.7000000000000002E-3,1.0037,4.9218109132969376E-3]
["2010-01-01",2.3999999999999998E-3,1.0024,4.9336232594888504E-3]
["2010-02-01",8.8000000000000005E-3,1.0087999999999999,4.977039144172352E-3]
["2010-03-01",6.9999999999999993E-3,1.0069999999999999,5.011878418181558E-3]
["2010-04-01",7.0999999999999995E-3,1.0071000000000001,5.047462754950648E-3]
["2010-05-01",7.3000000000000001E-3,1.0073000000000001,5.0843092330617881E-3]
["2010-06-01",4.3E-3,1.0043,5.1061717627639541E-3]
["2010-07-01",-1.1000000000000001E-3,0.99890000000000001,5.1005549738249141E-3]
["2010-08-01",-7.000000000000001E-4,0.99929999999999997,5.0969845853432363E-3]
["2010-09-01",-7.000000000000001E-4,0.99929999999999997,{"$f":"D562*C563","v":5.0934166961334962E-3}]
["2010-10-01",5.4000000000000003E-3,1.0054000000000001,5.1209211462926174E-3]
["2010-11-01",9.1999999999999998E-3,1.0092000000000001,5.1680336208385098E-3]
["2010-12-01",1.03E-2,1.0103,5.2212643671331466E-3]
["2011-01-01",6.0000000000000001E-3,1.006,5.2525919533359458E-3]
["2011-02-01",9.3999999999999986E-3,1.0094000000000001,5.3019663176973042E-3]
["2011-03-01",5.4000000000000003E-3,1.0054000000000001,5.3305969358128698E-3]
["2011-04-01",6.6E-3,1.0065999999999999,5.3657788755892347E-3]
["2011-05-01",7.1999999999999998E-3,1.0072000000000001,5.4044124834934778E-3]
["2011-06-01",5.6999999999999993E-3,1.0057,5.4352176346493912E-3]
["2011-07-01",2.2000000000000001E-3,1.0022,5.4471751134456195E-3]
["2011-08-01",0,1,5.4471751134456195E-3]
["2011-09-01",4.1999999999999997E-3,1.0042,5.4700532489220912E-3]
["2011-10-01",4.5000000000000005E-3,1.0044999999999999,5.4946684885422399E-3]
["2011-11-01",3.2000000000000002E-3,1.0032000000000001,5.5122514277055759E-3]
["2011-12-01",5.6999999999999993E-3,1.0057,5.5436712608434979E-3]
["2012-01-01",5.1000000000000004E-3,1.0051000000000001,5.5719439842738007E-3]
["2012-02-01",5.1000000000000004E-3,1.0051000000000001,5.6003608985935975E-3]
["2012-03-01",3.9000000000000003E-3,1.0039,5.6222023060981128E-3]
["2012-04-01",1.8E-3,1.0018,5.6323222702490891E-3]
["2012-05-01",6.4000000000000003E-3,1.0064,5.6683691327786834E-3]
["2012-06-01",5.5000000000000005E-3,1.0055000000000001,5.6995451630089669E-3]
["2012-07-01",2.5999999999999999E-3,1.0025999999999999,5.7143639804327897E-3]
["2012-08-01",4.3E-3,1.0043,5.7389357455486503E-3]
["2012-09-01",4.5000000000000005E-3,1.0044999999999999,5.7647609564036193E-3]
["2012-10-01",6.3E-3,1.0063,5.8010789504289624E-3]
["2012-11-01",7.0999999999999995E-3,1.0071000000000001,5.842266610977009E-3]
["2012-12-01",5.4000000000000003E-3,1.0054000000000001,5.8738148506762853E-3]
["2013-01-01",7.4000000000000003E-3,{"$f":"B591+1","v":1.0074000000000001},5.91728108057129E-3]
["2013-02-01",9.1999999999999998E-3,1.0092000000000001,5.9717200665125461E-3]
["2013-03-01",5.1999999999999998E-3,1.0052000000000001,6.0027730108584117E-3]
["2013-04-01",6.0000000000000001E-3,1.006,6.0387896489235626E-3]
["2013-05-01",5.8999999999999999E-3,1.0059,6.0744185078522115E-3]
["2013-06-01",3.4999999999999996E-3,1.0035000000000001,6.0956789726296949E-3]
["2013-07-01",2.8000000000000004E-3,1.0027999999999999,6.1127468737530574E-3]
["2013-08-01",-1.2999999999999999E-3,0.99870000000000003,6.104800302817179E-3]
["2013-09-01",1.6000000000000001E-3,1.0016,6.114567983301687E-3]
["2013-10-01",2.7000000000000001E-3,1.0026999999999999,6.1310773168566013E-3]
["2013-11-01",6.0999999999999995E-3,1.0061,6.1684768884894261E-3]
["2013-12-01",5.4000000000000003E-3,1.0054000000000001,6.2017866636872691E-3]
["2014-01-01",7.1999999999999998E-3,1.0072000000000001,6.2464395276658185E-3]
["2014-02-01",6.3E-3,1.0063,6.2857920966901126E-3]
["2014-03-01",6.4000000000000003E-3,1.0064,6.3260211661089289E-3]
["2014-04-01",8.199999999999999E-3,1.0082,6.3778945396710217E-3]
["2014-05-01",7.8000000000000005E-3,1.0078,6.4276421170804555E-3]
["2014-06-01",6.0000000000000001E-3,1.006,6.4662079697829378E-3]
["2014-07-01",2.5999999999999999E-3,1.0025999999999999,6.4830201105043729E-3]
["2014-08-01",1.2999999999999999E-3,1.0013000000000001,6.4914480366480287E-3]
["2014-09-01",1.8E-3,1.0018,6.5031326431139952E-3]
["2014-10-01",4.8999999999999998E-3,1.0048999999999999,6.5349979930652531E-3]
["2014-11-01",3.8E-3,1.0038,6.5598309854389015E-3]
["2014-12-01",5.3E-3,1.0053000000000001,6.5945980896617278E-3]
["2015-01-01",6.1999999999999998E-3,1.0062,6.6354845978176301E-3]
["2015-02-01",1.4800000000000001E-2,1.0147999999999999,6.7336897698653305E-3]
["2015-03-01",1.1599999999999999E-2,1.0116000000000001,6.8118005711957684E-3]
["2015-04-01",1.5100000000000001E-2,1.0150999999999999,6.9146587598208241E-3]
["2015-05-01",7.0999999999999995E-3,1.0071000000000001,6.9637528370155525E-3]
["2015-06-01",9.8999999999999991E-3,1.0099,7.0326939901020069E-3]
["2015-07-01",7.7000000000000002E-3,1.0077,7.0868457338257923E-3]
["2015-08-01",5.7999999999999996E-3,1.0058,7.1279494390819823E-3]
["2015-09-01",2.5000000000000001E-3,1.0024999999999999,7.1457693126796866E-3]
["2015-10-01",5.1000000000000004E-3,1.0051000000000001,7.1822127361743536E-3]
["2015-11-01",7.7000000000000002E-3,1.0077,7.2375157742428963E-3]
["2015-12-01",1.11E-2,1.0111000000000001,7.3178521993369937E-3]
["2016-01-01",9.0000000000000011E-3,1.0089999999999999,{"$f":"D626*C627","v":7.3837128691310256E-3}]
["2016-02-01",1.5100000000000001E-2,1.0150999999999999,7.4952069334549036E-3]
["2016-03-01",9.4999999999999998E-3,1.0095000000000001,7.5664113993227254E-3]
["2016-04-01",4.4000000000000003E-3,1.0044,7.5997036094797446E-3]
["2016-05-01",6.4000000000000003E-3,1.0064,7.6483417125804143E-3]
["2016-06-01",9.7999999999999997E-3,1.0098,7.7232954613637023E-3]
["2016-07-01",4.6999999999999993E-3,1.0046999999999999,7.759594950032111E-3]
["2016-08-01",6.4000000000000003E-3,1.0064,7.809256357712316E-3]
["2016-09-01",3.0999999999999999E-3,1.0031000000000001,7.8334650524212249E-3]
["2016-10-01",8.0000000000000004E-4,1.0007999999999999,7.8397318244631618E-3]
["2016-11-01",1.7000000000000001E-3,1.0017,7.8530593685647489E-3]
["2016-12-01",7.000000000000001E-4,1.0006999999999999,7.8585565101227436E-3]
["2017-01-01",1.4000000000000002E-3,1.0014000000000001,7.8695584892369153E-3]
["2017-02-01",4.1999999999999997E-3,1.0042,7.9026106348917095E-3]
["2017-03-01",2.3999999999999998E-3,1.0024,7.9215769004154502E-3]
["2017-04-01",3.2000000000000002E-3,1.0032000000000001,7.9469259464967808E-3]
["2017-05-01",8.0000000000000004E-4,1.0007999999999999,7.953283487253977E-3]
["2017-06-01",3.5999999999999999E-3,1.0036,7.9819153078080924E-3]
["2017-07-01",-3.0000000000000001E-3,0.997,7.9579695618846678E-3]
["2017-08-01",1.6999999999999999E-3,1.0017,7.9714981101398717E-3]
["2017-09-01",-2.9999999999999997E-4,0.99970000000000003,7.9691066607068296E-3]
["2017-10-01",-2.0000000000000001E-4,0.99980000000000002,{"$f":"D647*C648","v":7.9675128393746891E-3}]
["2017-11-01",3.7000000000000002E-3,1.0037,{"$f":"D648*C649","v":7.9969926368803762E-3}]
["2017-12-01",1.8E-3,1.0018,{"$f":"D649*C650","v":8.0113872236267612E-3}]
["2018-01-01",2.5999999999999999E-3,1.0025999999999999,8.0322168304081901E-3]
["2018-02-01",2.3E-3,1.0023,8.0506909291181289E-3]
["2018-03-01",1.8E-3,1.0018,8.0651821727905412E-3]
["2018-04-01",6.9999999999999999E-4,1.0006999999999999,8.0708278003114933E-3]
["2018-05-01",2.0999999999999999E-3,{"$f":"B655+1","v":1.0021},8.0877765386921478E-3]
["2018-06-01",4.3E-3,1.0043,8.1225539778085245E-3]
["2018-07-01",1.43E-2,1.0143,8.2387064996911862E-3]
["2018-08-01",2.5000000000000001E-3,1.0024999999999999,8.2593032659404129E-3]
["2018-09-01",0,1,8.2593032659404129E-3]
["2018-10-01",3.0000000000000001E-3,1.0029999999999999,8.2840811757382334E-3]
["2018-11-01",4.0000000000000001E-3,1.004,8.3172175004411868E-3]
["2018-12-01",-2.5000000000000001E-3,0.99750000000000005,8.2964244566900835E-3]
["2019-01-01",1.4E-3,1.0014000000000001,8.3080394509294497E-3]
["2019-02-01",3.5999999999999999E-3,1.0036,8.3379483929527966E-3]
["2019-03-01",5.4000000000000003E-3,1.0054000000000001,8.3829733142747418E-3]
["2019-04-01",7.7000000000000002E-3,1.0077,8.4475222087946576E-3]
["2019-05-01",6.0000000000000001E-3,1.006,8.4982073420474258E-3]
["2019-06-01",1.5E-3,1.0015000000000001,8.5109546530604974E-3]
["2019-07-01",1E-4,1.0001,8.5118057485258029E-3]
["2019-08-01",1E-3,1.0009999999999999,8.5203175542743273E-3]
["2019-09-01",1.1999999999999999E-3,1.0012000000000001,8.5305419353394578E-3]
["2019-10-01",-5.0000000000000001E-4,0.99950000000000006,8.5262766643717878E-3]
["2019-11-01",4.0000000000000002E-4,1.0004,8.5296871750375359E-3]
["2019-12-01",5.4000000000000003E-3,1.0054000000000001,8.5757474857827386E-3]
["2020-01-01",1.2200000000000001E-2,1.0122,8.6803716051092883E-3]
["2020-02-01",1.9E-3,1.0019,8.6968643111589965E-3]
["2020-03-01",1.6999999999999999E-3,1.0017,8.7116489804879675E-3]
["2020-04-01",1.8E-3,1.0018,8.7273299486528462E-3]
["2020-05-01",-2.3E-3,0.99770000000000003,8.7072570897709454E-3]
["2020-06-01",-2.5000000000000001E-3,0.99750000000000005,8.6854889470465192E-3]
["2020-07-01",3.0000000000000001E-3,1.0029999999999999,8.7115454138876579E-3]
["2020-08-01",4.4000000000000003E-3,1.0044,8.7498762137087627E-3]
["2020-09-01",3.5999999999999999E-3,1.0036,8.7813757680781142E-3]
["2020-10-01",8.6999999999999994E-3,1.0086999999999999,8.8577737372603927E-3]
["2020-11-01",8.8999999999999999E-3,1.0088999999999999,8.9366079235220098E-3]
["2020-12-01",9.4999999999999998E-3,1.0095000000000001,9.0215056987954702E-3]
["2021-01-01",1.46E-2,1.0145999999999999,9.1532196819978841E-3]
["2021-02-01",2.7000000000000001E-3,1.0026999999999999,9.1779333751392782E-3]
["2021-03-01",8.2000000000000007E-3,1.0082,9.253192428815421E-3]
["2021-04-01",8.6E-3,1.0085999999999999,9.3327698837032333E-3]
["2021-05-01",3.8E-3,1.0038,9.368234409261305E-3]
["2021-06-01",9.5999999999999992E-3,1.0096000000000001,9.4581694595902138E-3]
["2021-07-01",6.0000000000000001E-3,1.006,9.5149184763477553E-3]
["2021-08-01",1.0200000000000001E-2,1.0102,9.6119706448065025E-3]
["2021-09-01",8.8000000000000005E-3,1.0087999999999999,9.6965559864807989E-3]
["2021-10-01",1.2E-2,1.012,9.8129146583185688E-3]
["2021-11-01",1.1599999999999999E-2,1.0116000000000001,9.9267444683550643E-3]
["2021-12-01",8.3999999999999995E-3,1.0084,1.0010129121889247E-2]
["2022-01-01",7.3000000000000001E-3,1.0073000000000001,1.0083203064479039E-2]
["2022-02-01",6.7000000000000002E-3,1.0066999999999999,1.0150760525011049E-2]
["2022-03-01",null,1,1.0150760525011049E-2]
["2022-04-01",null,1,1.0150760525011049E-2]
["2022-05-01",null,1,1.0150760525011049E-2]
["2022-06-01",null,1,1.0150760525011049E-2]
["2022-07-01",null,1,1.0150760525011049E-2]
["2022-08-01",null,1,1.0150760525011049E-2]
["2022-09-01",null,1,1.0150760525011049E-2]
["2022-10-01",null,1,1.0150760525011049E-2]
["2022-11-01",null,1,1.0150760525011049E-2]
["2022-12-01",null,1,1.0150760525011049E-2]
["2023-01-01",null,1,1.0150760525011049E-2]
["2023-02-01",null,1,1.0150760525011049E-2]
["2023-03-01",null,1,1.0150760525011049E-2]
["2023-04-01",null,1,{"$f":"D713*C714","v":1.0150760525011049E-2}]
["2023-05-01",null,1,1.0150760525011049E-2]
["2023-06-01",null,1,1.0150760525011049E-2]
["2023-07-01",null,1,1.0150760525011049E-2]
["2023-08-01",null,1,1.0150760525011049E-2]
["2023-09-01",null,{"$f":"B719+1","v":1},1.0150760525011049E-2]
["2023-10-01",null,1,1.0150760525011049E-2]
["2023-11-01",null,1,1.0150760525011049E-2]
["2023-12-01",null,1,1.0150760525011049E-2]
["2024-01-01",null,1,1.0150760525011049E-2]
["2024-02-01",null,1,1.0150760525011049E-2]
["2024-03-01",null,1,1.0150760525011049E-2]
["2024-04-01",null,1,1.0150760525011049E-2]
["2024-05-01",null,1,1.0150760525011049E-2]
["2024-06-01",null,1,1.0150760525011049E-2]
["2024-07-01",null,1,1.0150760525011049E-2]
["2024-08-01",null,1,1.0150760525011049E-2]
["2024-09-01",null,1,1.0150760525011049E-2]
["2024-10-01",null,1,1.0150760525011049E-2]
["2024-11-01",null,1,1.0150760525011049E-2]
["2024-12-01",null,1,1.0150760525011049E-2]
["2025-01-01",null,1,1.0150760525011049E-2]
["2025-02-01",null,1,1.0150760525011049E-2]
["2025-03-01",null,1,1.0150760525011049E-2]
["2025-04-01",null,1,1.0150760525011049E-2]
["2025-05-01",null,1,1.0150760525011049E-2]
["2025-06-01",null,1,1.0150760525011049E-2]
["2025-07-01",null,1,1.0150760525011049E-2]
["2025-08-01",null,1,1.0150760525011049E-2]
["2025-09-01",null,1,1.0150760525011049E-2]
["2025-10-01",null,1,1.0150760525011049E-2]
["2025-11-01",null,1,1.0150760525011049E-2]
["2025-12-01",null,1,1.0150760525011049E-2]
["2026-01-01",null,1,1.0150760525011049E-2]
["2026-02-01",null,1,1.0150760525011049E-2]
["2026-03-01",null,1,1.0150760525011049E-2]
["2026-04-01",null,1,1.0150760525011049E-2]
["2026-05-01",null,1,1.0150760525011049E-2]
["2026-06-01",null,1,1.0150760525011049E-2]
["2026-07-01",null,1,1.0150760525011049E-2]
["2026-08-01",null,1,1.0150760525011049E-2]
["2026-09-01",null,1,1.0150760525011049E-2]
["2026-10-01",null,1,1.0150760525011049E-2]
["2026-11-01",null,1,1.0150760525011049E-2]
["2026-12-01",null,1,1.0150760525011049E-2]
["2027-01-01",null,1,1.0150760525011049E-2]
["2027-02-01",null,1,1.0150760525011049E-2]
["2027-03-01",null,1,1.0150760525011049E-2]
["2027-04-01",null,1,1.0150760525011049E-2]
["2027-05-01",null,1,1.0150760525011049E-2]
["2027-06-01",null,1,1.0150760525011049E-2]
["2027-07-01",null,1,1.0150760525011049E-2]
["2027-08-01",null,1,1.0150760525011049E-2]
["2027-09-01",null,1,1.0150760525011049E-2]
["2027-10-01",null,1,1.0150760525011049E-2]
["2027-11-01",null,1,1.0150760525011049E-2]
["2027-12-01",null,1,1.0150760525011049E-2]
["2028-01-01",null,1,1.0150760525011049E-2]
["2028-02-01",null,1,1.0150760525011049E-2]
["2028-03-01",null,1,1.0150760525011049E-2]
["2028-04-01",null,1,1.0150760525011049E-2]
["2028-05-01",null,1,1.0150760525011049E-2]
["2028-06-01",null,1,1.0150760525011049E-2]
["2028-07-01",null,1,1.0150760525011049E-2]
["2028-08-01",null,1,{"$f":"D777*C778","v":1.0150760525011049E-2}]
["2028-09-01",null,1,1.0150760525011049E-2]
["2028-10-01",null,1,1.0150760525011049E-2]
["2028-11-01",null,1,1.0150760525011049E-2]
["2028-12-01",null,1,1.0150760525011049E-2]
["2029-01-01",null,{"$f":"B783+1","v":1},1.0150760525011049E-2]
["2029-02-01",null,1,1.0150760525011049E-2]
["2029-03-01",null,1,1.0150760525011049E-2]
["2029-04-01",null,1,1.0150760525011049E-2]
["2029-05-01",null,1,1.0150760525011049E-2]
["2029-06-01",null,1,1.0150760525011049E-2]
["2029-07-01",null,1,1.0150760525011049E-2]
["2029-08-01",null,1,1.0150760525011049E-2]
["2029-09-01",null,1,1.0150760525011049E-2]
["2029-10-01",null,1,1.0150760525011049E-2]
["2029-11-01",null,1,1.0150760525011049E-2]
["2029-12-01",null,1,1.0150760525011049E-2]
["2030-01-01",null,1,1.0150760525011049E-2]
["2030-02-01",null,1,1.0150760525011049E-2]
["2030-03-01",null,1,1.0150760525011049E-2]
["2030-04-01",null,1,1.0150760525011049E-2]
["2030-05-01",null,1,1.0150760525011049E-2]
["2030-06-01",null,1,1.0150760525011049E-2]
["2030-07-01",null,1,1.0150760525011049E-2]
["2030-08-01",null,1,1.0150760525011049E-2]
["2030-09-01",null,1,1.0150760525011049E-2]
["2030-10-01",null,1,1.0150760525011049E-2]
["2030-11-01",null,1,1.0150760525011049E-2]
["2030-12-01",null,1,1.0150760525011049E-2]
["2031-01-01",null,1,1.0150760525011049E-2]
["2031-02-01",null,1,1.0150760525011049E-2]
["2031-03-01",null,1,1.0150760525011049E-2]
["2031-04-01",null,1,1.0150760525011049E-2]
["2031-05-01",null,1,1.0150760525011049E-2]
["2031-06-01",null,1,1.0150760525011049E-2]
["2031-07-01",null,1,1.0150760525011049E-2]
["2031-08-01",null,1,1.0150760525011049E-2]
["2031-09-01",null,1,1.0150760525011049E-2]
["2031-10-01",null,1,1.0150760525011049E-2]
["2031-11-01",null,1,1.0150760525011049E-2]
["2031-12-01",null,1,1.0150760525011049E-2]
["2032-01-01",null,1,1.0150760525011049E-2]
["2032-02-01",null,1,1.0150760525011049E-2]
["2032-03-01",null,1,1.0150760525011049E-2]
["2032-04-01",null,1,1.0150760525011049E-2]
["2032-05-01",null,1,1.0150760525011049E-2]
["2032-06-01",null,1,1.0150760525011049E-2]
["2032-07-01",null,1,1.0150760525011049E-2]
["2032-08-01",null,1,1.0150760525011049E-2]
["2032-09-01",null,1,1.0150760525011049E-2]
["2032-10-01",null,1,1.0150760525011049E-2]
["2032-11-01",null,1,1.0150760525011049E-2]
["2032-12-01",null,1,1.0150760525011049E-2]
["2033-01-01",null,1,1.0150760525011049E-2]
["2033-02-01",null,1,1.0150760525011049E-2]
["2033-03-01",null,1,1.0150760525011049E-2]
["2033-04-01",null,1,1.0150760525011049E-2]
["2033-05-01",null,1,1.0150760525011049E-2]
["2033-06-01",null,1,1.0150760525011049E-2]
["2033-07-01",null,1,1.0150760525011049E-2]
["2033-08-01",null,1,1.0150760525011049E-2]
["2033-09-01",null,1,1.0150760525011049E-2]
["2033-10-01",null,1,1.0150760525011049E-2]
["2033-11-01",null,1,1.0150760525011049E-2]
["2033-12-01",null,1,{"$f":"D841*C842","v":1.0150760525011049E-2}]
["2034-01-01",null,1,1.0150760525011049E-2]
["2034-02-01",null,1,1.0150760525011049E-2]
["2034-03-01",null,1,1.0150760525011049E-2]
["2034-04-01",null,1,1.0150760525011049E-2]
["2034-05-01",null,{"$f":"B847+1","v":1},1.0150760525011049E-2]
["2034-06-01",null,1,1.0150760525011049E-2]
["2034-07-01",null,1,1.0150760525011049E-2]
["2034-08-01",null,1,1.0150760525011049E-2]
["2034-09-01",null,1,1.0150760525011049E-2]
["2034-10-01",null,1,1.0150760525011049E-2]
["2034-11-01",null,1,1.0150760525011049E-2]
["2034-12-01",null,1,1.0150760525011049E-2]
["2035-01-01",null,1,1.0150760525011049E-2]
["2035-02-01",null,1,1.0150760525011049E-2]
["2035-03-01",null,1,1.0150760525011049E-2]
["2035-04-01",null,1,1.0150760525011049E-2]
["2035-05-01",null,1,1.0150760525011049E-2]
["2035-06-01",null,1,1.0150760525011049E-2]
["2035-07-01",null,1,1.0150760525011049E-2]
["2035-08-01",null,1,1.0150760525011049E-2]
["2035-09-01",null,1,1.0150760525011049E-2]
["2035-10-01",null,1,1.0150760525011049E-2]
["2035-11-01",null,1,1.0150760525011049E-2]
["2035-12-01",null,1,1.0150760525011049E-2]
["2036-01-01",null,1,1.0150760525011049E-2]
["2036-02-01",null,1,1.0150760525011049E-2]
["2036-03-01",null,1,1.0150760525011049E-2]
["2036-04-01",null,1,1.0150760525011049E-2]
["2036-05-01",null,1,1.0150760525011049E-2]
["2036-06-01",null,1,1.0150760525011049E-2]
["2036-07-01",null,1,1.0150760525011049E-2]
["2036-08-01",null,1,1.0150760525011049E-2]
["2036-09-01",null,1,1.0150760525011049E-2]
["2036-10-01",null,1,1.0150760525011049E-2]
["2036-11-01",null,1,1.0150760525011049E-2]
["2036-12-01",null,1,1.0150760525011049E-2]
["2037-01-01",null,1,1.0150760525011049E-2]
["2037-02-01",null,1,1.0150760525011049E-2]
["2037-03-01",null,1,1.0150760525011049E-2]
["2037-04-01",null,1,1.0150760525011049E-2]
["2037-05-01",null,1,1.0150760525011049E-2]
["2037-06-01",null,1,1.0150760525011049E-2]
["2037-07-01",null,1,1.0150760525011049E-2]
["2037-08-01",null,1,1.0150760525011049E-2]
["2037-09-01",null,1,1.0150760525011049E-2]
["2037-10-01",null,1,1.0150760525011049E-2]
["2037-11-01",null,1,1.0150760525011049E-2]
["2037-12-01",null,1,1.0150760525011049E-2]
["2038-01-01",null,1,1.0150760525011049E-2]
["2038-02-01",null,1,1.0150760525011049E-2]
["2038-03-01",null,1,1.0150760525011049E-2]
["2038-04-01",null,1,1.0150760525011049E-2]
["2038-05-01",null,1,1.0150760525011049E-2]
["2038-06-01",null,1,1.0150760525011049E-2]
["2038-07-01",null,1,1.0150760525011049E-2]
["2038-08-01",null,1,1.0150760525011049E-2]
["2038-09-01",null,1,1.0150760525011049E-2]
["2038-10-01",null,1,1.0150760525011049E-2]
["2038-11-01",null,1,1.0150760525011049E-2]
["2038-12-01",null,1,1.0150760525011049E-2]
["2039-01-01",null,1,1.0150760525011049E-2]
["2039-02-01",null,1,1.0150760525011049E-2]
["2039-03-01",null,1,1.0150760525011049E-2]
["2039-04-01",null,1,{"$f":"D905*C906","v":1.0150760525011049E-2}]
["2039-05-01",null,1,1.0150760525011049E-2]
["2039-06-01",null,1,1.0150760525011049E-2]
["2039-07-01",null,1,1.0150760525011049E-2]
["2039-08-01",null,1,1.0150760525011049E-2]
["2039-09-01",null,{"$f":"B911+1","v":1},1.0150760525011049E-2]
["2039-10-01",null,1,1.0150760525011049E-2]
["2039-11-01",null,1,1.0150760525011049E-2]
["2039-12-01",null,1,1.0150760525011049E-2]
["2040-01-01",null,1,1.0150760525011049E-2]
["2040-02-01",null,1,1.0150760525011049E-2]
["2040-03-01",null,1,1.0150760525011049E-2]
["2040-04-01",null,1,1.0150760525011049E-2]
["2040-05-01",null,1,1.0150760525011049E-2]
["2040-06-01",null,1,1.0150760525011049E-2]
["2040-07-01",null,1,1.0150760525011049E-2]
["2040-08-01",null,1,1.0150760525011049E-2]
["2040-09-01",null,1,1.0150760525011049E-2]
["2040-10-01",null,1,1.0150760525011049E-2]
["2040-11-01",null,1,1.0150760525011049E-2]
["2040-12-01",null,1,1.0150760525011049E-2]
["2041-01-01",null,1,1.0150760525011049E-2]
["2041-02-01",null,1,1.0150760525011049E-2]
["2041-03-01",null,1,1.0150760525011049E-2]
["2041-04-01",null,1,1.0150760525011049E-2]
["2041-05-01",null,1,1.0150760525011049E-2]
["2041-06-01",null,1,1.0150760525011049E-2]
["2041-07-01",null,1,1.0150760525011049E-2]
["2041-08-01",null,1,1.0150760525011049E-2]
["2041-09-01",null,1,1.0150760525011049E-2]
["2041-10-01",null,1,1.0150760525011049E-2]
["2041-11-01",null,1,1.0150760525011049E-2]
["2041-12-01",null,1,1.0150760525011049E-2]
["2042-01-01",null,1,1.0150760525011049E-2]
["2042-02-01",null,1,1.0150760525011049E-2]
["2042-03-01",null,1,1.0150760525011049E-2]
["2042-04-01",null,1,1.0150760525011049E-2]
["2042-05-01",null,1,1.0150760525011049E-2]
["2042-06-01",null,1,1.0150760525011049E-2]
["2042-07-01",null,1,1.0150760525011049E-2]
["2042-08-01",null,1,1.0150760525011049E-2]
["2042-09-01",null,1,1.0150760525011049E-2]
["2042-10-01",null,1,1.0150760525011049E-2]
["2042-11-01",null,1,1.0150760525011049E-2]
["2042-12-01",null,1,1.0150760525011049E-2]
["2043-01-01",null,1,1.0150760525011049E-2]
["2043-02-01",null,1,1.0150760525011049E-2]
["2043-03-01",null,1,1.0150760525011049E-2]
["2043-04-01",null,1,1.0150760525011049E-2]
["2043-05-01",null,1,1.0150760525011049E-2]
["2043-06-01",null,1,1.0150760525011049E-2]
["2043-07-01",null,1,1.0150760525011049E-2]
["2043-08-01",null,1,1.0150760525011049E-2]
["2043-09-01",null,1,1.0150760525011049E-2]
["2043-10-01",null,1,1.0150760525011049E-2]
["2043-11-01",null,1,1.0150760525011049E-2]
["2043-12-01",null,1,1.0150760525011049E-2]
["2044-01-01",null,1,1.0150760525011049E-2]
["2044-02-01",null,1,1.0150760525011049E-2]
["2044-03-01",null,1,1.0150760525011049E-2]
["2044-04-01",null,1,1.0150760525011049E-2]
["2044-05-01",null,1,1.0150760525011049E-2]
["2044-06-01",null,1,1.0150760525011049E-2]
["2044-07-01",null,1,1.0150760525011049E-2]
["2044-08-01",null,1,{"$f":"D969*C970","v":1.0150760525011049E-2}]
["2044-09-01",null,1,1.0150760525011049E-2]
["2044-10-01",null,1,1.0150760525011049E-2]
["2044-11-01",null,1,1.0150760525011049E-2]
["2044-12-01",null,1,1.0150760525011049E-2]
["2045-01-01",null,{"$f":"B975+1","v":1},1.0150760525011049E-2]
["2045-02-01",null,1,1.0150760525011049E-2]
["2045-03-01",null,1,1.0150760525011049E-2]
["2045-04-01",null,1,1.0150760525011049E-2]
["2045-05-01",null,1,1.0150760525011049E-2]
["2045-06-01",null,1,1.0150760525011049E-2]
["2045-07-01",null,1,1.0150760525011049E-2]
["2045-08-01",null,1,1.0150760525011049E-2]
["2045-09-01",null,1,1.0150760525011049E-2]
["2045-10-01",null,1,1.0150760525011049E-2]
["2045-11-01",null,1,1.0150760525011049E-2]
["2045-12-01",null,1,1.0150760525011049E-2]
["2046-01-01",null,1,1.0150760525011049E-2]
["2046-02-01",null,1,1.0150760525011049E-2]
["2046-03-01",null,1,1.0150760525011049E-2]
["2046-04-01",null,1,1.0150760525011049E-2]
["2046-05-01",null,1,1.0150760525011049E-2]
["2046-06-01",null,1,1.0150760525011049E-2]
["2046-07-01",null,1,1.0150760525011049E-2]
["2046-08-01",null,1,1.0150760525011049E-2]
["2046-09-01",null,1,1.0150760525011049E-2]
["2046-10-01",null,1,1.0150760525011049E-2]
["2046-11-01",null,1,1.0150760525011049E-2]
["2046-12-01",null,1,1.0150760525011049E-2]
["2047-01-01",null,1,1.0150760525011049E-2]
["2047-02-01",null,1,1.0150760525011049E-2]
["2047-03-01",null,1,1.0150760525011049E-2]
["2047-04-01",null,1,1.0150760525011049E-2]
["2047-05-01",null,1,1.0150760525011049E-2]
["2047-06-01",null,1,1.0150760525011049E-2]
["2047-07-01",null,1,1.0150760525011049E-2]
["2047-08-01",null,1,1.0150760525011049E-2]
["2047-09-01",null,1,1.0150760525011049E-2]
["2047-10-01",null,1,1.0150760525011049E-2]
["2047-11-01",null,1,1.0150760525011049E-2]
["2047-12-01",null,1,1.0150760525011049E-2]
["2048-01-01",null,1,1.0150760525011049E-2]
["2048-02-01",null,1,1.0150760525011049E-2]
["2048-03-01",null,1,1.0150760525011049E-2]
["2048-04-01",null,1,1.0150760525011049E-2]
["2048-05-01",null,1,1.0150760525011049E-2]
["2048-06-01",null,1,1.0150760525011049E-2]
["2048-07-01",null,1,1.0150760525011049E-2]
["2048-08-01",null,1,1.0150760525011049E-2]
["2048-09-01",null,1,1.0150760525011049E-2]
["2048-10-01",null,1,1.0150760525011049E-2]
["2048-11-01",null,1,1.0150760525011049E-2]
["2048-12-01",null,1,1.0150760525011049E-2]
["2049-01-01",null,1,1.0150760525011049E-2]
["2049-02-01",null,1,1.0150760525011049E-2]
["2049-03-01",null,1,1.0150760525011049E-2]
["2049-04-01",null,1,1.0150760525011049E-2]
["2049-05-01",null,1,1.0150760525011049E-2]
["2049-06-01",null,1,1.0150760525011049E-2]
["2049-07-01",null,1,1.0150760525011049E-2]
["2049-08-01",null,1,1.0150760525011049E-2]
["2049-09-01",null,1,1.0150760525011049E-2]
["2049-10-01",null,1,1.0150760525011049E-2]
["2049-11-01",null,1,1.0150760525011049E-2]
["2049-12-01",null,1,{"$f":"D1033*C1034","v":1.0150760525011049E-2}]
["2050-01-01",null,1,1.0150760525011049E-2]
["2050-02-01",null,1,1.0150760525011049E-2]
["2050-03-01",null,1,1.0150760525011049E-2]
["2050-04-01",null,1,1.0150760525011049E-2]
["2050-05-01",null,{"$f":"B1039+1","v":1},1.0150760525011049E-2]
["2050-06-01",null,1,1.0150760525011049E-2]
["2050-07-01",null,1,1.0150760525011049E-2]
["2050-08-01",null,1,1.0150760525011049E-2]
["2050-09-01",null,1,1.0150760525011049E-2]
["2050-10-01",null,1,1.0150760525011049E-2]
["2050-11-01",null,1,1.0150760525011049E-2]
["2050-12-01",null,1,1.0150760525011049E-2]
["2051-01-01",null,1,1.0150760525011049E-2]
["2051-02-01",null,1,1.0150760525011049E-2]
["2051-03-01",null,1,1.0150760525011049E-2]
["2051-04-01",null,1,1.0150760525011049E-2]
["2051-05-01",null,1,1.0150760525011049E-2]
["2051-06-01",null,1,1.0150760525011049E-2]
["2051-07-01",null,1,1.0150760525011049E-2]
["2051-08-01",null,1,1.0150760525011049E-2]
["2051-09-01",null,1,1.0150760525011049E-2]
["2051-10-01",null,1,1.0150760525011049E-2]
["2051-11-01",null,1,1.0150760525011049E-2]
["2051-12-01",null,1,1.0150760525011049E-2]
["2052-01-01",null,1,1.0150760525011049E-2]
["2052-02-01",null,1,1.0150760525011049E-2]
["2052-03-01",null,1,1.0150760525011049E-2]
["2052-04-01",null,1,1.0150760525011049E-2]
["2052-05-01",null,1,1.0150760525011049E-2]
["2052-06-01",null,1,1.0150760525011049E-2]
["2052-07-01",null,1,1.0150760525011049E-2]
["2052-08-01",null,1,1.0150760525011049E-2]
["2052-09-01",null,1,1.0150760525011049E-2]
["2052-10-01",null,1,1.0150760525011049E-2]
["2052-11-01",null,1,1.0150760525011049E-2]
["2052-12-01",null,1,1.0150760525011049E-2]
["2053-01-01",null,1,1.0150760525011049E-2]
["2053-02-01",null,1,1.0150760525011049E-2]
["2053-03-01",null,1,1.0150760525011049E-2]
["2053-04-01",null,1,1.0150760525011049E-2]
["2053-05-01",null,1,1.0150760525011049E-2]
["2053-06-01",null,1,1.0150760525011049E-2]
["2053-07-01",null,1,1.0150760525011049E-2]
["2053-08-01",null,1,1.0150760525011049E-2]
["2053-09-01",null,1,1.0150760525011049E-2]
["2053-10-01",null,1,1.0150760525011049E-2]
["2053-11-01",null,1,1.0150760525011049E-2]
["2053-12-01",null,1,1.0150760525011049E-2]
["2054-01-01",null,1,1.0150760525011049E-2]
["2054-02-01",null,1,1.0150760525011049E-2]
["2054-03-01",null,1,1.0150760525011049E-2]
["2054-04-01",null,1,1.0150760525011049E-2]
["2054-05-01",null,1,1.0150760525011049E-2]
["2054-06-01",null,1,1.0150760525011049E-2]
["2054-07-01",null,1,1.0150760525011049E-2]
["2054-08-01",null,1,1.0150760525011049E-2]
["2054-09-01",null,1,1.0150760525011049E-2]
["2054-10-01",null,1,1.0150760525011049E-2]
["2054-11-01",null,1,1.0150760525011049E-2]
["2054-12-01",null,1,1.0150760525011049E-2]
["2055-01-01",null,1,1.0150760525011049E-2]
["2055-02-01",null,1,1.0150760525011049E-2]
["2055-03-01",null,1,1.0150760525011049E-2]
["2055-04-01",null,1,{"$f":"D1097*C1098","v":1.0150760525011049E-2}]
["2055-05-01",null,1,1.0150760525011049E-2]
["2055-06-01",null,1,1.0150760525011049E-2]
["2055-07-01",null,1,1.0150760525011049E-2]
["2055-08-01",null,1,1.0150760525011049E-2]
["2055-09-01",null,{"$f":"B1103+1","v":1},1.0150760525011049E-2]
["2055-10-01",null,1,1.0150760525011049E-2]
["2055-11-01",null,1,1.0150760525011049E-2]
["2055-12-01",null,1,1.0150760525011049E-2]
["2056-01-01",null,1,1.0150760525011049E-2]
["2056-02-01",null,1,1.0150760525011049E-2]
["2056-03-01",null,1,1.0150760525011049E-2]
["2056-04-01",null,1,1.0150760525011049E-2]
["2056-05-01",null,1,1.0150760525011049E-2]
["2056-06-01",null,1,1.0150760525011049E-2]
["2056-07-01",null,1,1.0150760525011049E-2]
["2056-08-01",null,1,1.0150760525011049E-2]
["2056-09-01",null,1,1.0150760525011049E-2]
["2056-10-01",null,1,1.0150760525011049E-2]
["2056-11-01",null,1,1.0150760525011049E-2]
["2056-12-01",null,1,1.0150760525011049E-2]
["2057-01-01",null,1,1.0150760525011049E-2]
["2057-02-01",null,1,1.0150760525011049E-2]
["2057-03-01",null,1,1.0150760525011049E-2]
["2057-04-01",null,1,1.0150760525011049E-2]
["2057-05-01",null,1,1.0150760525011049E-2]
["2057-06-01",null,1,1.0150760525011049E-2]
["2057-07-01",null,1,1.0150760525011049E-2]
["2057-08-01",null,1,1.0150760525011049E-2]
["2057-09-01",null,1,1.0150760525011049E-2]
["2057-10-01",null,1,1.0150760525011049E-2]
["2057-11-01",null,1,1.0150760525011049E-2]
["2057-12-01",null,1,1.0150760525011049E-2]
["2058-01-01",null,1,1.0150760525011049E-2]
["2058-02-01",null,1,1.0150760525011049E-2]
["2058-03-01",null,1,1.0150760525011049E-2]
["2058-04-01",null,1,1.0150760525011049E-2]
["2058-05-01",null,1,1.0150760525011049E-2]
["2058-06-01",null,1,1.0150760525011049E-2]
["2058-07-01",null,1,1.0150760525011049E-2]
["2058-08-01",null,1,1.0150760525011049E-2]
["2058-09-01",null,1,1.0150760525011049E-2]
["2058-10-01",null,1,1.0150760525011049E-2]
["2058-11-01",null,1,1.0150760525011049E-2]
["2058-12-01",null,1,1.0150760525011049E-2]
["2059-01-01",null,1,1.0150760525011049E-2]
["2059-02-01",null,1,1.0150760525011049E-2]
["2059-03-01",null,1,1.0150760525011049E-2]
["2059-04-01",null,1,1.0150760525011049E-2]
["2059-05-01",null,1,1.0150760525011049E-2]
["2059-06-01",null,1,1.0150760525011049E-2]
["2059-07-01",null,1,1.0150760525011049E-2]
["2059-08-01",null,1,1.0150760525011049E-2]
["2059-09-01",null,1,1.0150760525011049E-2]
["2059-10-01",null,1,1.0150760525011049E-2]
["2059-11-01",null,1,1.0150760525011049E-2]
["2059-12-01",null,1,1.0150760525011049E-2]
["2060-01-01",null,1,1.0150760525011049E-2]
["2060-02-01",null,1,1.0150760525011049E-2]
["2060-03-01",null,1,1.0150760525011049E-2]
["2060-04-01",null,1,1.0150760525011049E-2]
["2060-05-01",null,1,1.0150760525011049E-2]
["2060-06-01",null,1,1.0150760525011049E-2]
["2060-07-01",null,1,1.0150760525011049E-2]
["2060-08-01",null,1,{"$f":"D1161*C1162","v":1.0150760525011049E-2}]
["2060-09-01",null,1,1.0150760525011049E-2]
["2060-10-01",null,1,1.0150760525011049E-2]
["2060-11-01",null,1,1.0150760525011049E-2]
["2060-12-01",null,1,1.0150760525011049E-2]
["2061-01-01",null,{"$f":"B1167+1","v":1},1.0150760525011049E-2]
["2061-02-01",null,1,1.0150760525011049E-2]
["2061-03-01",null,1,1.0150760525011049E-2]
["2061-04-01",null,1,1.0150760525011049E-2]
["2061-05-01",null,1,1.0150760525011049E-2]
["2061-06-01",null,1,1.0150760525011049E-2]
["2061-07-01",null,1,1.0150760525011049E-2]
["2061-08-01",null,1,1.0150760525011049E-2]
["2061-09-01",null,1,1.0150760525011049E-2]
["2061-10-01",null,1,1.0150760525011049E-2]
["2061-11-01",null,1,1.0150760525011049E-2]
["2061-12-01",null,1,1.0150760525011049E-2]
["2062-01-01",null,1,1.0150760525011049E-2]
["2062-02-01",null,1,1.0150760525011049E-2]
["2062-03-01",null,1,1.0150760525011049E-2]
["2062-04-01",null,1,1.0150760525011049E-2]
["2062-05-01",null,1,1.0150760525011049E-2]
["2062-06-01",null,1,1.0150760525011049E-2]
["2062-07-01",null,1,1.0150760525011049E-2]
["2062-08-01",null,1,1.0150760525011049E-2]
["2062-09-01",null,1,1.0150760525011049E-2]
["2062-10-01",null,1,1.0150760525011049E-2]
["2062-11-01",null,1,1.0150760525011049E-2]
["2062-12-01",null,1,1.0150760525011049E-2]
["2063-01-01",null,1,1.0150760525011049E-2]
["2063-02-01",null,1,1.0150760525011049E-2]
["2063-03-01",null,1,1.0150760525011049E-2]
["2063-04-01",null,1,1.0150760525011049E-2]
["2063-05-01",null,1,1.0150760525011049E-2]
["2063-06-01",null,1,1.0150760525011049E-2]
["2063-07-01",null,1,1.0150760525011049E-2]
["2063-08-01",null,1,1.0150760525011049E-2]
["2063-09-01",null,1,1.0150760525011049E-2]
["2063-10-01",null,1,1.0150760525011049E-2]
["2063-11-01",null,1,1.0150760525011049E-2]
["2063-12-01",null,1,1.0150760525011049E-2]
["2064-01-01",null,1,1.0150760525011049E-2]
["2064-02-01",null,1,1.0150760525011049E-2]
["2064-03-01",null,1,1.0150760525011049E-2]
["2064-04-01",null,1,1.0150760525011049E-2]
["2064-05-01",null,1,1.0150760525011049E-2]
["2064-06-01",null,1,1.0150760525011049E-2]
["2064-07-01",null,1,1.0150760525011049E-2]
["2064-08-01",null,1,1.0150760525011049E-2]
["2064-09-01",null,1,1.0150760525011049E-2]
["2064-10-01",null,1,1.0150760525011049E-2]
["2064-11-01",null,1,1.0150760525011049E-2]
["2064-12-01",null,1,1.0150760525011049E-2]
["2065-01-01",null,1,1.0150760525011049E-2]
["2065-02-01",null,1,1.0150760525011049E-2]
["2065-03-01",null,1,1.0150760525011049E-2]
["2065-04-01",null,1,1.0150760525011049E-2]
["2065-05-01",null,1,1.0150760525011049E-2]
["2065-06-01",null,1,1.0150760525011049E-2]
["2065-07-01",null,1,1.0150760525011049E-2]
["2065-08-01",null,1,1.0150760525011049E-2]
["2065-09-01",null,1,1.0150760525011049E-2]
["2065-10-01",null,1,1.0150760525011049E-2]
["2065-11-01",null,1,1.0150760525011049E-2]
["2065-12-01",null,1,{"$f":"D1225*C1226","v":1.0150760525011049E-2}]
["2066-01-01",null,1,1.0150760525011049E-2]
["2066-02-01",null,1,1.0150760525011049E-2]
["2066-03-01",null,1,1.0150760525011049E-2]
["2066-04-01",null,1,1.0150760525011049E-2]
["2066-05-01",null,{"$f":"B1231+1","v":1},1.0150760525011049E-2]
["2066-06-01",null,1,1.0150760525011049E-2]
["2066-07-01",null,1,1.0150760525011049E-2]
["2066-08-01",null,1,1.0150760525011049E-2]
["2066-09-01",null,1,1.0150760525011049E-2]
["2066-10-01",null,1,1.0150760525011049E-2]
["2066-11-01",null,1,1.0150760525011049E-2]
["2066-12-01",null,1,1.0150760525011049E-2]
["2067-01-01",null,1,1.0150760525011049E-2]
["2067-02-01",null,1,1.0150760525011049E-2]
["2067-03-01",null,1,1.0150760525011049E-2]
["2067-04-01",null,1,1.0150760525011049E-2]
["2067-05-01",null,1,1.0150760525011049E-2]
["2067-06-01",null,1,1.0150760525011049E-2]
["2067-07-01",null,1,1.0150760525011049E-2]
["2067-08-01",null,1,1.0150760525011049E-2]
["2067-09-01",null,1,1.0150760525011049E-2]
["2067-10-01",null,1,1.0150760525011049E-2]
["2067-11-01",null,1,1.0150760525011049E-2]
["2067-12-01",null,1,1.0150760525011049E-2]
["2068-01-01",null,1,1.0150760525011049E-2]
["2068-02-01",null,1,1.0150760525011049E-2]
["2068-03-01",null,1,1.0150760525011049E-2]
["2068-04-01",null,1,1.0150760525011049E-2]
["2068-05-01",null,1,1.0150760525011049E-2]
["2068-06-01",null,1,1.0150760525011049E-2]
["2068-07-01",null,1,1.0150760525011049E-2]
["2068-08-01",null,1,1.0150760525011049E-2]
["2068-09-01",null,1,1.0150760525011049E-2]
["2068-10-01",null,1,1.0150760525011049E-2]
["2068-11-01",null,1,1.0150760525011049E-2]
["2068-12-01",null,1,1.0150760525011049E-2]
["2069-01-01",null,1,1.0150760525011049E-2]
["2069-02-01",null,1,1.0150760525011049E-2]
["2069-03-01",null,1,1.0150760525011049E-2]
["2069-04-01",null,1,1.0150760525011049E-2]
["2069-05-01",null,1,1.0150760525011049E-2]
["2069-06-01",null,1,1.0150760525011049E-2]
["2069-07-01",null,1,1.0150760525011049E-2]
["2069-08-01",null,1,1.0150760525011049E-2]
["2069-09-01",null,1,1.0150760525011049E-2]
["2069-10-01",null,1,1.0150760525011049E-2]
["2069-11-01",null,1,1.0150760525011049E-2]
["2069-12-01",null,1,1.0150760525011049E-2]
["2070-01-01",null,1,1.0150760525011049E-2]
["2070-02-01",null,1,1.0150760525011049E-2]
["2070-03-01",null,1,1.0150760525011049E-2]
["2070-04-01",null,1,1.0150760525011049E-2]
["2070-05-01",null,1,1.0150760525011049E-2]
["2070-06-01",null,1,1.0150760525011049E-2]
["2070-07-01",null,1,1.0150760525011049E-2]
["2070-08-01",null,1,1.0150760525011049E-2]
["2070-09-01",null,1,1.0150760525011049E-2]
["2070-10-01",null,1,1.0150760525011049E-2]
["2070-11-01",null,1,1.0150760525011049E-2]
["2070-12-01",null,1,1.0150760525011049E-2]
["2071-01-01",null,1,1.0150760525011049E-2]
["2071-02-01",null,1,1.0150760525011049E-2]
["2071-03-01",null,1,1.0150760525011049E-2]
["2071-04-01",null,1,{"$f":"D1289*C1290","v":1.0150760525011049E-2}]
["2071-05-01",null,1,1.0150760525011049E-2]
["2071-06-01",null,1,1.0150760525011049E-2]
["2071-07-01",null,1,1.0150760525011049E-2]
["2071-08-01",null,1,1.0150760525011049E-2]
["2071-09-01",null,{"$f":"B1295+1","v":1},1.0150760525011049E-2]
["2071-10-01",null,1,1.0150760525011049E-2]
["2071-11-01",null,1,1.0150760525011049E-2]
["2071-12-01",null,1,1.0150760525011049E-2]
["2072-01-01",null,1,1.0150760525011049E-2]
["2072-02-01",null,1,1.0150760525011049E-2]
["2072-03-01",null,1,1.0150760525011049E-2]
["2072-04-01",null,1,1.0150760525011049E-2]
["2072-05-01",null,1,1.0150760525011049E-2]
["2072-06-01",null,1,1.0150760525011049E-2]
["2072-07-01",null,1,1.0150760525011049E-2]
["2072-08-01",null,1,1.0150760525011049E-2]
["2072-09-01",null,1,1.0150760525011049E-2]
["2072-10-01",null,1,1.0150760525011049E-2]
["2072-11-01",null,1,1.0150760525011049E-2]
["2072-12-01",null,1,1.0150760525011049E-2]
["2073-01-01",null,1,1.0150760525011049E-2]
["2073-02-01",null,1,1.0150760525011049E-2]
["2073-03-01",null,1,1.0150760525011049E-2]
["2073-04-01",null,1,1.0150760525011049E-2]
["2073-05-01",null,1,1.0150760525011049E-2]
["2073-06-01",null,1,1.0150760525011049E-2]
["2073-07-01",null,1,1.0150760525011049E-2]
["2073-08-01",null,1,1.0150760525011049E-2]
["2073-09-01",null,1,1.0150760525011049E-2]
["2073-10-01",null,1,1.0150760525011049E-2]
["2073-11-01",null,1,1.0150760525011049E-2]
["2073-12-01",null,1,1.0150760525011049E-2]
["2074-01-01",null,1,1.0150760525011049E-2]
["2074-02-01",null,1,1.0150760525011049E-2]
["2074-03-01",null,1,1.0150760525011049E-2]
["2074-04-01",null,1,1.0150760525011049E-2]
["2074-05-01",null,1,1.0150760525011049E-2]
["2074-06-01",null,1,1.0150760525011049E-2]
["2074-07-01",null,1,1.0150760525011049E-2]
["2074-08-01",null,1,1.0150760525011049E-2]
["2074-09-01",null,1,1.0150760525011049E-2]
["2074-10-01",null,1,1.0150760525011049E-2]
["2074-11-01",null,1,1.0150760525011049E-2]
["2074-12-01",null,1,1.0150760525011049E-2]
["2075-01-01",null,1,1.0150760525011049E-2]
["2075-02-01",null,1,1.0150760525011049E-2]
["2075-03-01",null,1,1.0150760525011049E-2]
["2075-04-01",null,1,1.0150760525011049E-2]
["2075-05-01",null,1,1.0150760525011049E-2]
["2075-06-01",null,1,1.0150760525011049E-2]
["2075-07-01",null,1,1.0150760525011049E-2]
["2075-08-01",null,1,1.0150760525011049E-2]
["2075-09-01",null,1,1.0150760525011049E-2]
["2075-10-01",null,1,1.0150760525011049E-2]
["2075-11-01",null,1,1.0150760525011049E-2]
["2075-12-01",null,1,1.0150760525011049E-2]
["2076-01-01",null,1,1.0150760525011049E-2]
["2076-02-01",null,1,1.0150760525011049E-2]
["2076-03-01",null,1,1.0150760525011049E-2]
["2076-04-01",null,1,1.0150760525011049E-2]
["2076-05-01",null,1,1.0150760525011049E-2]
["2076-06-01",null,1,1.0150760525011049E-2]
["2076-07-01",null,1,1.0150760525011049E-2]
["2076-08-01",null,1,{"$f":"D1353*C1354","v":1.0150760525011049E-2}]
["2076-09-01",null,1,1.0150760525011049E-2]
["2076-10-01",null,1,1.0150760525011049E-2]
["2076-11-01",null,1,1.0150760525011049E-2]
["2076-12-01",null,1,1.0150760525011049E-2]
["2077-01-01",null,{"$f":"B1359+1","v":1},1.0150760525011049E-2]
["2077-02-01",null,1,1.0150760525011049E-2]
["2077-03-01",null,1,1.0150760525011049E-2]
["2077-04-01",null,1,1.0150760525011049E-2]
["2077-05-01",null,1,1.0150760525011049E-2]
["2077-06-01",null,1,1.0150760525011049E-2]
["2077-07-01",null,1,1.0150760525011049E-2]
["2077-08-01",null,1,1.0150760525011049E-2]
["2077-09-01",null,1,1.0150760525011049E-2]
["2077-10-01",null,1,1.0150760525011049E-2]
["2077-11-01",null,1,1.0150760525011049E-2]
["2077-12-01",null,1,1.0150760525011049E-2]
["2078-01-01",null,1,1.0150760525011049E-2]
["2078-02-01",null,1,1.0150760525011049E-2]
["2078-03-01",null,1,1.0150760525011049E-2]
["2078-04-01",null,1,1.0150760525011049E-2]
["2078-05-01",null,1,1.0150760525011049E-2]
["2078-06-01",null,1,1.0150760525011049E-2]
["2078-07-01",null,1,1.0150760525011049E-2]
["2078-08-01",null,1,1.0150760525011049E-2]
["2078-09-01",null,1,1.0150760525011049E-2]
["2078-10-01",null,1,1.0150760525011049E-2]
["2078-11-01",null,1,1.0150760525011049E-2]
["2078-12-01",null,1,1.0150760525011049E-2]
["2079-01-01",null,1,1.0150760525011049E-2]
["2079-02-01",null,1,1.0150760525011049E-2]
["2079-03-01",null,1,1.0150760525011049E-2]
["2079-04-01",null,1,1.0150760525011049E-2]
["2079-05-01",null,1,1.0150760525011049E-2]
["2079-06-01",null,1,1.0150760525011049E-2]
["2079-07-01",null,1,1.0150760525011049E-2]
["2079-08-01",null,1,1.0150760525011049E-2]
["2079-09-01",null,1,1.0150760525011049E-2]
["2079-10-01",null,1,1.0150760525011049E-2]
["2079-11-01",null,1,1.0150760525011049E-2]
["2079-12-01",null,1,1.0150760525011049E-2]
["2080-01-01",null,1,1.0150760525011049E-2]
["2080-02-01",null,1,1.0150760525011049E-2]
["2080-03-01",null,1,1.0150760525011049E-2]
["2080-04-01",null,1,1.0150760525011049E-2]
["2080-05-01",null,1,1.0150760525011049E-2]
["2080-06-01",null,1,1.0150760525011049E-2]
["2080-07-01",null,1,1.0150760525011049E-2]
["2080-08-01",null,1,1.0150760525011049E-2]
["2080-09-01",null,1,1.0150760525011049E-2]
["2080-10-01",null,1,1.0150760525011049E-2]
["2080-11-01",null,1,1.0150760525011049E-2]
["2080-12-01",null,1,1.0150760525011049E-2]
["2081-01-01",null,1,1.0150760525011049E-2]
["2081-02-01",null,1,1.0150760525011049E-2]
["2081-03-01",null,1,1.0150760525011049E-2]
["2081-04-01",null,1,1.0150760525011049E-2]
["2081-05-01",null,1,1.0150760525011049E-2]
["2081-06-01",null,1,1.0150760525011049E-2]
["2081-07-01",null,1,1.0150760525011049E-2]
["2081-08-01",null,1,1.0150760525011049E-2]
["2081-09-01",null,1,1.0150760525011049E-2]
["2081-10-01",null,1,1.0150760525011049E-2]
["2081-11-01",null,1,1.0150760525011049E-2]
["2081-12-01",null,1,{"$f":"D1417*C1418","v":1.0150760525011049E-2}]
["2082-01-01",null,1,1.0150760525011049E-2]
["2082-02-01",null,1,1.0150760525011049E-2]
["2082-03-01",null,1,1.0150760525011049E-2]
["2082-04-01",null,1,1.0150760525011049E-2]
["2082-05-01",null,{"$f":"B1423+1","v":1},1.0150760525011049E-2]
["2082-06-01",null,1,1.0150760525011049E-2]
["2082-07-01",null,1,1.0150760525011049E-2]
["2082-08-01",null,1,1.0150760525011049E-2]
["2082-09-01",null,1,1.0150760525011049E-2]
["2082-10-01",null,1,1.0150760525011049E-2]
["2082-11-01",null,1,1.0150760525011049E-2]
["2082-12-01",null,1,1.0150760525011049E-2]
["2083-01-01",null,1,1.0150760525011049E-2]
["2083-02-01",null,1,1.0150760525011049E-2]
["2083-03-01",null,1,1.0150760525011049E-2]
["2083-04-01",null,1,1.0150760525011049E-2]
["2083-05-01",null,1,1.0150760525011049E-2]
["2083-06-01",null,1,1.0150760525011049E-2]
["2083-07-01",null,1,1.0150760525011049E-2]
["2083-08-01",null,1,1.0150760525011049E-2]
["2083-09-01",null,1,1.0150760525011049E-2]
["2083-10-01",null,1,1.0150760525011049E-2]
["2083-11-01",null,1,1.0150760525011049E-2]
["2083-12-01",null,1,1.0150760525011049E-2]
["2084-01-01",null,1,1.0150760525011049E-2]
["2084-02-01",null,1,1.0150760525011049E-2]
["2084-03-01",null,1,1.0150760525011049E-2]
["2084-04-01",null,1,1.0150760525011049E-2]
["2084-05-01",null,1,1.0150760525011049E-2]
["2084-06-01",null,1,1.0150760525011049E-2]
["2084-07-01",null,1,1.0150760525011049E-2]
["2084-08-01",null,1,1.0150760525011049E-2]
["2084-09-01",null,1,1.0150760525011049E-2]
["2084-10-01",null,1,1.0150760525011049E-2]
["2084-11-01",null,1,1.0150760525011049E-2]
["2084-12-01",null,1,1.0150760525011049E-2]
["2085-01-01",null,1,1.0150760525011049E-2]
["2085-02-01",null,1,1.0150760525011049E-2]
["2085-03-01",null,1,1.0150760525011049E-2]
["2085-04-01",null,1,1.0150760525011049E-2]
["2085-05-01",null,1,1.0150760525011049E-2]
["2085-06-01",null,1,1.0150760525011049E-2]
["2085-07-01",null,1,1.0150760525011049E-2]
["2085-08-01",null,1,1.0150760525011049E-2]
["2085-09-01",null,1,1.0150760525011049E-2]
["2085-10-01",null,1,1.0150760525011049E-2]
["2085-11-01",null,1,1.0150760525011049E-2]
["2085-12-01",null,1,1.0150760525011049E-2]
["2086-01-01",null,1,1.0150760525011049E-2]
["2086-02-01",null,1,1.0150760525011049E-2]
["2086-03-01",null,1,1.0150760525011049E-2]
["2086-04-01",null,1,1.0150760525011049E-2]
["2086-05-01",null,1,1.0150760525011049E-2]
["2086-06-01",null,1,1.0150760525011049E-2]
["2086-07-01",null,1,1.0150760525011049E-2]
["2086-08-01",null,1,1.0150760525011049E-2]
["2086-09-01",null,1,1.0150760525011049E-2]
["2086-10-01",null,1,1.0150760525011049E-2]
["2086-11-01",null,1,1.0150760525011049E-2]
["2086-12-01",null,1,1.0150760525011049E-2]
["2087-01-01",null,1,1.0150760525011049E-2]
["2087-02-01",null,1,1.0150760525011049E-2]
["2087-03-01",null,1,1.0150760525011049E-2]
["2087-04-01",null,1,{"$f":"D1481*C1482","v":1.0150760525011049E-2}]
["2087-05-01",null,1,1.0150760525011049E-2]
["2087-06-01",null,1,1.0150760525011049E-2]
["2087-07-01",null,1,1.0150760525011049E-2]
["2087-08-01",null,1,1.0150760525011049E-2]
["2087-09-01",null,{"$f":"B1487+1","v":1},1.0150760525011049E-2]
["2087-10-01",null,1,1.0150760525011049E-2]
["2087-11-01",null,1,1.0150760525011049E-2]
["2087-12-01",null,1,1.0150760525011049E-2]
["2088-01-01",null,1,1.0150760525011049E-2]
["2088-02-01",null,1,1.0150760525011049E-2]
["2088-03-01",null,1,1.0150760525011049E-2]
["2088-04-01",null,1,1.0150760525011049E-2]
["2088-05-01",null,1,1.0150760525011049E-2]
["2088-06-01",null,1,1.0150760525011049E-2]
["2088-07-01",null,1,1.0150760525011049E-2]
["2088-08-01",null,1,1.0150760525011049E-2]
["2088-09-01",null,1,1.0150760525011049E-2]
["2088-10-01",null,1,1.0150760525011049E-2]
["2088-11-01",null,1,1.0150760525011049E-2]
["2088-12-01",null,1,1.0150760525011049E-2]
["2089-01-01",null,1,1.0150760525011049E-2]
["2089-02-01",null,1,1.0150760525011049E-2]
["2089-03-01",null,1,1.0150760525011049E-2]
["2089-04-01",null,1,1.0150760525011049E-2]
["2089-05-01",null,1,1.0150760525011049E-2]
["2089-06-01",null,1,1.0150760525011049E-2]
["2089-07-01",null,1,1.0150760525011049E-2]
["2089-08-01",null,1,1.0150760525011049E-2]
["2089-09-01",null,1,1.0150760525011049E-2]
["2089-10-01",null,1,1.0150760525011049E-2]
["2089-11-01",null,1,1.0150760525011049E-2]
["2089-12-01",null,1,1.0150760525011049E-2]
["2090-01-01",null,1,1.0150760525011049E-2]
["2090-02-01",null,1,1.0150760525011049E-2]
["2090-03-01",null,1,1.0150760525011049E-2]
["2090-04-01",null,1,1.0150760525011049E-2]
["2090-05-01",null,1,1.0150760525011049E-2]
["2090-06-01",null,1,1.0150760525011049E-2]
["2090-07-01",null,1,1.0150760525011049E-2]
["2090-08-01",null,1,1.0150760525011049E-2]
["2090-09-01",null,1,1.0150760525011049E-2]
["2090-10-01",null,1,1.0150760525011049E-2]
["2090-11-01",null,1,1.0150760525011049E-2]
["2090-12-01",null,1,1.0150760525011049E-2]
["2091-01-01",null,1,1.0150760525011049E-2]
["2091-02-01",null,1,1.0150760525011049E-2]
["2091-03-01",null,1,1.0150760525011049E-2]
["2091-04-01",null,1,1.0150760525011049E-2]
["2091-05-01",null,1,1.0150760525011049E-2]
["2091-06-01",null,1,1.0150760525011049E-2]
["2091-07-01",null,1,1.0150760525011049E-2]
["2091-08-01",null,1,1.0150760525011049E-2]
["2091-09-01",null,1,1.0150760525011049E-2]
["2091-10-01",null,1,1.0150760525011049E-2]
["2091-11-01",null,1,1.0150760525011049E-2]
["2091-12-01",null,1,1.0150760525011049E-2]
["2092-01-01",null,1,1.0150760525011049E-2]
["2092-02-01",null,1,1.0150760525011049E-2]
["2092-03-01",null,1,1.0150760525011049E-2]
["2092-04-01",null,1,1.0150760525011049E-2]
["2092-05-01",null,1,1.0150760525011049E-2]
["2092-06-01",null,1,1.0150760525011049E-2]
["2092-07-01",null,1,1.0150760525011049E-2]
["2092-08-01",null,1,{"$f":"D1545*C1546","v":1.0150760525011049E-2}]
["2092-09-01",null,1,1.0150760525011049E-2]
["2092-10-01",null,1,1.0150760525011049E-2]
["2092-11-01",null,1,1.0150760525011049E-2]
["2092-12-01",null,1,1.0150760525011049E-2]
["2093-01-01",null,{"$f":"B1551+1","v":1},1.0150760525011049E-2]
["2093-02-01",null,1,1.0150760525011049E-2]
["2093-03-01",null,1,1.0150760525011049E-2]
["2093-04-01",null,1,1.0150760525011049E-2]
["2093-05-01",null,1,1.0150760525011049E-2]
["2093-06-01",null,1,1.0150760525011049E-2]
["2093-07-01",null,1,1.0150760525011049E-2]
["2093-08-01",null,1,1.0150760525011049E-2]
["2093-09-01",null,1,1.0150760525011049E-2]
["2093-10-01",null,1,1.0150760525011049E-2]
["2093-11-01",null,1,1.0150760525011049E-2]
["2093-12-01",null,1,1.0150760525011049E-2]
["2094-01-01",null,1,1.0150760525011049E-2]
["2094-02-01",null,1,1.0150760525011049E-2]
["2094-03-01",null,1,1.0150760525011049E-2]
["2094-04-01",null,1,1.0150760525011049E-2]
["2094-05-01",null,1,1.0150760525011049E-2]
["2094-06-01",null,1,1.0150760525011049E-2]
["2094-07-01",null,1,1.0150760525011049E-2]
["2094-08-01",null,1,1.0150760525011049E-2]
["2094-09-01",null,1,1.0150760525011049E-2]
["2094-10-01",null,1,1.0150760525011049E-2]
["2094-11-01",null,1,1.0150760525011049E-2]
["2094-12-01",null,1,1.0150760525011049E-2]
["2095-01-01",null,1,1.0150760525011049E-2]
["2095-02-01",null,1,1.0150760525011049E-2]
["2095-03-01",null,1,1.0150760525011049E-2]
["2095-04-01",null,1,1.0150760525011049E-2]
["2095-05-01",null,1,1.0150760525011049E-2]
["2095-06-01",null,1,1.0150760525011049E-2]
["2095-07-01",null,1,1.0150760525011049E-2]
["2095-08-01",null,1,1.0150760525011049E-2]
["2095-09-01",null,1,1.0150760525011049E-2]
["2095-10-01",null,1,1.0150760525011049E-2]
["2095-11-01",null,1,1.0150760525011049E-2]
["2095-12-01",null,1,1.0150760525011049E-2]
["2096-01-01",null,1,1.0150760525011049E-2]
["2096-02-01",null,1,1.0150760525011049E-2]
["2096-03-01",null,1,1.0150760525011049E-2]
["2096-04-01",null,1,1.0150760525011049E-2]
["2096-05-01",null,1,1.0150760525011049E-2]
["2096-06-01",null,1,1.0150760525011049E-2]
["2096-07-01",null,1,1.0150760525011049E-2]
["2096-08-01",null,1,1.0150760525011049E-2]
["2096-09-01",null,1,1.0150760525011049E-2]
["2096-10-01",null,1,1.0150760525011049E-2]
["2096-11-01",null,1,1.0150760525011049E-2]
["2096-12-01",null,1,1.0150760525011049E-2]
["2097-01-01",null,1,1.0150760525011049E-2]
["2097-02-01",null,1,1.0150760525011049E-2]
["2097-03-01",null,1,1.0150760525011049E-2]
["2097-04-01",null,1,1.0150760525011049E-2]
["2097-05-01",null,1,1.0150760525011049E-2]
["2097-06-01",null,1,1.0150760525011049E-2]
["2097-07-01",null,1,1.0150760525011049E-2]
["2097-08-01",null,1,1.0150760525011049E-2]
["2097-09-01",null,1,1.0150760525011049E-2]
["2097-10-01",null,1,1.0150760525011049E-2]
["2097-11-01",null,1,1.0150760525011049E-2]
["2097-12-01",null,1,{"$f":"D1609*C1610","v":1.0150760525011049E-2}]
["2098-01-01",null,1,1.0150760525011049E-2]
["2098-02-01",null,1,1.0150760525011049E-2]
["2098-03-01",null,1,1.0150760525011049E-2]
["2098-04-01",null,1,1.0150760525011049E-2]
["2098-05-01",null,{"$f":"B1615+1","v":1},1.0150760525011049E-2]
["2098-06-01",null,1,1.0150760525011049E-2]
["2098-07-01",null,1,1.0150760525011049E-2]
["2098-08-01",null,1,1.0150760525011049E-2]
["2098-09-01",null,1,1.0150760525011049E-2]
["2098-10-01",null,1,1.0150760525011049E-2]
["2098-11-01",null,1,1.0150760525011049E-2]
["2098-12-01",null,1,1.0150760525011049E-2]
["2099-01-01",null,1,1.0150760525011049E-2]
["2099-02-01",null,1,1.0150760525011049E-2]
["2099-03-01",null,1,1.0150760525011049E-2]
["2099-04-01",null,1,1.0150760525011049E-2]
["2099-05-01",null,1,1.0150760525011049E-2]
["2099-06-01",null,1,1.0150760525011049E-2]
["2099-07-01",null,1,1.0150760525011049E-2]
["2099-08-01",null,1,1.0150760525011049E-2]
["2099-09-01",null,1,1.0150760525011049E-2]
["2099-10-01",null,1,1.0150760525011049E-2]
["2099-11-01",null,1,1.0150760525011049E-2]
["2099-12-01",null,1,1.0150760525011049E-2]